{"text_format":"1","workbook":"xlsx","n_sheets":3,"sheets":["Calendar","Weeks Calendar","Copy"],"not_rendered":{"charts":0,"images":4,"macros":1,"external_links":0,"defined_names":44,"comments":0,"pivot_tables":0},"unopened":[],"bounds":{"document_bytes":16777216,"sheet_cells":100000,"rows_first":2000,"rows_last":500,"rows_between":2000,"halvings":0,"cell_chars":16384,"cell_head_chars":4096},"cells_cut":0,"cells_raw":0,"read":"whole","date_system":"1900"}

{"sheet":"Calendar","index":0,"n_rows":42,"n_cols":11,"rows_kept":42,"cut":false,"hidden":false,"merged":[[1,3,1,6],[1,7,3,7],[41,0,42,0],[2,6,3,6],[2,3,3,5],[41,1,42,2],[41,6,42,7],[41,3,42,5],[2,1,3,2],[1,1,1,2]]}
[null,null,null,"Age Group:"]
[null,"School Name",null,null,null,null,null,{"$f":"IF(ISBLANK($E$1),\"\",$E$1)","v":""}]
[null,"District Number",null,"August",null,null,2021,null,null,{"$f":"DATE($G$3,MONTH(DATEVALUE(D3&\" 1\")),1)","v":"2021-08-01"},{"$f":"TEXT((DATE($G$3,MONTH(DATEVALUE(D3&\" 1\")),1)),\"DDD\")","v":"Sun"}]
[null,null,null,null,null,null,null,null,null,{"$f":"VALUE(TEXT(EOMONTH(J3,0),\"DD\"))","v":31},{"$f":"MONTH(DATEVALUE(D3&\" 1\"))","v":8}]
[null,"Sun","Mon","Tue","Wed","Thu","Fri","Sat"]
[null,{"$f":"IFERROR(IF($K$3=B5,1,\"\"),\"\")","v":"1900-01-01"},{"$f":"IFERROR(IF($K$3=C5,1,IF(B6=\"\",\"\",B6+1)),\"\")","v":"1900-01-02"},"1900-01-03","1900-01-04","1900-01-05","1900-01-06","1900-01-07"]
["----->"]
["Use This Cell",{"$f":"IFERROR(INDEX('Weeks Calendar'!$C$6:$I$10,2,MATCH(B7,'Weeks Calendar'!$C$6:$I$6,0)),\"\")&\nIFERROR(INDEX('Weeks Calendar'!$C$12:$I$16,2,MATCH(B7,'Weeks Calendar'!$C$12:$I$12,0)),\"\")&\nIFERROR(INDEX('Weeks Calendar'!$C$18:$I$22,2,MATCH(B7,'Weeks Calendar'!$C$18:$I$18,0)),\"\")&\nIFERROR(INDEX('Weeks Calendar'!$C$24:$I$28,2,MATCH(B7,'Weeks Calendar'!$C$24:$I$24,0)),\"\")&\nIFERROR(INDEX('Weeks Calendar'!$C$24:$I$28,2,MATCH(B7,'Weeks Calendar'!$C$30:$I$30,0)),\"\")","v":""},{"$f":"IFERROR(INDEX('Weeks Calendar'!$C$6:$I$10,2,MATCH(C7,'Weeks Calendar'!$C$6:$I$6,0)),\"\")&\nIFERROR(INDEX('Weeks Calendar'!$C$12:$I$16,2,MATCH(C7,'Weeks Calendar'!$C$12:$I$12,0)),\"\")&\nIFERROR(INDEX('Weeks Calendar'!$C$18:$I$22,2,MATCH(C7,'Weeks Calendar'!$C$18:$I$18,0)),\"\")&\nIFERROR(INDEX('Weeks Calendar'!$C$24:$I$28,2,MATCH(C7,'Weeks Calendar'!$C$24:$I$24,0)),\"\")&\nIFERROR(INDEX('Weeks Calendar'!$C$24:$I$28,2,MATCH(C7,'Weeks Calendar'!$C$30:$I$30,0)),\"\")","v":""},{"$f":"IFERROR(INDEX('Weeks Calendar'!$C$6:$I$10,2,MATCH(D7,'Weeks Calendar'!$C$6:$I$6,0)),\"\")&\nIFERROR(INDEX('Weeks Calendar'!$C$12:$I$16,2,MATCH(D7,'Weeks Calendar'!$C$12:$I$12,0)),\"\")&\nIFERROR(INDEX('Weeks Calendar'!$C$18:$I$22,2,MATCH(D7,'Weeks Calendar'!$C$18:$I$18,0)),\"\")&\nIFERROR(INDEX('Weeks Calendar'!$C$24:$I$28,2,MATCH(D7,'Weeks Calendar'!$C$24:$I$24,0)),\"\")&\nIFERROR(INDEX('Weeks Calendar'!$C$24:$I$28,2,MATCH(D7,'Weeks Calendar'!$C$30:$I$30,0)),\"\")","v":""},{"$f":"IFERROR(INDEX('Weeks Calendar'!$C$6:$I$10,2,MATCH(E7,'Weeks Calendar'!$C$6:$I$6,0)),\"\")&\nIFERROR(INDEX('Weeks Calendar'!$C$12:$I$16,2,MATCH(E7,'Weeks Calendar'!$C$12:$I$12,0)),\"\")&\nIFERROR(INDEX('Weeks Calendar'!$C$18:$I$22,2,MATCH(E7,'Weeks Calendar'!$C$18:$I$18,0)),\"\")&\nIFERROR(INDEX('Weeks Calendar'!$C$24:$I$28,2,MATCH(E7,'Weeks Calendar'!$C$24:$I$24,0)),\"\")&\nIFERROR(INDEX('Weeks Calendar'!$C$24:$I$28,2,MATCH(E7,'Weeks Calendar'!$C$30:$I$30,0)),\"\")","v":""},{"$f":"IFERROR(INDEX('Weeks Calendar'!$C$6:$I$10,2,MATCH(F7,'Weeks Calendar'!$C$6:$I$6,0)),\"\")&\nIFERROR(INDEX('Weeks Calendar'!$C$12:$I$16,2,MATCH(F7,'Weeks Calendar'!$C$12:$I$12,0)),\"\")&\nIFERROR(INDEX('Weeks Calendar'!$C$18:$I$22,2,MATCH(F7,'Weeks Calendar'!$C$18:$I$18,0)),\"\")&\nIFERROR(INDEX('Weeks Calendar'!$C$24:$I$28,2,MATCH(F7,'Weeks Calendar'!$C$24:$I$24,0)),\"\")&\nIFERROR(INDEX('Weeks Calendar'!$C$24:$I$28,2,MATCH(F7,'Weeks Calendar'!$C$30:$I$30,0)),\"\")","v":""},{"$f":"IFERROR(INDEX('Weeks Calendar'!$C$6:$I$10,2,MATCH(G7,'Weeks Calendar'!$C$6:$I$6,0)),\"\")&\nIFERROR(INDEX('Weeks Calendar'!$C$12:$I$16,2,MATCH(G7,'Weeks Calendar'!$C$12:$I$12,0)),\"\")&\nIFERROR(INDEX('Weeks Calendar'!$C$18:$I$22,2,MATCH(G7,'Weeks Calendar'!$C$18:$I$18,0)),\"\")&\nIFERROR(INDEX('Weeks Calendar'!$C$24:$I$28,2,MATCH(G7,'Weeks Calendar'!$C$24:$I$24,0)),\"\")&\nIFERROR(INDEX('Weeks Calendar'!$C$24:$I$28,2,MATCH(G7,'Weeks Calendar'!$C$30:$I$30,0)),\"\")","v":""},{"$f":"IFERROR(INDEX('Weeks Calendar'!$C$6:$I$10,2,MATCH(H7,'Weeks Calendar'!$C$6:$I$6,0)),\"\")&\nIFERROR(INDEX('Weeks Calendar'!$C$12:$I$16,2,MATCH(H7,'Weeks Calendar'!$C$12:$I$12,0)),\"\")&\nIFERROR(INDEX('Weeks Calendar'!$C$18:$I$22,2,MATCH(H7,'Weeks Calendar'!$C$18:$I$18,0)),\"\")&\nIFERROR(INDEX('Weeks Calendar'!$C$24:$I$28,2,MATCH(H7,'Weeks Calendar'!$C$24:$I$24,0)),\"\")&\nIFERROR(INDEX('Weeks Calendar'!$C$24:$I$28,2,MATCH(H7,'Weeks Calendar'!$C$30:$I$30,0)),\"\")","v":""}]
["to Select",{"$f":"IFERROR(INDEX('Weeks Calendar'!$C$6:$I$10,3,MATCH(B7,'Weeks Calendar'!$C$6:$I$6,0)),\"\")&\nIFERROR(INDEX('Weeks Calendar'!$C$12:$I$16,3,MATCH(B7,'Weeks Calendar'!$C$12:$I$12,0)),\"\")&\nIFERROR(INDEX('Weeks Calendar'!$C$18:$I$22,3,MATCH(B7,'Weeks Calendar'!$C$18:$I$18,0)),\"\")&\nIFERROR(INDEX('Weeks Calendar'!$C$24:$I$28,3,MATCH(B7,'Weeks Calendar'!$C$24:$I$24,0)),\"\")&\nIFERROR(INDEX('Weeks Calendar'!$C$24:$I$28,3,MATCH(B7,'Weeks Calendar'!$C$30:$I$30,0)),\"\")","v":""},{"$f":"IFERROR(INDEX('Weeks Calendar'!$C$6:$I$10,3,MATCH(C7,'Weeks Calendar'!$C$6:$I$6,0)),\"\")&\nIFERROR(INDEX('Weeks Calendar'!$C$12:$I$16,3,MATCH(C7,'Weeks Calendar'!$C$12:$I$12,0)),\"\")&\nIFERROR(INDEX('Weeks Calendar'!$C$18:$I$22,3,MATCH(C7,'Weeks Calendar'!$C$18:$I$18,0)),\"\")&\nIFERROR(INDEX('Weeks Calendar'!$C$24:$I$28,3,MATCH(C7,'Weeks Calendar'!$C$24:$I$24,0)),\"\")&\nIFERROR(INDEX('Weeks Calendar'!$C$24:$I$28,3,MATCH(C7,'Weeks Calendar'!$C$30:$I$30,0)),\"\")","v":""},{"$f":"IFERROR(INDEX('Weeks Calendar'!$C$6:$I$10,3,MATCH(D7,'Weeks Calendar'!$C$6:$I$6,0)),\"\")&\nIFERROR(INDEX('Weeks Calendar'!$C$12:$I$16,3,MATCH(D7,'Weeks Calendar'!$C$12:$I$12,0)),\"\")&\nIFERROR(INDEX('Weeks Calendar'!$C$18:$I$22,3,MATCH(D7,'Weeks Calendar'!$C$18:$I$18,0)),\"\")&\nIFERROR(INDEX('Weeks Calendar'!$C$24:$I$28,3,MATCH(D7,'Weeks Calendar'!$C$24:$I$24,0)),\"\")&\nIFERROR(INDEX('Weeks Calendar'!$C$24:$I$28,3,MATCH(D7,'Weeks Calendar'!$C$30:$I$30,0)),\"\")","v":""},{"$f":"IFERROR(INDEX('Weeks Calendar'!$C$6:$I$10,3,MATCH(E7,'Weeks Calendar'!$C$6:$I$6,0)),\"\")&\nIFERROR(INDEX('Weeks Calendar'!$C$12:$I$16,3,MATCH(E7,'Weeks Calendar'!$C$12:$I$12,0)),\"\")&\nIFERROR(INDEX('Weeks Calendar'!$C$18:$I$22,3,MATCH(E7,'Weeks Calendar'!$C$18:$I$18,0)),\"\")&\nIFERROR(INDEX('Weeks Calendar'!$C$24:$I$28,3,MATCH(E7,'Weeks Calendar'!$C$24:$I$24,0)),\"\")&\nIFERROR(INDEX('Weeks Calendar'!$C$24:$I$28,3,MATCH(E7,'Weeks Calendar'!$C$30:$I$30,0)),\"\")","v":""},{"$f":"IFERROR(INDEX('Weeks Calendar'!$C$6:$I$10,3,MATCH(F7,'Weeks Calendar'!$C$6:$I$6,0)),\"\")&\nIFERROR(INDEX('Weeks Calendar'!$C$12:$I$16,3,MATCH(F7,'Weeks Calendar'!$C$12:$I$12,0)),\"\")&\nIFERROR(INDEX('Weeks Calendar'!$C$18:$I$22,3,MATCH(F7,'Weeks Calendar'!$C$18:$I$18,0)),\"\")&\nIFERROR(INDEX('Weeks Calendar'!$C$24:$I$28,3,MATCH(F7,'Weeks Calendar'!$C$24:$I$24,0)),\"\")&\nIFERROR(INDEX('Weeks Calendar'!$C$24:$I$28,3,MATCH(F7,'Weeks Calendar'!$C$30:$I$30,0)),\"\")","v":""},{"$f":"IFERROR(INDEX('Weeks Calendar'!$C$6:$I$10,3,MATCH(G7,'Weeks Calendar'!$C$6:$I$6,0)),\"\")&\nIFERROR(INDEX('Weeks Calendar'!$C$12:$I$16,3,MATCH(G7,'Weeks Calendar'!$C$12:$I$12,0)),\"\")&\nIFERROR(INDEX('Weeks Calendar'!$C$18:$I$22,3,MATCH(G7,'Weeks Calendar'!$C$18:$I$18,0)),\"\")&\nIFERROR(INDEX('Weeks Calendar'!$C$24:$I$28,3,MATCH(G7,'Weeks Calendar'!$C$24:$I$24,0)),\"\")&\nIFERROR(INDEX('Weeks Calendar'!$C$24:$I$28,3,MATCH(G7,'Weeks Calendar'!$C$30:$I$30,0)),\"\")","v":""},{"$f":"IFERROR(INDEX('Weeks Calendar'!$C$6:$I$10,3,MATCH(H7,'Weeks Calendar'!$C$6:$I$6,0)),\"\")&\nIFERROR(INDEX('Weeks Calendar'!$C$12:$I$16,3,MATCH(H7,'Weeks Calendar'!$C$12:$I$12,0)),\"\")&\nIFERROR(INDEX('Weeks Calendar'!$C$18:$I$22,3,MATCH(H7,'Weeks Calendar'!$C$18:$I$18,0)),\"\")&\nIFERROR(INDEX('Weeks Calendar'!$C$24:$I$28,3,MATCH(H7,'Weeks Calendar'!$C$24:$I$24,0)),\"\")&\nIFERROR(INDEX('Weeks Calendar'!$C$24:$I$28,3,MATCH(H7,'Weeks Calendar'!$C$30:$I$30,0)),\"\")","v":""}]
["Grocery Menus",{"$f":"IFERROR(INDEX('Weeks Calendar'!$C$6:$I$10,4,MATCH(B7,'Weeks Calendar'!$C$6:$I$6,0)),\"\")&\nIFERROR(INDEX('Weeks Calendar'!$C$12:$I$16,4,MATCH(B7,'Weeks Calendar'!$C$12:$I$12,0)),\"\")&\nIFERROR(INDEX('Weeks Calendar'!$C$18:$I$22,4,MATCH(B7,'Weeks Calendar'!$C$18:$I$18,0)),\"\")&\nIFERROR(INDEX('Weeks Calendar'!$C$24:$I$28,4,MATCH(B7,'Weeks Calendar'!$C$24:$I$24,0)),\"\")&\nIFERROR(INDEX('Weeks Calendar'!$C$24:$I$28,4,MATCH(B7,'Weeks Calendar'!$C$30:$I$30,0)),\"\")","v":""},{"$f":"IFERROR(INDEX('Weeks Calendar'!$C$6:$I$10,4,MATCH(C7,'Weeks Calendar'!$C$6:$I$6,0)),\"\")&\nIFERROR(INDEX('Weeks Calendar'!$C$12:$I$16,4,MATCH(C7,'Weeks Calendar'!$C$12:$I$12,0)),\"\")&\nIFERROR(INDEX('Weeks Calendar'!$C$18:$I$22,4,MATCH(C7,'Weeks Calendar'!$C$18:$I$18,0)),\"\")&\nIFERROR(INDEX('Weeks Calendar'!$C$24:$I$28,4,MATCH(C7,'Weeks Calendar'!$C$24:$I$24,0)),\"\")&\nIFERROR(INDEX('Weeks Calendar'!$C$24:$I$28,4,MATCH(C7,'Weeks Calendar'!$C$30:$I$30,0)),\"\")","v":""},{"$f":"IFERROR(INDEX('Weeks Calendar'!$C$6:$I$10,4,MATCH(D7,'Weeks Calendar'!$C$6:$I$6,0)),\"\")&\nIFERROR(INDEX('Weeks Calendar'!$C$12:$I$16,4,MATCH(D7,'Weeks Calendar'!$C$12:$I$12,0)),\"\")&\nIFERROR(INDEX('Weeks Calendar'!$C$18:$I$22,4,MATCH(D7,'Weeks Calendar'!$C$18:$I$18,0)),\"\")&\nIFERROR(INDEX('Weeks Calendar'!$C$24:$I$28,4,MATCH(D7,'Weeks Calendar'!$C$24:$I$24,0)),\"\")&\nIFERROR(INDEX('Weeks Calendar'!$C$24:$I$28,4,MATCH(D7,'Weeks Calendar'!$C$30:$I$30,0)),\"\")","v":""},{"$f":"IFERROR(INDEX('Weeks Calendar'!$C$6:$I$10,4,MATCH(E7,'Weeks Calendar'!$C$6:$I$6,0)),\"\")&\nIFERROR(INDEX('Weeks Calendar'!$C$12:$I$16,4,MATCH(E7,'Weeks Calendar'!$C$12:$I$12,0)),\"\")&\nIFERROR(INDEX('Weeks Calendar'!$C$18:$I$22,4,MATCH(E7,'Weeks Calendar'!$C$18:$I$18,0)),\"\")&\nIFERROR(INDEX('Weeks Calendar'!$C$24:$I$28,4,MATCH(E7,'Weeks Calendar'!$C$24:$I$24,0)),\"\")&\nIFERROR(INDEX('Weeks Calendar'!$C$24:$I$28,4,MATCH(E7,'Weeks Calendar'!$C$30:$I$30,0)),\"\")","v":""},{"$f":"IFERROR(INDEX('Weeks Calendar'!$C$6:$I$10,4,MATCH(F7,'Weeks Calendar'!$C$6:$I$6,0)),\"\")&\nIFERROR(INDEX('Weeks Calendar'!$C$12:$I$16,4,MATCH(F7,'Weeks Calendar'!$C$12:$I$12,0)),\"\")&\nIFERROR(INDEX('Weeks Calendar'!$C$18:$I$22,4,MATCH(F7,'Weeks Calendar'!$C$18:$I$18,0)),\"\")&\nIFERROR(INDEX('Weeks Calendar'!$C$24:$I$28,4,MATCH(F7,'Weeks Calendar'!$C$24:$I$24,0)),\"\")&\nIFERROR(INDEX('Weeks Calendar'!$C$24:$I$28,4,MATCH(F7,'Weeks Calendar'!$C$30:$I$30,0)),\"\")","v":""},{"$f":"IFERROR(INDEX('Weeks Calendar'!$C$6:$I$10,4,MATCH(G7,'Weeks Calendar'!$C$6:$I$6,0)),\"\")&\nIFERROR(INDEX('Weeks Calendar'!$C$12:$I$16,4,MATCH(G7,'Weeks Calendar'!$C$12:$I$12,0)),\"\")&\nIFERROR(INDEX('Weeks Calendar'!$C$18:$I$22,4,MATCH(G7,'Weeks Calendar'!$C$18:$I$18,0)),\"\")&\nIFERROR(INDEX('Weeks Calendar'!$C$24:$I$28,4,MATCH(G7,'Weeks Calendar'!$C$24:$I$24,0)),\"\")&\nIFERROR(INDEX('Weeks Calendar'!$C$24:$I$28,4,MATCH(G7,'Weeks Calendar'!$C$30:$I$30,0)),\"\")","v":""},{"$f":"IFERROR(INDEX('Weeks Calendar'!$C$6:$I$10,4,MATCH(H7,'Weeks Calendar'!$C$6:$I$6,0)),\"\")&\nIFERROR(INDEX('Weeks Calendar'!$C$12:$I$16,4,MATCH(H7,'Weeks Calendar'!$C$12:$I$12,0)),\"\")&\nIFERROR(INDEX('Weeks Calendar'!$C$18:$I$22,4,MATCH(H7,'Weeks Calendar'!$C$18:$I$18,0)),\"\")&\nIFERROR(INDEX('Weeks Calendar'!$C$24:$I$28,4,MATCH(H7,'Weeks Calendar'!$C$24:$I$24,0)),\"\")&\nIFERROR(INDEX('Weeks Calendar'!$C$24:$I$28,4,MATCH(H7,'Weeks Calendar'!$C$30:$I$30,0)),\"\")","v":""}]
[null,{"$f":"IFERROR(INDEX('Weeks Calendar'!$C$6:$I$10,5,MATCH(B7,'Weeks Calendar'!$C$6:$I$6,0)),\"\")&\nIFERROR(INDEX('Weeks Calendar'!$C$12:$I$16,5,MATCH(B7,'Weeks Calendar'!$C$12:$I$12,0)),\"\")&\nIFERROR(INDEX('Weeks Calendar'!$C$18:$I$22,5,MATCH(B7,'Weeks Calendar'!$C$18:$I$18,0)),\"\")&\nIFERROR(INDEX('Weeks Calendar'!$C$24:$I$28,5,MATCH(B7,'Weeks Calendar'!$C$24:$I$24,0)),\"\")&\nIFERROR(INDEX('Weeks Calendar'!$C$24:$I$28,5,MATCH(B7,'Weeks Calendar'!$C$30:$I$30,0)),\"\")","v":""},{"$f":"IFERROR(INDEX('Weeks Calendar'!$C$6:$I$10,5,MATCH(C7,'Weeks Calendar'!$C$6:$I$6,0)),\"\")&\nIFERROR(INDEX('Weeks Calendar'!$C$12:$I$16,5,MATCH(C7,'Weeks Calendar'!$C$12:$I$12,0)),\"\")&\nIFERROR(INDEX('Weeks Calendar'!$C$18:$I$22,5,MATCH(C7,'Weeks Calendar'!$C$18:$I$18,0)),\"\")&\nIFERROR(INDEX('Weeks Calendar'!$C$24:$I$28,5,MATCH(C7,'Weeks Calendar'!$C$24:$I$24,0)),\"\")&\nIFERROR(INDEX('Weeks Calendar'!$C$24:$I$28,5,MATCH(C7,'Weeks Calendar'!$C$30:$I$30,0)),\"\")","v":""},{"$f":"IFERROR(INDEX('Weeks Calendar'!$C$6:$I$10,5,MATCH(D7,'Weeks Calendar'!$C$6:$I$6,0)),\"\")&\nIFERROR(INDEX('Weeks Calendar'!$C$12:$I$16,5,MATCH(D7,'Weeks Calendar'!$C$12:$I$12,0)),\"\")&\nIFERROR(INDEX('Weeks Calendar'!$C$18:$I$22,5,MATCH(D7,'Weeks Calendar'!$C$18:$I$18,0)),\"\")&\nIFERROR(INDEX('Weeks Calendar'!$C$24:$I$28,5,MATCH(D7,'Weeks Calendar'!$C$24:$I$24,0)),\"\")&\nIFERROR(INDEX('Weeks Calendar'!$C$24:$I$28,5,MATCH(D7,'Weeks Calendar'!$C$30:$I$30,0)),\"\")","v":""},{"$f":"IFERROR(INDEX('Weeks Calendar'!$C$6:$I$10,5,MATCH(E7,'Weeks Calendar'!$C$6:$I$6,0)),\"\")&\nIFERROR(INDEX('Weeks Calendar'!$C$12:$I$16,5,MATCH(E7,'Weeks Calendar'!$C$12:$I$12,0)),\"\")&\nIFERROR(INDEX('Weeks Calendar'!$C$18:$I$22,5,MATCH(E7,'Weeks Calendar'!$C$18:$I$18,0)),\"\")&\nIFERROR(INDEX('Weeks Calendar'!$C$24:$I$28,5,MATCH(E7,'Weeks Calendar'!$C$24:$I$24,0)),\"\")&\nIFERROR(INDEX('Weeks Calendar'!$C$24:$I$28,5,MATCH(E7,'Weeks Calendar'!$C$30:$I$30,0)),\"\")","v":""},{"$f":"IFERROR(INDEX('Weeks Calendar'!$C$6:$I$10,5,MATCH(F7,'Weeks Calendar'!$C$6:$I$6,0)),\"\")&\nIFERROR(INDEX('Weeks Calendar'!$C$12:$I$16,5,MATCH(F7,'Weeks Calendar'!$C$12:$I$12,0)),\"\")&\nIFERROR(INDEX('Weeks Calendar'!$C$18:$I$22,5,MATCH(F7,'Weeks Calendar'!$C$18:$I$18,0)),\"\")&\nIFERROR(INDEX('Weeks Calendar'!$C$24:$I$28,5,MATCH(F7,'Weeks Calendar'!$C$24:$I$24,0)),\"\")&\nIFERROR(INDEX('Weeks Calendar'!$C$24:$I$28,5,MATCH(F7,'Weeks Calendar'!$C$30:$I$30,0)),\"\")","v":""},{"$f":"IFERROR(INDEX('Weeks Calendar'!$C$6:$I$10,5,MATCH(G7,'Weeks Calendar'!$C$6:$I$6,0)),\"\")&\nIFERROR(INDEX('Weeks Calendar'!$C$12:$I$16,5,MATCH(G7,'Weeks Calendar'!$C$12:$I$12,0)),\"\")&\nIFERROR(INDEX('Weeks Calendar'!$C$18:$I$22,5,MATCH(G7,'Weeks Calendar'!$C$18:$I$18,0)),\"\")&\nIFERROR(INDEX('Weeks Calendar'!$C$24:$I$28,5,MATCH(G7,'Weeks Calendar'!$C$24:$I$24,0)),\"\")&\nIFERROR(INDEX('Weeks Calendar'!$C$24:$I$28,5,MATCH(G7,'Weeks Calendar'!$C$30:$I$30,0)),\"\")","v":""},{"$f":"IFERROR(INDEX('Weeks Calendar'!$C$6:$I$10,5,MATCH(H7,'Weeks Calendar'!$C$6:$I$6,0)),\"\")&\nIFERROR(INDEX('Weeks Calendar'!$C$12:$I$16,5,MATCH(H7,'Weeks Calendar'!$C$12:$I$12,0)),\"\")&\nIFERROR(INDEX('Weeks Calendar'!$C$18:$I$22,5,MATCH(H7,'Weeks Calendar'!$C$18:$I$18,0)),\"\")&\nIFERROR(INDEX('Weeks Calendar'!$C$24:$I$28,5,MATCH(H7,'Weeks Calendar'!$C$24:$I$24,0)),\"\")&\nIFERROR(INDEX('Weeks Calendar'!$C$24:$I$28,5,MATCH(H7,'Weeks Calendar'!$C$30:$I$30,0)),\"\")","v":""}]
[null,{"$f":"IFERROR(H6+1,\"\")","v":"1900-01-08"},{"$f":"IFERROR(B12+1,\"\")","v":"1900-01-09"},{"$f":"IFERROR(C12+1,\"\")","v":"1900-01-10"},"1900-01-11","1900-01-12","1900-01-13","1900-01-14",{"$f":"IFERROR(IF(MATCH(B7,ColdMeals,0),TRUE,0),\"\")","v":""}]
["----->"]
["Use This Cell",{"$f":"IFERROR(INDEX('Weeks Calendar'!$C$6:$I$10,2,MATCH(B13,'Weeks Calendar'!$C$6:$I$6,0)),\"\")&\nIFERROR(INDEX('Weeks Calendar'!$C$12:$I$16,2,MATCH(B13,'Weeks Calendar'!$C$12:$I$12,0)),\"\")&\nIFERROR(INDEX('Weeks Calendar'!$C$18:$I$22,2,MATCH(B13,'Weeks Calendar'!$C$18:$I$18,0)),\"\")&\nIFERROR(INDEX('Weeks Calendar'!$C$24:$I$28,2,MATCH(B13,'Weeks Calendar'!$C$24:$I$24,0)),\"\")&\nIFERROR(INDEX('Weeks Calendar'!$C$24:$I$28,2,MATCH(B13,'Weeks Calendar'!$C$30:$I$30,0)),\"\")","v":""},{"$f":"IFERROR(INDEX('Weeks Calendar'!$C$6:$I$10,2,MATCH(C13,'Weeks Calendar'!$C$6:$I$6,0)),\"\")&\nIFERROR(INDEX('Weeks Calendar'!$C$12:$I$16,2,MATCH(C13,'Weeks Calendar'!$C$12:$I$12,0)),\"\")&\nIFERROR(INDEX('Weeks Calendar'!$C$18:$I$22,2,MATCH(C13,'Weeks Calendar'!$C$18:$I$18,0)),\"\")&\nIFERROR(INDEX('Weeks Calendar'!$C$24:$I$28,2,MATCH(C13,'Weeks Calendar'!$C$24:$I$24,0)),\"\")&\nIFERROR(INDEX('Weeks Calendar'!$C$24:$I$28,2,MATCH(C13,'Weeks Calendar'!$C$30:$I$30,0)),\"\")","v":""},{"$f":"IFERROR(INDEX('Weeks Calendar'!$C$6:$I$10,2,MATCH(D13,'Weeks Calendar'!$C$6:$I$6,0)),\"\")&\nIFERROR(INDEX('Weeks Calendar'!$C$12:$I$16,2,MATCH(D13,'Weeks Calendar'!$C$12:$I$12,0)),\"\")&\nIFERROR(INDEX('Weeks Calendar'!$C$18:$I$22,2,MATCH(D13,'Weeks Calendar'!$C$18:$I$18,0)),\"\")&\nIFERROR(INDEX('Weeks Calendar'!$C$24:$I$28,2,MATCH(D13,'Weeks Calendar'!$C$24:$I$24,0)),\"\")&\nIFERROR(INDEX('Weeks Calendar'!$C$24:$I$28,2,MATCH(D13,'Weeks Calendar'!$C$30:$I$30,0)),\"\")","v":""},{"$f":"IFERROR(INDEX('Weeks Calendar'!$C$6:$I$10,2,MATCH(E13,'Weeks Calendar'!$C$6:$I$6,0)),\"\")&\nIFERROR(INDEX('Weeks Calendar'!$C$12:$I$16,2,MATCH(E13,'Weeks Calendar'!$C$12:$I$12,0)),\"\")&\nIFERROR(INDEX('Weeks Calendar'!$C$18:$I$22,2,MATCH(E13,'Weeks Calendar'!$C$18:$I$18,0)),\"\")&\nIFERROR(INDEX('Weeks Calendar'!$C$24:$I$28,2,MATCH(E13,'Weeks Calendar'!$C$24:$I$24,0)),\"\")&\nIFERROR(INDEX('Weeks Calendar'!$C$24:$I$28,2,MATCH(E13,'Weeks Calendar'!$C$30:$I$30,0)),\"\")","v":""},{"$f":"IFERROR(INDEX('Weeks Calendar'!$C$6:$I$10,2,MATCH(F13,'Weeks Calendar'!$C$6:$I$6,0)),\"\")&\nIFERROR(INDEX('Weeks Calendar'!$C$12:$I$16,2,MATCH(F13,'Weeks Calendar'!$C$12:$I$12,0)),\"\")&\nIFERROR(INDEX('Weeks Calendar'!$C$18:$I$22,2,MATCH(F13,'Weeks Calendar'!$C$18:$I$18,0)),\"\")&\nIFERROR(INDEX('Weeks Calendar'!$C$24:$I$28,2,MATCH(F13,'Weeks Calendar'!$C$24:$I$24,0)),\"\")&\nIFERROR(INDEX('Weeks Calendar'!$C$24:$I$28,2,MATCH(F13,'Weeks Calendar'!$C$30:$I$30,0)),\"\")","v":""},{"$f":"IFERROR(INDEX('Weeks Calendar'!$C$6:$I$10,2,MATCH(G13,'Weeks Calendar'!$C$6:$I$6,0)),\"\")&\nIFERROR(INDEX('Weeks Calendar'!$C$12:$I$16,2,MATCH(G13,'Weeks Calendar'!$C$12:$I$12,0)),\"\")&\nIFERROR(INDEX('Weeks Calendar'!$C$18:$I$22,2,MATCH(G13,'Weeks Calendar'!$C$18:$I$18,0)),\"\")&\nIFERROR(INDEX('Weeks Calendar'!$C$24:$I$28,2,MATCH(G13,'Weeks Calendar'!$C$24:$I$24,0)),\"\")&\nIFERROR(INDEX('Weeks Calendar'!$C$24:$I$28,2,MATCH(G13,'Weeks Calendar'!$C$30:$I$30,0)),\"\")","v":""},{"$f":"IFERROR(INDEX('Weeks Calendar'!$C$6:$I$10,2,MATCH(H13,'Weeks Calendar'!$C$6:$I$6,0)),\"\")&\nIFERROR(INDEX('Weeks Calendar'!$C$12:$I$16,2,MATCH(H13,'Weeks Calendar'!$C$12:$I$12,0)),\"\")&\nIFERROR(INDEX('Weeks Calendar'!$C$18:$I$22,2,MATCH(H13,'Weeks Calendar'!$C$18:$I$18,0)),\"\")&\nIFERROR(INDEX('Weeks Calendar'!$C$24:$I$28,2,MATCH(H13,'Weeks Calendar'!$C$24:$I$24,0)),\"\")&\nIFERROR(INDEX('Weeks Calendar'!$C$24:$I$28,2,MATCH(H13,'Weeks Calendar'!$C$30:$I$30,0)),\"\")","v":""}]
["to Select",{"$f":"IFERROR(INDEX('Weeks Calendar'!$C$6:$I$10,3,MATCH(B13,'Weeks Calendar'!$C$6:$I$6,0)),\"\")&\nIFERROR(INDEX('Weeks Calendar'!$C$12:$I$16,3,MATCH(B13,'Weeks Calendar'!$C$12:$I$12,0)),\"\")&\nIFERROR(INDEX('Weeks Calendar'!$C$18:$I$22,3,MATCH(B13,'Weeks Calendar'!$C$18:$I$18,0)),\"\")&\nIFERROR(INDEX('Weeks Calendar'!$C$24:$I$28,3,MATCH(B13,'Weeks Calendar'!$C$24:$I$24,0)),\"\")&\nIFERROR(INDEX('Weeks Calendar'!$C$24:$I$28,3,MATCH(B13,'Weeks Calendar'!$C$30:$I$30,0)),\"\")","v":""},{"$f":"IFERROR(INDEX('Weeks Calendar'!$C$6:$I$10,3,MATCH(C13,'Weeks Calendar'!$C$6:$I$6,0)),\"\")&\nIFERROR(INDEX('Weeks Calendar'!$C$12:$I$16,3,MATCH(C13,'Weeks Calendar'!$C$12:$I$12,0)),\"\")&\nIFERROR(INDEX('Weeks Calendar'!$C$18:$I$22,3,MATCH(C13,'Weeks Calendar'!$C$18:$I$18,0)),\"\")&\nIFERROR(INDEX('Weeks Calendar'!$C$24:$I$28,3,MATCH(C13,'Weeks Calendar'!$C$24:$I$24,0)),\"\")&\nIFERROR(INDEX('Weeks Calendar'!$C$24:$I$28,3,MATCH(C13,'Weeks Calendar'!$C$30:$I$30,0)),\"\")","v":""},{"$f":"IFERROR(INDEX('Weeks Calendar'!$C$6:$I$10,3,MATCH(D13,'Weeks Calendar'!$C$6:$I$6,0)),\"\")&\nIFERROR(INDEX('Weeks Calendar'!$C$12:$I$16,3,MATCH(D13,'Weeks Calendar'!$C$12:$I$12,0)),\"\")&\nIFERROR(INDEX('Weeks Calendar'!$C$18:$I$22,3,MATCH(D13,'Weeks Calendar'!$C$18:$I$18,0)),\"\")&\nIFERROR(INDEX('Weeks Calendar'!$C$24:$I$28,3,MATCH(D13,'Weeks Calendar'!$C$24:$I$24,0)),\"\")&\nIFERROR(INDEX('Weeks Calendar'!$C$24:$I$28,3,MATCH(D13,'Weeks Calendar'!$C$30:$I$30,0)),\"\")","v":""},{"$f":"IFERROR(INDEX('Weeks Calendar'!$C$6:$I$10,3,MATCH(E13,'Weeks Calendar'!$C$6:$I$6,0)),\"\")&\nIFERROR(INDEX('Weeks Calendar'!$C$12:$I$16,3,MATCH(E13,'Weeks Calendar'!$C$12:$I$12,0)),\"\")&\nIFERROR(INDEX('Weeks Calendar'!$C$18:$I$22,3,MATCH(E13,'Weeks Calendar'!$C$18:$I$18,0)),\"\")&\nIFERROR(INDEX('Weeks Calendar'!$C$24:$I$28,3,MATCH(E13,'Weeks Calendar'!$C$24:$I$24,0)),\"\")&\nIFERROR(INDEX('Weeks Calendar'!$C$24:$I$28,3,MATCH(E13,'Weeks Calendar'!$C$30:$I$30,0)),\"\")","v":""},{"$f":"IFERROR(INDEX('Weeks Calendar'!$C$6:$I$10,3,MATCH(F13,'Weeks Calendar'!$C$6:$I$6,0)),\"\")&\nIFERROR(INDEX('Weeks Calendar'!$C$12:$I$16,3,MATCH(F13,'Weeks Calendar'!$C$12:$I$12,0)),\"\")&\nIFERROR(INDEX('Weeks Calendar'!$C$18:$I$22,3,MATCH(F13,'Weeks Calendar'!$C$18:$I$18,0)),\"\")&\nIFERROR(INDEX('Weeks Calendar'!$C$24:$I$28,3,MATCH(F13,'Weeks Calendar'!$C$24:$I$24,0)),\"\")&\nIFERROR(INDEX('Weeks Calendar'!$C$24:$I$28,3,MATCH(F13,'Weeks Calendar'!$C$30:$I$30,0)),\"\")","v":""},{"$f":"IFERROR(INDEX('Weeks Calendar'!$C$6:$I$10,3,MATCH(G13,'Weeks Calendar'!$C$6:$I$6,0)),\"\")&\nIFERROR(INDEX('Weeks Calendar'!$C$12:$I$16,3,MATCH(G13,'Weeks Calendar'!$C$12:$I$12,0)),\"\")&\nIFERROR(INDEX('Weeks Calendar'!$C$18:$I$22,3,MATCH(G13,'Weeks Calendar'!$C$18:$I$18,0)),\"\")&\nIFERROR(INDEX('Weeks Calendar'!$C$24:$I$28,3,MATCH(G13,'Weeks Calendar'!$C$24:$I$24,0)),\"\")&\nIFERROR(INDEX('Weeks Calendar'!$C$24:$I$28,3,MATCH(G13,'Weeks Calendar'!$C$30:$I$30,0)),\"\")","v":""},{"$f":"IFERROR(INDEX('Weeks Calendar'!$C$6:$I$10,3,MATCH(H13,'Weeks Calendar'!$C$6:$I$6,0)),\"\")&\nIFERROR(INDEX('Weeks Calendar'!$C$12:$I$16,3,MATCH(H13,'Weeks Calendar'!$C$12:$I$12,0)),\"\")&\nIFERROR(INDEX('Weeks Calendar'!$C$18:$I$22,3,MATCH(H13,'Weeks Calendar'!$C$18:$I$18,0)),\"\")&\nIFERROR(INDEX('Weeks Calendar'!$C$24:$I$28,3,MATCH(H13,'Weeks Calendar'!$C$24:$I$24,0)),\"\")&\nIFERROR(INDEX('Weeks Calendar'!$C$24:$I$28,3,MATCH(H13,'Weeks Calendar'!$C$30:$I$30,0)),\"\")","v":""}]
["Grocery Menus",{"$f":"IFERROR(INDEX('Weeks Calendar'!$C$6:$I$10,4,MATCH(B13,'Weeks Calendar'!$C$6:$I$6,0)),\"\")&\nIFERROR(INDEX('Weeks Calendar'!$C$12:$I$16,4,MATCH(B13,'Weeks Calendar'!$C$12:$I$12,0)),\"\")&\nIFERROR(INDEX('Weeks Calendar'!$C$18:$I$22,4,MATCH(B13,'Weeks Calendar'!$C$18:$I$18,0)),\"\")&\nIFERROR(INDEX('Weeks Calendar'!$C$24:$I$28,4,MATCH(B13,'Weeks Calendar'!$C$24:$I$24,0)),\"\")&\nIFERROR(INDEX('Weeks Calendar'!$C$24:$I$28,4,MATCH(B13,'Weeks Calendar'!$C$30:$I$30,0)),\"\")","v":""},{"$f":"IFERROR(INDEX('Weeks Calendar'!$C$6:$I$10,4,MATCH(C13,'Weeks Calendar'!$C$6:$I$6,0)),\"\")&\nIFERROR(INDEX('Weeks Calendar'!$C$12:$I$16,4,MATCH(C13,'Weeks Calendar'!$C$12:$I$12,0)),\"\")&\nIFERROR(INDEX('Weeks Calendar'!$C$18:$I$22,4,MATCH(C13,'Weeks Calendar'!$C$18:$I$18,0)),\"\")&\nIFERROR(INDEX('Weeks Calendar'!$C$24:$I$28,4,MATCH(C13,'Weeks Calendar'!$C$24:$I$24,0)),\"\")&\nIFERROR(INDEX('Weeks Calendar'!$C$24:$I$28,4,MATCH(C13,'Weeks Calendar'!$C$30:$I$30,0)),\"\")","v":""},{"$f":"IFERROR(INDEX('Weeks Calendar'!$C$6:$I$10,4,MATCH(D13,'Weeks Calendar'!$C$6:$I$6,0)),\"\")&\nIFERROR(INDEX('Weeks Calendar'!$C$12:$I$16,4,MATCH(D13,'Weeks Calendar'!$C$12:$I$12,0)),\"\")&\nIFERROR(INDEX('Weeks Calendar'!$C$18:$I$22,4,MATCH(D13,'Weeks Calendar'!$C$18:$I$18,0)),\"\")&\nIFERROR(INDEX('Weeks Calendar'!$C$24:$I$28,4,MATCH(D13,'Weeks Calendar'!$C$24:$I$24,0)),\"\")&\nIFERROR(INDEX('Weeks Calendar'!$C$24:$I$28,4,MATCH(D13,'Weeks Calendar'!$C$30:$I$30,0)),\"\")","v":""},{"$f":"IFERROR(INDEX('Weeks Calendar'!$C$6:$I$10,4,MATCH(E13,'Weeks Calendar'!$C$6:$I$6,0)),\"\")&\nIFERROR(INDEX('Weeks Calendar'!$C$12:$I$16,4,MATCH(E13,'Weeks Calendar'!$C$12:$I$12,0)),\"\")&\nIFERROR(INDEX('Weeks Calendar'!$C$18:$I$22,4,MATCH(E13,'Weeks Calendar'!$C$18:$I$18,0)),\"\")&\nIFERROR(INDEX('Weeks Calendar'!$C$24:$I$28,4,MATCH(E13,'Weeks Calendar'!$C$24:$I$24,0)),\"\")&\nIFERROR(INDEX('Weeks Calendar'!$C$24:$I$28,4,MATCH(E13,'Weeks Calendar'!$C$30:$I$30,0)),\"\")","v":""},{"$f":"IFERROR(INDEX('Weeks Calendar'!$C$6:$I$10,4,MATCH(F13,'Weeks Calendar'!$C$6:$I$6,0)),\"\")&\nIFERROR(INDEX('Weeks Calendar'!$C$12:$I$16,4,MATCH(F13,'Weeks Calendar'!$C$12:$I$12,0)),\"\")&\nIFERROR(INDEX('Weeks Calendar'!$C$18:$I$22,4,MATCH(F13,'Weeks Calendar'!$C$18:$I$18,0)),\"\")&\nIFERROR(INDEX('Weeks Calendar'!$C$24:$I$28,4,MATCH(F13,'Weeks Calendar'!$C$24:$I$24,0)),\"\")&\nIFERROR(INDEX('Weeks Calendar'!$C$24:$I$28,4,MATCH(F13,'Weeks Calendar'!$C$30:$I$30,0)),\"\")","v":""},{"$f":"IFERROR(INDEX('Weeks Calendar'!$C$6:$I$10,4,MATCH(G13,'Weeks Calendar'!$C$6:$I$6,0)),\"\")&\nIFERROR(INDEX('Weeks Calendar'!$C$12:$I$16,4,MATCH(G13,'Weeks Calendar'!$C$12:$I$12,0)),\"\")&\nIFERROR(INDEX('Weeks Calendar'!$C$18:$I$22,4,MATCH(G13,'Weeks Calendar'!$C$18:$I$18,0)),\"\")&\nIFERROR(INDEX('Weeks Calendar'!$C$24:$I$28,4,MATCH(G13,'Weeks Calendar'!$C$24:$I$24,0)),\"\")&\nIFERROR(INDEX('Weeks Calendar'!$C$24:$I$28,4,MATCH(G13,'Weeks Calendar'!$C$30:$I$30,0)),\"\")","v":""},{"$f":"IFERROR(INDEX('Weeks Calendar'!$C$6:$I$10,4,MATCH(H13,'Weeks Calendar'!$C$6:$I$6,0)),\"\")&\nIFERROR(INDEX('Weeks Calendar'!$C$12:$I$16,4,MATCH(H13,'Weeks Calendar'!$C$12:$I$12,0)),\"\")&\nIFERROR(INDEX('Weeks Calendar'!$C$18:$I$22,4,MATCH(H13,'Weeks Calendar'!$C$18:$I$18,0)),\"\")&\nIFERROR(INDEX('Weeks Calendar'!$C$24:$I$28,4,MATCH(H13,'Weeks Calendar'!$C$24:$I$24,0)),\"\")&\nIFERROR(INDEX('Weeks Calendar'!$C$24:$I$28,4,MATCH(H13,'Weeks Calendar'!$C$30:$I$30,0)),\"\")","v":""}]
[null,{"$f":"IFERROR(INDEX('Weeks Calendar'!$C$6:$I$10,5,MATCH(B13,'Weeks Calendar'!$C$6:$I$6,0)),\"\")&\nIFERROR(INDEX('Weeks Calendar'!$C$12:$I$16,5,MATCH(B13,'Weeks Calendar'!$C$12:$I$12,0)),\"\")&\nIFERROR(INDEX('Weeks Calendar'!$C$18:$I$22,5,MATCH(B13,'Weeks Calendar'!$C$18:$I$18,0)),\"\")&\nIFERROR(INDEX('Weeks Calendar'!$C$24:$I$28,5,MATCH(B13,'Weeks Calendar'!$C$24:$I$24,0)),\"\")&\nIFERROR(INDEX('Weeks Calendar'!$C$24:$I$28,5,MATCH(B13,'Weeks Calendar'!$C$30:$I$30,0)),\"\")","v":""},{"$f":"IFERROR(INDEX('Weeks Calendar'!$C$6:$I$10,5,MATCH(C13,'Weeks Calendar'!$C$6:$I$6,0)),\"\")&\nIFERROR(INDEX('Weeks Calendar'!$C$12:$I$16,5,MATCH(C13,'Weeks Calendar'!$C$12:$I$12,0)),\"\")&\nIFERROR(INDEX('Weeks Calendar'!$C$18:$I$22,5,MATCH(C13,'Weeks Calendar'!$C$18:$I$18,0)),\"\")&\nIFERROR(INDEX('Weeks Calendar'!$C$24:$I$28,5,MATCH(C13,'Weeks Calendar'!$C$24:$I$24,0)),\"\")&\nIFERROR(INDEX('Weeks Calendar'!$C$24:$I$28,5,MATCH(C13,'Weeks Calendar'!$C$30:$I$30,0)),\"\")","v":""},{"$f":"IFERROR(INDEX('Weeks Calendar'!$C$6:$I$10,5,MATCH(D13,'Weeks Calendar'!$C$6:$I$6,0)),\"\")&\nIFERROR(INDEX('Weeks Calendar'!$C$12:$I$16,5,MATCH(D13,'Weeks Calendar'!$C$12:$I$12,0)),\"\")&\nIFERROR(INDEX('Weeks Calendar'!$C$18:$I$22,5,MATCH(D13,'Weeks Calendar'!$C$18:$I$18,0)),\"\")&\nIFERROR(INDEX('Weeks Calendar'!$C$24:$I$28,5,MATCH(D13,'Weeks Calendar'!$C$24:$I$24,0)),\"\")&\nIFERROR(INDEX('Weeks Calendar'!$C$24:$I$28,5,MATCH(D13,'Weeks Calendar'!$C$30:$I$30,0)),\"\")","v":""},{"$f":"IFERROR(INDEX('Weeks Calendar'!$C$6:$I$10,5,MATCH(E13,'Weeks Calendar'!$C$6:$I$6,0)),\"\")&\nIFERROR(INDEX('Weeks Calendar'!$C$12:$I$16,5,MATCH(E13,'Weeks Calendar'!$C$12:$I$12,0)),\"\")&\nIFERROR(INDEX('Weeks Calendar'!$C$18:$I$22,5,MATCH(E13,'Weeks Calendar'!$C$18:$I$18,0)),\"\")&\nIFERROR(INDEX('Weeks Calendar'!$C$24:$I$28,5,MATCH(E13,'Weeks Calendar'!$C$24:$I$24,0)),\"\")&\nIFERROR(INDEX('Weeks Calendar'!$C$24:$I$28,5,MATCH(E13,'Weeks Calendar'!$C$30:$I$30,0)),\"\")","v":""},{"$f":"IFERROR(INDEX('Weeks Calendar'!$C$6:$I$10,5,MATCH(F13,'Weeks Calendar'!$C$6:$I$6,0)),\"\")&\nIFERROR(INDEX('Weeks Calendar'!$C$12:$I$16,5,MATCH(F13,'Weeks Calendar'!$C$12:$I$12,0)),\"\")&\nIFERROR(INDEX('Weeks Calendar'!$C$18:$I$22,5,MATCH(F13,'Weeks Calendar'!$C$18:$I$18,0)),\"\")&\nIFERROR(INDEX('Weeks Calendar'!$C$24:$I$28,5,MATCH(F13,'Weeks Calendar'!$C$24:$I$24,0)),\"\")&\nIFERROR(INDEX('Weeks Calendar'!$C$24:$I$28,5,MATCH(F13,'Weeks Calendar'!$C$30:$I$30,0)),\"\")","v":""},{"$f":"IFERROR(INDEX('Weeks Calendar'!$C$6:$I$10,5,MATCH(G13,'Weeks Calendar'!$C$6:$I$6,0)),\"\")&\nIFERROR(INDEX('Weeks Calendar'!$C$12:$I$16,5,MATCH(G13,'Weeks Calendar'!$C$12:$I$12,0)),\"\")&\nIFERROR(INDEX('Weeks Calendar'!$C$18:$I$22,5,MATCH(G13,'Weeks Calendar'!$C$18:$I$18,0)),\"\")&\nIFERROR(INDEX('Weeks Calendar'!$C$24:$I$28,5,MATCH(G13,'Weeks Calendar'!$C$24:$I$24,0)),\"\")&\nIFERROR(INDEX('Weeks Calendar'!$C$24:$I$28,5,MATCH(G13,'Weeks Calendar'!$C$30:$I$30,0)),\"\")","v":""},{"$f":"IFERROR(INDEX('Weeks Calendar'!$C$6:$I$10,5,MATCH(H13,'Weeks Calendar'!$C$6:$I$6,0)),\"\")&\nIFERROR(INDEX('Weeks Calendar'!$C$12:$I$16,5,MATCH(H13,'Weeks Calendar'!$C$12:$I$12,0)),\"\")&\nIFERROR(INDEX('Weeks Calendar'!$C$18:$I$22,5,MATCH(H13,'Weeks Calendar'!$C$18:$I$18,0)),\"\")&\nIFERROR(INDEX('Weeks Calendar'!$C$24:$I$28,5,MATCH(H13,'Weeks Calendar'!$C$24:$I$24,0)),\"\")&\nIFERROR(INDEX('Weeks Calendar'!$C$24:$I$28,5,MATCH(H13,'Weeks Calendar'!$C$30:$I$30,0)),\"\")","v":""}]
[null,{"$f":"IFERROR(H12+1,\"\")","v":"1900-01-15"},{"$f":"IFERROR(B18+1,\"\")","v":"1900-01-16"},{"$f":"IFERROR(C18+1,\"\")","v":"1900-01-17"},"1900-01-18","1900-01-19","1900-01-20","1900-01-21"]
["----->"]
["Use This Cell",{"$f":"IFERROR(INDEX('Weeks Calendar'!$C$6:$I$10,2,MATCH(B19,'Weeks Calendar'!$C$6:$I$6,0)),\"\")&\nIFERROR(INDEX('Weeks Calendar'!$C$12:$I$16,2,MATCH(B19,'Weeks Calendar'!$C$12:$I$12,0)),\"\")&\nIFERROR(INDEX('Weeks Calendar'!$C$18:$I$22,2,MATCH(B19,'Weeks Calendar'!$C$18:$I$18,0)),\"\")&\nIFERROR(INDEX('Weeks Calendar'!$C$24:$I$28,2,MATCH(B19,'Weeks Calendar'!$C$24:$I$24,0)),\"\")&\nIFERROR(INDEX('Weeks Calendar'!$C$24:$I$28,2,MATCH(B19,'Weeks Calendar'!$C$30:$I$30,0)),\"\")","v":""},{"$f":"IFERROR(INDEX('Weeks Calendar'!$C$6:$I$10,2,MATCH(C19,'Weeks Calendar'!$C$6:$I$6,0)),\"\")&\nIFERROR(INDEX('Weeks Calendar'!$C$12:$I$16,2,MATCH(C19,'Weeks Calendar'!$C$12:$I$12,0)),\"\")&\nIFERROR(INDEX('Weeks Calendar'!$C$18:$I$22,2,MATCH(C19,'Weeks Calendar'!$C$18:$I$18,0)),\"\")&\nIFERROR(INDEX('Weeks Calendar'!$C$24:$I$28,2,MATCH(C19,'Weeks Calendar'!$C$24:$I$24,0)),\"\")&\nIFERROR(INDEX('Weeks Calendar'!$C$24:$I$28,2,MATCH(C19,'Weeks Calendar'!$C$30:$I$30,0)),\"\")","v":""},{"$f":"IFERROR(INDEX('Weeks Calendar'!$C$6:$I$10,2,MATCH(D19,'Weeks Calendar'!$C$6:$I$6,0)),\"\")&\nIFERROR(INDEX('Weeks Calendar'!$C$12:$I$16,2,MATCH(D19,'Weeks Calendar'!$C$12:$I$12,0)),\"\")&\nIFERROR(INDEX('Weeks Calendar'!$C$18:$I$22,2,MATCH(D19,'Weeks Calendar'!$C$18:$I$18,0)),\"\")&\nIFERROR(INDEX('Weeks Calendar'!$C$24:$I$28,2,MATCH(D19,'Weeks Calendar'!$C$24:$I$24,0)),\"\")&\nIFERROR(INDEX('Weeks Calendar'!$C$24:$I$28,2,MATCH(D19,'Weeks Calendar'!$C$30:$I$30,0)),\"\")","v":""},{"$f":"IFERROR(INDEX('Weeks Calendar'!$C$6:$I$10,2,MATCH(E19,'Weeks Calendar'!$C$6:$I$6,0)),\"\")&\nIFERROR(INDEX('Weeks Calendar'!$C$12:$I$16,2,MATCH(E19,'Weeks Calendar'!$C$12:$I$12,0)),\"\")&\nIFERROR(INDEX('Weeks Calendar'!$C$18:$I$22,2,MATCH(E19,'Weeks Calendar'!$C$18:$I$18,0)),\"\")&\nIFERROR(INDEX('Weeks Calendar'!$C$24:$I$28,2,MATCH(E19,'Weeks Calendar'!$C$24:$I$24,0)),\"\")&\nIFERROR(INDEX('Weeks Calendar'!$C$24:$I$28,2,MATCH(E19,'Weeks Calendar'!$C$30:$I$30,0)),\"\")","v":""},{"$f":"IFERROR(INDEX('Weeks Calendar'!$C$6:$I$10,2,MATCH(F19,'Weeks Calendar'!$C$6:$I$6,0)),\"\")&\nIFERROR(INDEX('Weeks Calendar'!$C$12:$I$16,2,MATCH(F19,'Weeks Calendar'!$C$12:$I$12,0)),\"\")&\nIFERROR(INDEX('Weeks Calendar'!$C$18:$I$22,2,MATCH(F19,'Weeks Calendar'!$C$18:$I$18,0)),\"\")&\nIFERROR(INDEX('Weeks Calendar'!$C$24:$I$28,2,MATCH(F19,'Weeks Calendar'!$C$24:$I$24,0)),\"\")&\nIFERROR(INDEX('Weeks Calendar'!$C$24:$I$28,2,MATCH(F19,'Weeks Calendar'!$C$30:$I$30,0)),\"\")","v":""},{"$f":"IFERROR(INDEX('Weeks Calendar'!$C$6:$I$10,2,MATCH(G19,'Weeks Calendar'!$C$6:$I$6,0)),\"\")&\nIFERROR(INDEX('Weeks Calendar'!$C$12:$I$16,2,MATCH(G19,'Weeks Calendar'!$C$12:$I$12,0)),\"\")&\nIFERROR(INDEX('Weeks Calendar'!$C$18:$I$22,2,MATCH(G19,'Weeks Calendar'!$C$18:$I$18,0)),\"\")&\nIFERROR(INDEX('Weeks Calendar'!$C$24:$I$28,2,MATCH(G19,'Weeks Calendar'!$C$24:$I$24,0)),\"\")&\nIFERROR(INDEX('Weeks Calendar'!$C$24:$I$28,2,MATCH(G19,'Weeks Calendar'!$C$30:$I$30,0)),\"\")","v":""},{"$f":"IFERROR(INDEX('Weeks Calendar'!$C$6:$I$10,2,MATCH(H19,'Weeks Calendar'!$C$6:$I$6,0)),\"\")&\nIFERROR(INDEX('Weeks Calendar'!$C$12:$I$16,2,MATCH(H19,'Weeks Calendar'!$C$12:$I$12,0)),\"\")&\nIFERROR(INDEX('Weeks Calendar'!$C$18:$I$22,2,MATCH(H19,'Weeks Calendar'!$C$18:$I$18,0)),\"\")&\nIFERROR(INDEX('Weeks Calendar'!$C$24:$I$28,2,MATCH(H19,'Weeks Calendar'!$C$24:$I$24,0)),\"\")&\nIFERROR(INDEX('Weeks Calendar'!$C$24:$I$28,2,MATCH(H19,'Weeks Calendar'!$C$30:$I$30,0)),\"\")","v":""}]
["to Select",{"$f":"IFERROR(INDEX('Weeks Calendar'!$C$6:$I$10,3,MATCH(B19,'Weeks Calendar'!$C$6:$I$6,0)),\"\")&\nIFERROR(INDEX('Weeks Calendar'!$C$12:$I$16,3,MATCH(B19,'Weeks Calendar'!$C$12:$I$12,0)),\"\")&\nIFERROR(INDEX('Weeks Calendar'!$C$18:$I$22,3,MATCH(B19,'Weeks Calendar'!$C$18:$I$18,0)),\"\")&\nIFERROR(INDEX('Weeks Calendar'!$C$24:$I$28,3,MATCH(B19,'Weeks Calendar'!$C$24:$I$24,0)),\"\")&\nIFERROR(INDEX('Weeks Calendar'!$C$24:$I$28,3,MATCH(B19,'Weeks Calendar'!$C$30:$I$30,0)),\"\")","v":""},{"$f":"IFERROR(INDEX('Weeks Calendar'!$C$6:$I$10,3,MATCH(C19,'Weeks Calendar'!$C$6:$I$6,0)),\"\")&\nIFERROR(INDEX('Weeks Calendar'!$C$12:$I$16,3,MATCH(C19,'Weeks Calendar'!$C$12:$I$12,0)),\"\")&\nIFERROR(INDEX('Weeks Calendar'!$C$18:$I$22,3,MATCH(C19,'Weeks Calendar'!$C$18:$I$18,0)),\"\")&\nIFERROR(INDEX('Weeks Calendar'!$C$24:$I$28,3,MATCH(C19,'Weeks Calendar'!$C$24:$I$24,0)),\"\")&\nIFERROR(INDEX('Weeks Calendar'!$C$24:$I$28,3,MATCH(C19,'Weeks Calendar'!$C$30:$I$30,0)),\"\")","v":""},{"$f":"IFERROR(INDEX('Weeks Calendar'!$C$6:$I$10,3,MATCH(D19,'Weeks Calendar'!$C$6:$I$6,0)),\"\")&\nIFERROR(INDEX('Weeks Calendar'!$C$12:$I$16,3,MATCH(D19,'Weeks Calendar'!$C$12:$I$12,0)),\"\")&\nIFERROR(INDEX('Weeks Calendar'!$C$18:$I$22,3,MATCH(D19,'Weeks Calendar'!$C$18:$I$18,0)),\"\")&\nIFERROR(INDEX('Weeks Calendar'!$C$24:$I$28,3,MATCH(D19,'Weeks Calendar'!$C$24:$I$24,0)),\"\")&\nIFERROR(INDEX('Weeks Calendar'!$C$24:$I$28,3,MATCH(D19,'Weeks Calendar'!$C$30:$I$30,0)),\"\")","v":""},{"$f":"IFERROR(INDEX('Weeks Calendar'!$C$6:$I$10,3,MATCH(E19,'Weeks Calendar'!$C$6:$I$6,0)),\"\")&\nIFERROR(INDEX('Weeks Calendar'!$C$12:$I$16,3,MATCH(E19,'Weeks Calendar'!$C$12:$I$12,0)),\"\")&\nIFERROR(INDEX('Weeks Calendar'!$C$18:$I$22,3,MATCH(E19,'Weeks Calendar'!$C$18:$I$18,0)),\"\")&\nIFERROR(INDEX('Weeks Calendar'!$C$24:$I$28,3,MATCH(E19,'Weeks Calendar'!$C$24:$I$24,0)),\"\")&\nIFERROR(INDEX('Weeks Calendar'!$C$24:$I$28,3,MATCH(E19,'Weeks Calendar'!$C$30:$I$30,0)),\"\")","v":""},{"$f":"IFERROR(INDEX('Weeks Calendar'!$C$6:$I$10,3,MATCH(F19,'Weeks Calendar'!$C$6:$I$6,0)),\"\")&\nIFERROR(INDEX('Weeks Calendar'!$C$12:$I$16,3,MATCH(F19,'Weeks Calendar'!$C$12:$I$12,0)),\"\")&\nIFERROR(INDEX('Weeks Calendar'!$C$18:$I$22,3,MATCH(F19,'Weeks Calendar'!$C$18:$I$18,0)),\"\")&\nIFERROR(INDEX('Weeks Calendar'!$C$24:$I$28,3,MATCH(F19,'Weeks Calendar'!$C$24:$I$24,0)),\"\")&\nIFERROR(INDEX('Weeks Calendar'!$C$24:$I$28,3,MATCH(F19,'Weeks Calendar'!$C$30:$I$30,0)),\"\")","v":""},{"$f":"IFERROR(INDEX('Weeks Calendar'!$C$6:$I$10,3,MATCH(G19,'Weeks Calendar'!$C$6:$I$6,0)),\"\")&\nIFERROR(INDEX('Weeks Calendar'!$C$12:$I$16,3,MATCH(G19,'Weeks Calendar'!$C$12:$I$12,0)),\"\")&\nIFERROR(INDEX('Weeks Calendar'!$C$18:$I$22,3,MATCH(G19,'Weeks Calendar'!$C$18:$I$18,0)),\"\")&\nIFERROR(INDEX('Weeks Calendar'!$C$24:$I$28,3,MATCH(G19,'Weeks Calendar'!$C$24:$I$24,0)),\"\")&\nIFERROR(INDEX('Weeks Calendar'!$C$24:$I$28,3,MATCH(G19,'Weeks Calendar'!$C$30:$I$30,0)),\"\")","v":""},{"$f":"IFERROR(INDEX('Weeks Calendar'!$C$6:$I$10,3,MATCH(H19,'Weeks Calendar'!$C$6:$I$6,0)),\"\")&\nIFERROR(INDEX('Weeks Calendar'!$C$12:$I$16,3,MATCH(H19,'Weeks Calendar'!$C$12:$I$12,0)),\"\")&\nIFERROR(INDEX('Weeks Calendar'!$C$18:$I$22,3,MATCH(H19,'Weeks Calendar'!$C$18:$I$18,0)),\"\")&\nIFERROR(INDEX('Weeks Calendar'!$C$24:$I$28,3,MATCH(H19,'Weeks Calendar'!$C$24:$I$24,0)),\"\")&\nIFERROR(INDEX('Weeks Calendar'!$C$24:$I$28,3,MATCH(H19,'Weeks Calendar'!$C$30:$I$30,0)),\"\")","v":""}]
["Grocery Menus",{"$f":"IFERROR(INDEX('Weeks Calendar'!$C$6:$I$10,4,MATCH(B19,'Weeks Calendar'!$C$6:$I$6,0)),\"\")&\nIFERROR(INDEX('Weeks Calendar'!$C$12:$I$16,4,MATCH(B19,'Weeks Calendar'!$C$12:$I$12,0)),\"\")&\nIFERROR(INDEX('Weeks Calendar'!$C$18:$I$22,4,MATCH(B19,'Weeks Calendar'!$C$18:$I$18,0)),\"\")&\nIFERROR(INDEX('Weeks Calendar'!$C$24:$I$28,4,MATCH(B19,'Weeks Calendar'!$C$24:$I$24,0)),\"\")&\nIFERROR(INDEX('Weeks Calendar'!$C$24:$I$28,4,MATCH(B19,'Weeks Calendar'!$C$30:$I$30,0)),\"\")","v":""},{"$f":"IFERROR(INDEX('Weeks Calendar'!$C$6:$I$10,4,MATCH(C19,'Weeks Calendar'!$C$6:$I$6,0)),\"\")&\nIFERROR(INDEX('Weeks Calendar'!$C$12:$I$16,4,MATCH(C19,'Weeks Calendar'!$C$12:$I$12,0)),\"\")&\nIFERROR(INDEX('Weeks Calendar'!$C$18:$I$22,4,MATCH(C19,'Weeks Calendar'!$C$18:$I$18,0)),\"\")&\nIFERROR(INDEX('Weeks Calendar'!$C$24:$I$28,4,MATCH(C19,'Weeks Calendar'!$C$24:$I$24,0)),\"\")&\nIFERROR(INDEX('Weeks Calendar'!$C$24:$I$28,4,MATCH(C19,'Weeks Calendar'!$C$30:$I$30,0)),\"\")","v":""},{"$f":"IFERROR(INDEX('Weeks Calendar'!$C$6:$I$10,4,MATCH(D19,'Weeks Calendar'!$C$6:$I$6,0)),\"\")&\nIFERROR(INDEX('Weeks Calendar'!$C$12:$I$16,4,MATCH(D19,'Weeks Calendar'!$C$12:$I$12,0)),\"\")&\nIFERROR(INDEX('Weeks Calendar'!$C$18:$I$22,4,MATCH(D19,'Weeks Calendar'!$C$18:$I$18,0)),\"\")&\nIFERROR(INDEX('Weeks Calendar'!$C$24:$I$28,4,MATCH(D19,'Weeks Calendar'!$C$24:$I$24,0)),\"\")&\nIFERROR(INDEX('Weeks Calendar'!$C$24:$I$28,4,MATCH(D19,'Weeks Calendar'!$C$30:$I$30,0)),\"\")","v":""},{"$f":"IFERROR(INDEX('Weeks Calendar'!$C$6:$I$10,4,MATCH(E19,'Weeks Calendar'!$C$6:$I$6,0)),\"\")&\nIFERROR(INDEX('Weeks Calendar'!$C$12:$I$16,4,MATCH(E19,'Weeks Calendar'!$C$12:$I$12,0)),\"\")&\nIFERROR(INDEX('Weeks Calendar'!$C$18:$I$22,4,MATCH(E19,'Weeks Calendar'!$C$18:$I$18,0)),\"\")&\nIFERROR(INDEX('Weeks Calendar'!$C$24:$I$28,4,MATCH(E19,'Weeks Calendar'!$C$24:$I$24,0)),\"\")&\nIFERROR(INDEX('Weeks Calendar'!$C$24:$I$28,4,MATCH(E19,'Weeks Calendar'!$C$30:$I$30,0)),\"\")","v":""},{"$f":"IFERROR(INDEX('Weeks Calendar'!$C$6:$I$10,4,MATCH(F19,'Weeks Calendar'!$C$6:$I$6,0)),\"\")&\nIFERROR(INDEX('Weeks Calendar'!$C$12:$I$16,4,MATCH(F19,'Weeks Calendar'!$C$12:$I$12,0)),\"\")&\nIFERROR(INDEX('Weeks Calendar'!$C$18:$I$22,4,MATCH(F19,'Weeks Calendar'!$C$18:$I$18,0)),\"\")&\nIFERROR(INDEX('Weeks Calendar'!$C$24:$I$28,4,MATCH(F19,'Weeks Calendar'!$C$24:$I$24,0)),\"\")&\nIFERROR(INDEX('Weeks Calendar'!$C$24:$I$28,4,MATCH(F19,'Weeks Calendar'!$C$30:$I$30,0)),\"\")","v":""},{"$f":"IFERROR(INDEX('Weeks Calendar'!$C$6:$I$10,4,MATCH(G19,'Weeks Calendar'!$C$6:$I$6,0)),\"\")&\nIFERROR(INDEX('Weeks Calendar'!$C$12:$I$16,4,MATCH(G19,'Weeks Calendar'!$C$12:$I$12,0)),\"\")&\nIFERROR(INDEX('Weeks Calendar'!$C$18:$I$22,4,MATCH(G19,'Weeks Calendar'!$C$18:$I$18,0)),\"\")&\nIFERROR(INDEX('Weeks Calendar'!$C$24:$I$28,4,MATCH(G19,'Weeks Calendar'!$C$24:$I$24,0)),\"\")&\nIFERROR(INDEX('Weeks Calendar'!$C$24:$I$28,4,MATCH(G19,'Weeks Calendar'!$C$30:$I$30,0)),\"\")","v":""},{"$f":"IFERROR(INDEX('Weeks Calendar'!$C$6:$I$10,4,MATCH(H19,'Weeks Calendar'!$C$6:$I$6,0)),\"\")&\nIFERROR(INDEX('Weeks Calendar'!$C$12:$I$16,4,MATCH(H19,'Weeks Calendar'!$C$12:$I$12,0)),\"\")&\nIFERROR(INDEX('Weeks Calendar'!$C$18:$I$22,4,MATCH(H19,'Weeks Calendar'!$C$18:$I$18,0)),\"\")&\nIFERROR(INDEX('Weeks Calendar'!$C$24:$I$28,4,MATCH(H19,'Weeks Calendar'!$C$24:$I$24,0)),\"\")&\nIFERROR(INDEX('Weeks Calendar'!$C$24:$I$28,4,MATCH(H19,'Weeks Calendar'!$C$30:$I$30,0)),\"\")","v":""}]
[null,{"$f":"IFERROR(INDEX('Weeks Calendar'!$C$6:$I$10,5,MATCH(B19,'Weeks Calendar'!$C$6:$I$6,0)),\"\")&\nIFERROR(INDEX('Weeks Calendar'!$C$12:$I$16,5,MATCH(B19,'Weeks Calendar'!$C$12:$I$12,0)),\"\")&\nIFERROR(INDEX('Weeks Calendar'!$C$18:$I$22,5,MATCH(B19,'Weeks Calendar'!$C$18:$I$18,0)),\"\")&\nIFERROR(INDEX('Weeks Calendar'!$C$24:$I$28,5,MATCH(B19,'Weeks Calendar'!$C$24:$I$24,0)),\"\")&\nIFERROR(INDEX('Weeks Calendar'!$C$24:$I$28,5,MATCH(B19,'Weeks Calendar'!$C$30:$I$30,0)),\"\")","v":""},{"$f":"IFERROR(INDEX('Weeks Calendar'!$C$6:$I$10,5,MATCH(C19,'Weeks Calendar'!$C$6:$I$6,0)),\"\")&\nIFERROR(INDEX('Weeks Calendar'!$C$12:$I$16,5,MATCH(C19,'Weeks Calendar'!$C$12:$I$12,0)),\"\")&\nIFERROR(INDEX('Weeks Calendar'!$C$18:$I$22,5,MATCH(C19,'Weeks Calendar'!$C$18:$I$18,0)),\"\")&\nIFERROR(INDEX('Weeks Calendar'!$C$24:$I$28,5,MATCH(C19,'Weeks Calendar'!$C$24:$I$24,0)),\"\")&\nIFERROR(INDEX('Weeks Calendar'!$C$24:$I$28,5,MATCH(C19,'Weeks Calendar'!$C$30:$I$30,0)),\"\")","v":""},{"$f":"IFERROR(INDEX('Weeks Calendar'!$C$6:$I$10,5,MATCH(D19,'Weeks Calendar'!$C$6:$I$6,0)),\"\")&\nIFERROR(INDEX('Weeks Calendar'!$C$12:$I$16,5,MATCH(D19,'Weeks Calendar'!$C$12:$I$12,0)),\"\")&\nIFERROR(INDEX('Weeks Calendar'!$C$18:$I$22,5,MATCH(D19,'Weeks Calendar'!$C$18:$I$18,0)),\"\")&\nIFERROR(INDEX('Weeks Calendar'!$C$24:$I$28,5,MATCH(D19,'Weeks Calendar'!$C$24:$I$24,0)),\"\")&\nIFERROR(INDEX('Weeks Calendar'!$C$24:$I$28,5,MATCH(D19,'Weeks Calendar'!$C$30:$I$30,0)),\"\")","v":""},{"$f":"IFERROR(INDEX('Weeks Calendar'!$C$6:$I$10,5,MATCH(E19,'Weeks Calendar'!$C$6:$I$6,0)),\"\")&\nIFERROR(INDEX('Weeks Calendar'!$C$12:$I$16,5,MATCH(E19,'Weeks Calendar'!$C$12:$I$12,0)),\"\")&\nIFERROR(INDEX('Weeks Calendar'!$C$18:$I$22,5,MATCH(E19,'Weeks Calendar'!$C$18:$I$18,0)),\"\")&\nIFERROR(INDEX('Weeks Calendar'!$C$24:$I$28,5,MATCH(E19,'Weeks Calendar'!$C$24:$I$24,0)),\"\")&\nIFERROR(INDEX('Weeks Calendar'!$C$24:$I$28,5,MATCH(E19,'Weeks Calendar'!$C$30:$I$30,0)),\"\")","v":""},{"$f":"IFERROR(INDEX('Weeks Calendar'!$C$6:$I$10,5,MATCH(F19,'Weeks Calendar'!$C$6:$I$6,0)),\"\")&\nIFERROR(INDEX('Weeks Calendar'!$C$12:$I$16,5,MATCH(F19,'Weeks Calendar'!$C$12:$I$12,0)),\"\")&\nIFERROR(INDEX('Weeks Calendar'!$C$18:$I$22,5,MATCH(F19,'Weeks Calendar'!$C$18:$I$18,0)),\"\")&\nIFERROR(INDEX('Weeks Calendar'!$C$24:$I$28,5,MATCH(F19,'Weeks Calendar'!$C$24:$I$24,0)),\"\")&\nIFERROR(INDEX('Weeks Calendar'!$C$24:$I$28,5,MATCH(F19,'Weeks Calendar'!$C$30:$I$30,0)),\"\")","v":""},{"$f":"IFERROR(INDEX('Weeks Calendar'!$C$6:$I$10,5,MATCH(G19,'Weeks Calendar'!$C$6:$I$6,0)),\"\")&\nIFERROR(INDEX('Weeks Calendar'!$C$12:$I$16,5,MATCH(G19,'Weeks Calendar'!$C$12:$I$12,0)),\"\")&\nIFERROR(INDEX('Weeks Calendar'!$C$18:$I$22,5,MATCH(G19,'Weeks Calendar'!$C$18:$I$18,0)),\"\")&\nIFERROR(INDEX('Weeks Calendar'!$C$24:$I$28,5,MATCH(G19,'Weeks Calendar'!$C$24:$I$24,0)),\"\")&\nIFERROR(INDEX('Weeks Calendar'!$C$24:$I$28,5,MATCH(G19,'Weeks Calendar'!$C$30:$I$30,0)),\"\")","v":""},{"$f":"IFERROR(INDEX('Weeks Calendar'!$C$6:$I$10,5,MATCH(H19,'Weeks Calendar'!$C$6:$I$6,0)),\"\")&\nIFERROR(INDEX('Weeks Calendar'!$C$12:$I$16,5,MATCH(H19,'Weeks Calendar'!$C$12:$I$12,0)),\"\")&\nIFERROR(INDEX('Weeks Calendar'!$C$18:$I$22,5,MATCH(H19,'Weeks Calendar'!$C$18:$I$18,0)),\"\")&\nIFERROR(INDEX('Weeks Calendar'!$C$24:$I$28,5,MATCH(H19,'Weeks Calendar'!$C$24:$I$24,0)),\"\")&\nIFERROR(INDEX('Weeks Calendar'!$C$24:$I$28,5,MATCH(H19,'Weeks Calendar'!$C$30:$I$30,0)),\"\")","v":""}]
[null,{"$f":"IFERROR(H18+1,\"\")","v":"1900-01-22"},{"$f":"IFERROR(B24+1,\"\")","v":"1900-01-23"},{"$f":"IFERROR(C24+1,\"\")","v":"1900-01-24"},"1900-01-25","1900-01-26","1900-01-27","1900-01-28"]
["----->"]
["Use This Cell",{"$f":"IFERROR(INDEX('Weeks Calendar'!$C$6:$I$10,2,MATCH(B25,'Weeks Calendar'!$C$6:$I$6,0)),\"\")&\nIFERROR(INDEX('Weeks Calendar'!$C$12:$I$16,2,MATCH(B25,'Weeks Calendar'!$C$12:$I$12,0)),\"\")&\nIFERROR(INDEX('Weeks Calendar'!$C$18:$I$22,2,MATCH(B25,'Weeks Calendar'!$C$18:$I$18,0)),\"\")&\nIFERROR(INDEX('Weeks Calendar'!$C$24:$I$28,2,MATCH(B25,'Weeks Calendar'!$C$24:$I$24,0)),\"\")&\nIFERROR(INDEX('Weeks Calendar'!$C$24:$I$28,2,MATCH(B25,'Weeks Calendar'!$C$30:$I$30,0)),\"\")","v":""},{"$f":"IFERROR(INDEX('Weeks Calendar'!$C$6:$I$10,2,MATCH(C25,'Weeks Calendar'!$C$6:$I$6,0)),\"\")&\nIFERROR(INDEX('Weeks Calendar'!$C$12:$I$16,2,MATCH(C25,'Weeks Calendar'!$C$12:$I$12,0)),\"\")&\nIFERROR(INDEX('Weeks Calendar'!$C$18:$I$22,2,MATCH(C25,'Weeks Calendar'!$C$18:$I$18,0)),\"\")&\nIFERROR(INDEX('Weeks Calendar'!$C$24:$I$28,2,MATCH(C25,'Weeks Calendar'!$C$24:$I$24,0)),\"\")&\nIFERROR(INDEX('Weeks Calendar'!$C$24:$I$28,2,MATCH(C25,'Weeks Calendar'!$C$30:$I$30,0)),\"\")","v":""},{"$f":"IFERROR(INDEX('Weeks Calendar'!$C$6:$I$10,2,MATCH(D25,'Weeks Calendar'!$C$6:$I$6,0)),\"\")&\nIFERROR(INDEX('Weeks Calendar'!$C$12:$I$16,2,MATCH(D25,'Weeks Calendar'!$C$12:$I$12,0)),\"\")&\nIFERROR(INDEX('Weeks Calendar'!$C$18:$I$22,2,MATCH(D25,'Weeks Calendar'!$C$18:$I$18,0)),\"\")&\nIFERROR(INDEX('Weeks Calendar'!$C$24:$I$28,2,MATCH(D25,'Weeks Calendar'!$C$24:$I$24,0)),\"\")&\nIFERROR(INDEX('Weeks Calendar'!$C$24:$I$28,2,MATCH(D25,'Weeks Calendar'!$C$30:$I$30,0)),\"\")","v":""},{"$f":"IFERROR(INDEX('Weeks Calendar'!$C$6:$I$10,2,MATCH(E25,'Weeks Calendar'!$C$6:$I$6,0)),\"\")&\nIFERROR(INDEX('Weeks Calendar'!$C$12:$I$16,2,MATCH(E25,'Weeks Calendar'!$C$12:$I$12,0)),\"\")&\nIFERROR(INDEX('Weeks Calendar'!$C$18:$I$22,2,MATCH(E25,'Weeks Calendar'!$C$18:$I$18,0)),\"\")&\nIFERROR(INDEX('Weeks Calendar'!$C$24:$I$28,2,MATCH(E25,'Weeks Calendar'!$C$24:$I$24,0)),\"\")&\nIFERROR(INDEX('Weeks Calendar'!$C$24:$I$28,2,MATCH(E25,'Weeks Calendar'!$C$30:$I$30,0)),\"\")","v":""},{"$f":"IFERROR(INDEX('Weeks Calendar'!$C$6:$I$10,2,MATCH(F25,'Weeks Calendar'!$C$6:$I$6,0)),\"\")&\nIFERROR(INDEX('Weeks Calendar'!$C$12:$I$16,2,MATCH(F25,'Weeks Calendar'!$C$12:$I$12,0)),\"\")&\nIFERROR(INDEX('Weeks Calendar'!$C$18:$I$22,2,MATCH(F25,'Weeks Calendar'!$C$18:$I$18,0)),\"\")&\nIFERROR(INDEX('Weeks Calendar'!$C$24:$I$28,2,MATCH(F25,'Weeks Calendar'!$C$24:$I$24,0)),\"\")&\nIFERROR(INDEX('Weeks Calendar'!$C$24:$I$28,2,MATCH(F25,'Weeks Calendar'!$C$30:$I$30,0)),\"\")","v":""},{"$f":"IFERROR(INDEX('Weeks Calendar'!$C$6:$I$10,2,MATCH(G25,'Weeks Calendar'!$C$6:$I$6,0)),\"\")&\nIFERROR(INDEX('Weeks Calendar'!$C$12:$I$16,2,MATCH(G25,'Weeks Calendar'!$C$12:$I$12,0)),\"\")&\nIFERROR(INDEX('Weeks Calendar'!$C$18:$I$22,2,MATCH(G25,'Weeks Calendar'!$C$18:$I$18,0)),\"\")&\nIFERROR(INDEX('Weeks Calendar'!$C$24:$I$28,2,MATCH(G25,'Weeks Calendar'!$C$24:$I$24,0)),\"\")&\nIFERROR(INDEX('Weeks Calendar'!$C$24:$I$28,2,MATCH(G25,'Weeks Calendar'!$C$30:$I$30,0)),\"\")","v":""},{"$f":"IFERROR(INDEX('Weeks Calendar'!$C$6:$I$10,2,MATCH(H25,'Weeks Calendar'!$C$6:$I$6,0)),\"\")&\nIFERROR(INDEX('Weeks Calendar'!$C$12:$I$16,2,MATCH(H25,'Weeks Calendar'!$C$12:$I$12,0)),\"\")&\nIFERROR(INDEX('Weeks Calendar'!$C$18:$I$22,2,MATCH(H25,'Weeks Calendar'!$C$18:$I$18,0)),\"\")&\nIFERROR(INDEX('Weeks Calendar'!$C$24:$I$28,2,MATCH(H25,'Weeks Calendar'!$C$24:$I$24,0)),\"\")&\nIFERROR(INDEX('Weeks Calendar'!$C$24:$I$28,2,MATCH(H25,'Weeks Calendar'!$C$30:$I$30,0)),\"\")","v":""}]
["to Select",{"$f":"IFERROR(INDEX('Weeks Calendar'!$C$6:$I$10,3,MATCH(B25,'Weeks Calendar'!$C$6:$I$6,0)),\"\")&\nIFERROR(INDEX('Weeks Calendar'!$C$12:$I$16,3,MATCH(B25,'Weeks Calendar'!$C$12:$I$12,0)),\"\")&\nIFERROR(INDEX('Weeks Calendar'!$C$18:$I$22,3,MATCH(B25,'Weeks Calendar'!$C$18:$I$18,0)),\"\")&\nIFERROR(INDEX('Weeks Calendar'!$C$24:$I$28,3,MATCH(B25,'Weeks Calendar'!$C$24:$I$24,0)),\"\")&\nIFERROR(INDEX('Weeks Calendar'!$C$24:$I$28,3,MATCH(B25,'Weeks Calendar'!$C$30:$I$30,0)),\"\")","v":""},{"$f":"IFERROR(INDEX('Weeks Calendar'!$C$6:$I$10,3,MATCH(C25,'Weeks Calendar'!$C$6:$I$6,0)),\"\")&\nIFERROR(INDEX('Weeks Calendar'!$C$12:$I$16,3,MATCH(C25,'Weeks Calendar'!$C$12:$I$12,0)),\"\")&\nIFERROR(INDEX('Weeks Calendar'!$C$18:$I$22,3,MATCH(C25,'Weeks Calendar'!$C$18:$I$18,0)),\"\")&\nIFERROR(INDEX('Weeks Calendar'!$C$24:$I$28,3,MATCH(C25,'Weeks Calendar'!$C$24:$I$24,0)),\"\")&\nIFERROR(INDEX('Weeks Calendar'!$C$24:$I$28,3,MATCH(C25,'Weeks Calendar'!$C$30:$I$30,0)),\"\")","v":""},{"$f":"IFERROR(INDEX('Weeks Calendar'!$C$6:$I$10,3,MATCH(D25,'Weeks Calendar'!$C$6:$I$6,0)),\"\")&\nIFERROR(INDEX('Weeks Calendar'!$C$12:$I$16,3,MATCH(D25,'Weeks Calendar'!$C$12:$I$12,0)),\"\")&\nIFERROR(INDEX('Weeks Calendar'!$C$18:$I$22,3,MATCH(D25,'Weeks Calendar'!$C$18:$I$18,0)),\"\")&\nIFERROR(INDEX('Weeks Calendar'!$C$24:$I$28,3,MATCH(D25,'Weeks Calendar'!$C$24:$I$24,0)),\"\")&\nIFERROR(INDEX('Weeks Calendar'!$C$24:$I$28,3,MATCH(D25,'Weeks Calendar'!$C$30:$I$30,0)),\"\")","v":""},{"$f":"IFERROR(INDEX('Weeks Calendar'!$C$6:$I$10,3,MATCH(E25,'Weeks Calendar'!$C$6:$I$6,0)),\"\")&\nIFERROR(INDEX('Weeks Calendar'!$C$12:$I$16,3,MATCH(E25,'Weeks Calendar'!$C$12:$I$12,0)),\"\")&\nIFERROR(INDEX('Weeks Calendar'!$C$18:$I$22,3,MATCH(E25,'Weeks Calendar'!$C$18:$I$18,0)),\"\")&\nIFERROR(INDEX('Weeks Calendar'!$C$24:$I$28,3,MATCH(E25,'Weeks Calendar'!$C$24:$I$24,0)),\"\")&\nIFERROR(INDEX('Weeks Calendar'!$C$24:$I$28,3,MATCH(E25,'Weeks Calendar'!$C$30:$I$30,0)),\"\")","v":""},{"$f":"IFERROR(INDEX('Weeks Calendar'!$C$6:$I$10,3,MATCH(F25,'Weeks Calendar'!$C$6:$I$6,0)),\"\")&\nIFERROR(INDEX('Weeks Calendar'!$C$12:$I$16,3,MATCH(F25,'Weeks Calendar'!$C$12:$I$12,0)),\"\")&\nIFERROR(INDEX('Weeks Calendar'!$C$18:$I$22,3,MATCH(F25,'Weeks Calendar'!$C$18:$I$18,0)),\"\")&\nIFERROR(INDEX('Weeks Calendar'!$C$24:$I$28,3,MATCH(F25,'Weeks Calendar'!$C$24:$I$24,0)),\"\")&\nIFERROR(INDEX('Weeks Calendar'!$C$24:$I$28,3,MATCH(F25,'Weeks Calendar'!$C$30:$I$30,0)),\"\")","v":""},{"$f":"IFERROR(INDEX('Weeks Calendar'!$C$6:$I$10,3,MATCH(G25,'Weeks Calendar'!$C$6:$I$6,0)),\"\")&\nIFERROR(INDEX('Weeks Calendar'!$C$12:$I$16,3,MATCH(G25,'Weeks Calendar'!$C$12:$I$12,0)),\"\")&\nIFERROR(INDEX('Weeks Calendar'!$C$18:$I$22,3,MATCH(G25,'Weeks Calendar'!$C$18:$I$18,0)),\"\")&\nIFERROR(INDEX('Weeks Calendar'!$C$24:$I$28,3,MATCH(G25,'Weeks Calendar'!$C$24:$I$24,0)),\"\")&\nIFERROR(INDEX('Weeks Calendar'!$C$24:$I$28,3,MATCH(G25,'Weeks Calendar'!$C$30:$I$30,0)),\"\")","v":""},{"$f":"IFERROR(INDEX('Weeks Calendar'!$C$6:$I$10,3,MATCH(H25,'Weeks Calendar'!$C$6:$I$6,0)),\"\")&\nIFERROR(INDEX('Weeks Calendar'!$C$12:$I$16,3,MATCH(H25,'Weeks Calendar'!$C$12:$I$12,0)),\"\")&\nIFERROR(INDEX('Weeks Calendar'!$C$18:$I$22,3,MATCH(H25,'Weeks Calendar'!$C$18:$I$18,0)),\"\")&\nIFERROR(INDEX('Weeks Calendar'!$C$24:$I$28,3,MATCH(H25,'Weeks Calendar'!$C$24:$I$24,0)),\"\")&\nIFERROR(INDEX('Weeks Calendar'!$C$24:$I$28,3,MATCH(H25,'Weeks Calendar'!$C$30:$I$30,0)),\"\")","v":""}]
["Grocery Menus",{"$f":"IFERROR(INDEX('Weeks Calendar'!$C$6:$I$10,4,MATCH(B25,'Weeks Calendar'!$C$6:$I$6,0)),\"\")&\nIFERROR(INDEX('Weeks Calendar'!$C$12:$I$16,4,MATCH(B25,'Weeks Calendar'!$C$12:$I$12,0)),\"\")&\nIFERROR(INDEX('Weeks Calendar'!$C$18:$I$22,4,MATCH(B25,'Weeks Calendar'!$C$18:$I$18,0)),\"\")&\nIFERROR(INDEX('Weeks Calendar'!$C$24:$I$28,4,MATCH(B25,'Weeks Calendar'!$C$24:$I$24,0)),\"\")&\nIFERROR(INDEX('Weeks Calendar'!$C$24:$I$28,4,MATCH(B25,'Weeks Calendar'!$C$30:$I$30,0)),\"\")","v":""},{"$f":"IFERROR(INDEX('Weeks Calendar'!$C$6:$I$10,4,MATCH(C25,'Weeks Calendar'!$C$6:$I$6,0)),\"\")&\nIFERROR(INDEX('Weeks Calendar'!$C$12:$I$16,4,MATCH(C25,'Weeks Calendar'!$C$12:$I$12,0)),\"\")&\nIFERROR(INDEX('Weeks Calendar'!$C$18:$I$22,4,MATCH(C25,'Weeks Calendar'!$C$18:$I$18,0)),\"\")&\nIFERROR(INDEX('Weeks Calendar'!$C$24:$I$28,4,MATCH(C25,'Weeks Calendar'!$C$24:$I$24,0)),\"\")&\nIFERROR(INDEX('Weeks Calendar'!$C$24:$I$28,4,MATCH(C25,'Weeks Calendar'!$C$30:$I$30,0)),\"\")","v":""},{"$f":"IFERROR(INDEX('Weeks Calendar'!$C$6:$I$10,4,MATCH(D25,'Weeks Calendar'!$C$6:$I$6,0)),\"\")&\nIFERROR(INDEX('Weeks Calendar'!$C$12:$I$16,4,MATCH(D25,'Weeks Calendar'!$C$12:$I$12,0)),\"\")&\nIFERROR(INDEX('Weeks Calendar'!$C$18:$I$22,4,MATCH(D25,'Weeks Calendar'!$C$18:$I$18,0)),\"\")&\nIFERROR(INDEX('Weeks Calendar'!$C$24:$I$28,4,MATCH(D25,'Weeks Calendar'!$C$24:$I$24,0)),\"\")&\nIFERROR(INDEX('Weeks Calendar'!$C$24:$I$28,4,MATCH(D25,'Weeks Calendar'!$C$30:$I$30,0)),\"\")","v":""},{"$f":"IFERROR(INDEX('Weeks Calendar'!$C$6:$I$10,4,MATCH(E25,'Weeks Calendar'!$C$6:$I$6,0)),\"\")&\nIFERROR(INDEX('Weeks Calendar'!$C$12:$I$16,4,MATCH(E25,'Weeks Calendar'!$C$12:$I$12,0)),\"\")&\nIFERROR(INDEX('Weeks Calendar'!$C$18:$I$22,4,MATCH(E25,'Weeks Calendar'!$C$18:$I$18,0)),\"\")&\nIFERROR(INDEX('Weeks Calendar'!$C$24:$I$28,4,MATCH(E25,'Weeks Calendar'!$C$24:$I$24,0)),\"\")&\nIFERROR(INDEX('Weeks Calendar'!$C$24:$I$28,4,MATCH(E25,'Weeks Calendar'!$C$30:$I$30,0)),\"\")","v":""},{"$f":"IFERROR(INDEX('Weeks Calendar'!$C$6:$I$10,4,MATCH(F25,'Weeks Calendar'!$C$6:$I$6,0)),\"\")&\nIFERROR(INDEX('Weeks Calendar'!$C$12:$I$16,4,MATCH(F25,'Weeks Calendar'!$C$12:$I$12,0)),\"\")&\nIFERROR(INDEX('Weeks Calendar'!$C$18:$I$22,4,MATCH(F25,'Weeks Calendar'!$C$18:$I$18,0)),\"\")&\nIFERROR(INDEX('Weeks Calendar'!$C$24:$I$28,4,MATCH(F25,'Weeks Calendar'!$C$24:$I$24,0)),\"\")&\nIFERROR(INDEX('Weeks Calendar'!$C$24:$I$28,4,MATCH(F25,'Weeks Calendar'!$C$30:$I$30,0)),\"\")","v":""},{"$f":"IFERROR(INDEX('Weeks Calendar'!$C$6:$I$10,4,MATCH(G25,'Weeks Calendar'!$C$6:$I$6,0)),\"\")&\nIFERROR(INDEX('Weeks Calendar'!$C$12:$I$16,4,MATCH(G25,'Weeks Calendar'!$C$12:$I$12,0)),\"\")&\nIFERROR(INDEX('Weeks Calendar'!$C$18:$I$22,4,MATCH(G25,'Weeks Calendar'!$C$18:$I$18,0)),\"\")&\nIFERROR(INDEX('Weeks Calendar'!$C$24:$I$28,4,MATCH(G25,'Weeks Calendar'!$C$24:$I$24,0)),\"\")&\nIFERROR(INDEX('Weeks Calendar'!$C$24:$I$28,4,MATCH(G25,'Weeks Calendar'!$C$30:$I$30,0)),\"\")","v":""},{"$f":"IFERROR(INDEX('Weeks Calendar'!$C$6:$I$10,4,MATCH(H25,'Weeks Calendar'!$C$6:$I$6,0)),\"\")&\nIFERROR(INDEX('Weeks Calendar'!$C$12:$I$16,4,MATCH(H25,'Weeks Calendar'!$C$12:$I$12,0)),\"\")&\nIFERROR(INDEX('Weeks Calendar'!$C$18:$I$22,4,MATCH(H25,'Weeks Calendar'!$C$18:$I$18,0)),\"\")&\nIFERROR(INDEX('Weeks Calendar'!$C$24:$I$28,4,MATCH(H25,'Weeks Calendar'!$C$24:$I$24,0)),\"\")&\nIFERROR(INDEX('Weeks Calendar'!$C$24:$I$28,4,MATCH(H25,'Weeks Calendar'!$C$30:$I$30,0)),\"\")","v":""}]
[null,{"$f":"IFERROR(INDEX('Weeks Calendar'!$C$6:$I$10,5,MATCH(B25,'Weeks Calendar'!$C$6:$I$6,0)),\"\")&\nIFERROR(INDEX('Weeks Calendar'!$C$12:$I$16,5,MATCH(B25,'Weeks Calendar'!$C$12:$I$12,0)),\"\")&\nIFERROR(INDEX('Weeks Calendar'!$C$18:$I$22,5,MATCH(B25,'Weeks Calendar'!$C$18:$I$18,0)),\"\")&\nIFERROR(INDEX('Weeks Calendar'!$C$24:$I$28,5,MATCH(B25,'Weeks Calendar'!$C$24:$I$24,0)),\"\")&\nIFERROR(INDEX('Weeks Calendar'!$C$24:$I$28,5,MATCH(B25,'Weeks Calendar'!$C$30:$I$30,0)),\"\")","v":""},{"$f":"IFERROR(INDEX('Weeks Calendar'!$C$6:$I$10,5,MATCH(C25,'Weeks Calendar'!$C$6:$I$6,0)),\"\")&\nIFERROR(INDEX('Weeks Calendar'!$C$12:$I$16,5,MATCH(C25,'Weeks Calendar'!$C$12:$I$12,0)),\"\")&\nIFERROR(INDEX('Weeks Calendar'!$C$18:$I$22,5,MATCH(C25,'Weeks Calendar'!$C$18:$I$18,0)),\"\")&\nIFERROR(INDEX('Weeks Calendar'!$C$24:$I$28,5,MATCH(C25,'Weeks Calendar'!$C$24:$I$24,0)),\"\")&\nIFERROR(INDEX('Weeks Calendar'!$C$24:$I$28,5,MATCH(C25,'Weeks Calendar'!$C$30:$I$30,0)),\"\")","v":""},{"$f":"IFERROR(INDEX('Weeks Calendar'!$C$6:$I$10,5,MATCH(D25,'Weeks Calendar'!$C$6:$I$6,0)),\"\")&\nIFERROR(INDEX('Weeks Calendar'!$C$12:$I$16,5,MATCH(D25,'Weeks Calendar'!$C$12:$I$12,0)),\"\")&\nIFERROR(INDEX('Weeks Calendar'!$C$18:$I$22,5,MATCH(D25,'Weeks Calendar'!$C$18:$I$18,0)),\"\")&\nIFERROR(INDEX('Weeks Calendar'!$C$24:$I$28,5,MATCH(D25,'Weeks Calendar'!$C$24:$I$24,0)),\"\")&\nIFERROR(INDEX('Weeks Calendar'!$C$24:$I$28,5,MATCH(D25,'Weeks Calendar'!$C$30:$I$30,0)),\"\")","v":""},{"$f":"IFERROR(INDEX('Weeks Calendar'!$C$6:$I$10,5,MATCH(E25,'Weeks Calendar'!$C$6:$I$6,0)),\"\")&\nIFERROR(INDEX('Weeks Calendar'!$C$12:$I$16,5,MATCH(E25,'Weeks Calendar'!$C$12:$I$12,0)),\"\")&\nIFERROR(INDEX('Weeks Calendar'!$C$18:$I$22,5,MATCH(E25,'Weeks Calendar'!$C$18:$I$18,0)),\"\")&\nIFERROR(INDEX('Weeks Calendar'!$C$24:$I$28,5,MATCH(E25,'Weeks Calendar'!$C$24:$I$24,0)),\"\")&\nIFERROR(INDEX('Weeks Calendar'!$C$24:$I$28,5,MATCH(E25,'Weeks Calendar'!$C$30:$I$30,0)),\"\")","v":""},{"$f":"IFERROR(INDEX('Weeks Calendar'!$C$6:$I$10,5,MATCH(F25,'Weeks Calendar'!$C$6:$I$6,0)),\"\")&\nIFERROR(INDEX('Weeks Calendar'!$C$12:$I$16,5,MATCH(F25,'Weeks Calendar'!$C$12:$I$12,0)),\"\")&\nIFERROR(INDEX('Weeks Calendar'!$C$18:$I$22,5,MATCH(F25,'Weeks Calendar'!$C$18:$I$18,0)),\"\")&\nIFERROR(INDEX('Weeks Calendar'!$C$24:$I$28,5,MATCH(F25,'Weeks Calendar'!$C$24:$I$24,0)),\"\")&\nIFERROR(INDEX('Weeks Calendar'!$C$24:$I$28,5,MATCH(F25,'Weeks Calendar'!$C$30:$I$30,0)),\"\")","v":""},{"$f":"IFERROR(INDEX('Weeks Calendar'!$C$6:$I$10,5,MATCH(G25,'Weeks Calendar'!$C$6:$I$6,0)),\"\")&\nIFERROR(INDEX('Weeks Calendar'!$C$12:$I$16,5,MATCH(G25,'Weeks Calendar'!$C$12:$I$12,0)),\"\")&\nIFERROR(INDEX('Weeks Calendar'!$C$18:$I$22,5,MATCH(G25,'Weeks Calendar'!$C$18:$I$18,0)),\"\")&\nIFERROR(INDEX('Weeks Calendar'!$C$24:$I$28,5,MATCH(G25,'Weeks Calendar'!$C$24:$I$24,0)),\"\")&\nIFERROR(INDEX('Weeks Calendar'!$C$24:$I$28,5,MATCH(G25,'Weeks Calendar'!$C$30:$I$30,0)),\"\")","v":""},{"$f":"IFERROR(INDEX('Weeks Calendar'!$C$6:$I$10,5,MATCH(H25,'Weeks Calendar'!$C$6:$I$6,0)),\"\")&\nIFERROR(INDEX('Weeks Calendar'!$C$12:$I$16,5,MATCH(H25,'Weeks Calendar'!$C$12:$I$12,0)),\"\")&\nIFERROR(INDEX('Weeks Calendar'!$C$18:$I$22,5,MATCH(H25,'Weeks Calendar'!$C$18:$I$18,0)),\"\")&\nIFERROR(INDEX('Weeks Calendar'!$C$24:$I$28,5,MATCH(H25,'Weeks Calendar'!$C$24:$I$24,0)),\"\")&\nIFERROR(INDEX('Weeks Calendar'!$C$24:$I$28,5,MATCH(H25,'Weeks Calendar'!$C$30:$I$30,0)),\"\")","v":""}]
[null,{"$f":"IFERROR(IF(OR(H24=$J$4,H24=\"\",ISERR(H24)),\"\",H24+1),\"\")","v":"1900-01-29"},{"$f":"IFERROR(IF(OR(B30=$J$4,B30=\"\",ISERR(B30)),\"\",B30+1),\"\")","v":"1900-01-30"},"1900-01-31","","","",""]
["----->"]
["Use This Cell",{"$f":"IFERROR(INDEX('Weeks Calendar'!$C$6:$I$10,2,MATCH(B31,'Weeks Calendar'!$C$6:$I$6,0)),\"\")&\nIFERROR(INDEX('Weeks Calendar'!$C$12:$I$16,2,MATCH(B31,'Weeks Calendar'!$C$12:$I$12,0)),\"\")&\nIFERROR(INDEX('Weeks Calendar'!$C$18:$I$22,2,MATCH(B31,'Weeks Calendar'!$C$18:$I$18,0)),\"\")&\nIFERROR(INDEX('Weeks Calendar'!$C$24:$I$28,2,MATCH(B31,'Weeks Calendar'!$C$24:$I$24,0)),\"\")&\nIFERROR(INDEX('Weeks Calendar'!$C$24:$I$28,2,MATCH(B31,'Weeks Calendar'!$C$30:$I$30,0)),\"\")","v":""},{"$f":"IFERROR(INDEX('Weeks Calendar'!$C$6:$I$10,2,MATCH(C31,'Weeks Calendar'!$C$6:$I$6,0)),\"\")&\nIFERROR(INDEX('Weeks Calendar'!$C$12:$I$16,2,MATCH(C31,'Weeks Calendar'!$C$12:$I$12,0)),\"\")&\nIFERROR(INDEX('Weeks Calendar'!$C$18:$I$22,2,MATCH(C31,'Weeks Calendar'!$C$18:$I$18,0)),\"\")&\nIFERROR(INDEX('Weeks Calendar'!$C$24:$I$28,2,MATCH(C31,'Weeks Calendar'!$C$24:$I$24,0)),\"\")&\nIFERROR(INDEX('Weeks Calendar'!$C$24:$I$28,2,MATCH(C31,'Weeks Calendar'!$C$30:$I$30,0)),\"\")","v":""},{"$f":"IFERROR(INDEX('Weeks Calendar'!$C$6:$I$10,2,MATCH(D31,'Weeks Calendar'!$C$6:$I$6,0)),\"\")&\nIFERROR(INDEX('Weeks Calendar'!$C$12:$I$16,2,MATCH(D31,'Weeks Calendar'!$C$12:$I$12,0)),\"\")&\nIFERROR(INDEX('Weeks Calendar'!$C$18:$I$22,2,MATCH(D31,'Weeks Calendar'!$C$18:$I$18,0)),\"\")&\nIFERROR(INDEX('Weeks Calendar'!$C$24:$I$28,2,MATCH(D31,'Weeks Calendar'!$C$24:$I$24,0)),\"\")&\nIFERROR(INDEX('Weeks Calendar'!$C$24:$I$28,2,MATCH(D31,'Weeks Calendar'!$C$30:$I$30,0)),\"\")","v":""},{"$f":"IFERROR(INDEX('Weeks Calendar'!$C$6:$I$10,2,MATCH(E31,'Weeks Calendar'!$C$6:$I$6,0)),\"\")&\nIFERROR(INDEX('Weeks Calendar'!$C$12:$I$16,2,MATCH(E31,'Weeks Calendar'!$C$12:$I$12,0)),\"\")&\nIFERROR(INDEX('Weeks Calendar'!$C$18:$I$22,2,MATCH(E31,'Weeks Calendar'!$C$18:$I$18,0)),\"\")&\nIFERROR(INDEX('Weeks Calendar'!$C$24:$I$28,2,MATCH(E31,'Weeks Calendar'!$C$24:$I$24,0)),\"\")&\nIFERROR(INDEX('Weeks Calendar'!$C$24:$I$28,2,MATCH(E31,'Weeks Calendar'!$C$30:$I$30,0)),\"\")","v":""},{"$f":"IFERROR(INDEX('Weeks Calendar'!$C$6:$I$10,2,MATCH(F31,'Weeks Calendar'!$C$6:$I$6,0)),\"\")&\nIFERROR(INDEX('Weeks Calendar'!$C$12:$I$16,2,MATCH(F31,'Weeks Calendar'!$C$12:$I$12,0)),\"\")&\nIFERROR(INDEX('Weeks Calendar'!$C$18:$I$22,2,MATCH(F31,'Weeks Calendar'!$C$18:$I$18,0)),\"\")&\nIFERROR(INDEX('Weeks Calendar'!$C$24:$I$28,2,MATCH(F31,'Weeks Calendar'!$C$24:$I$24,0)),\"\")&\nIFERROR(INDEX('Weeks Calendar'!$C$24:$I$28,2,MATCH(F31,'Weeks Calendar'!$C$30:$I$30,0)),\"\")","v":""},{"$f":"IFERROR(INDEX('Weeks Calendar'!$C$6:$I$10,2,MATCH(G31,'Weeks Calendar'!$C$6:$I$6,0)),\"\")&\nIFERROR(INDEX('Weeks Calendar'!$C$12:$I$16,2,MATCH(G31,'Weeks Calendar'!$C$12:$I$12,0)),\"\")&\nIFERROR(INDEX('Weeks Calendar'!$C$18:$I$22,2,MATCH(G31,'Weeks Calendar'!$C$18:$I$18,0)),\"\")&\nIFERROR(INDEX('Weeks Calendar'!$C$24:$I$28,2,MATCH(G31,'Weeks Calendar'!$C$24:$I$24,0)),\"\")&\nIFERROR(INDEX('Weeks Calendar'!$C$24:$I$28,2,MATCH(G31,'Weeks Calendar'!$C$30:$I$30,0)),\"\")","v":""},{"$f":"IFERROR(INDEX('Weeks Calendar'!$C$6:$I$10,2,MATCH(H31,'Weeks Calendar'!$C$6:$I$6,0)),\"\")&\nIFERROR(INDEX('Weeks Calendar'!$C$12:$I$16,2,MATCH(H31,'Weeks Calendar'!$C$12:$I$12,0)),\"\")&\nIFERROR(INDEX('Weeks Calendar'!$C$18:$I$22,2,MATCH(H31,'Weeks Calendar'!$C$18:$I$18,0)),\"\")&\nIFERROR(INDEX('Weeks Calendar'!$C$24:$I$28,2,MATCH(H31,'Weeks Calendar'!$C$24:$I$24,0)),\"\")&\nIFERROR(INDEX('Weeks Calendar'!$C$24:$I$28,2,MATCH(H31,'Weeks Calendar'!$C$30:$I$30,0)),\"\")","v":""}]
["to Select",{"$f":"IFERROR(INDEX('Weeks Calendar'!$C$6:$I$10,3,MATCH(B31,'Weeks Calendar'!$C$6:$I$6,0)),\"\")&\nIFERROR(INDEX('Weeks Calendar'!$C$12:$I$16,3,MATCH(B31,'Weeks Calendar'!$C$12:$I$12,0)),\"\")&\nIFERROR(INDEX('Weeks Calendar'!$C$18:$I$22,3,MATCH(B31,'Weeks Calendar'!$C$18:$I$18,0)),\"\")&\nIFERROR(INDEX('Weeks Calendar'!$C$24:$I$28,3,MATCH(B31,'Weeks Calendar'!$C$24:$I$24,0)),\"\")&\nIFERROR(INDEX('Weeks Calendar'!$C$24:$I$28,3,MATCH(B31,'Weeks Calendar'!$C$30:$I$30,0)),\"\")","v":""},{"$f":"IFERROR(INDEX('Weeks Calendar'!$C$6:$I$10,3,MATCH(C31,'Weeks Calendar'!$C$6:$I$6,0)),\"\")&\nIFERROR(INDEX('Weeks Calendar'!$C$12:$I$16,3,MATCH(C31,'Weeks Calendar'!$C$12:$I$12,0)),\"\")&\nIFERROR(INDEX('Weeks Calendar'!$C$18:$I$22,3,MATCH(C31,'Weeks Calendar'!$C$18:$I$18,0)),\"\")&\nIFERROR(INDEX('Weeks Calendar'!$C$24:$I$28,3,MATCH(C31,'Weeks Calendar'!$C$24:$I$24,0)),\"\")&\nIFERROR(INDEX('Weeks Calendar'!$C$24:$I$28,3,MATCH(C31,'Weeks Calendar'!$C$30:$I$30,0)),\"\")","v":""},{"$f":"IFERROR(INDEX('Weeks Calendar'!$C$6:$I$10,3,MATCH(D31,'Weeks Calendar'!$C$6:$I$6,0)),\"\")&\nIFERROR(INDEX('Weeks Calendar'!$C$12:$I$16,3,MATCH(D31,'Weeks Calendar'!$C$12:$I$12,0)),\"\")&\nIFERROR(INDEX('Weeks Calendar'!$C$18:$I$22,3,MATCH(D31,'Weeks Calendar'!$C$18:$I$18,0)),\"\")&\nIFERROR(INDEX('Weeks Calendar'!$C$24:$I$28,3,MATCH(D31,'Weeks Calendar'!$C$24:$I$24,0)),\"\")&\nIFERROR(INDEX('Weeks Calendar'!$C$24:$I$28,3,MATCH(D31,'Weeks Calendar'!$C$30:$I$30,0)),\"\")","v":""},{"$f":"IFERROR(INDEX('Weeks Calendar'!$C$6:$I$10,3,MATCH(E31,'Weeks Calendar'!$C$6:$I$6,0)),\"\")&\nIFERROR(INDEX('Weeks Calendar'!$C$12:$I$16,3,MATCH(E31,'Weeks Calendar'!$C$12:$I$12,0)),\"\")&\nIFERROR(INDEX('Weeks Calendar'!$C$18:$I$22,3,MATCH(E31,'Weeks Calendar'!$C$18:$I$18,0)),\"\")&\nIFERROR(INDEX('Weeks Calendar'!$C$24:$I$28,3,MATCH(E31,'Weeks Calendar'!$C$24:$I$24,0)),\"\")&\nIFERROR(INDEX('Weeks Calendar'!$C$24:$I$28,3,MATCH(E31,'Weeks Calendar'!$C$30:$I$30,0)),\"\")","v":""},{"$f":"IFERROR(INDEX('Weeks Calendar'!$C$6:$I$10,3,MATCH(F31,'Weeks Calendar'!$C$6:$I$6,0)),\"\")&\nIFERROR(INDEX('Weeks Calendar'!$C$12:$I$16,3,MATCH(F31,'Weeks Calendar'!$C$12:$I$12,0)),\"\")&\nIFERROR(INDEX('Weeks Calendar'!$C$18:$I$22,3,MATCH(F31,'Weeks Calendar'!$C$18:$I$18,0)),\"\")&\nIFERROR(INDEX('Weeks Calendar'!$C$24:$I$28,3,MATCH(F31,'Weeks Calendar'!$C$24:$I$24,0)),\"\")&\nIFERROR(INDEX('Weeks Calendar'!$C$24:$I$28,3,MATCH(F31,'Weeks Calendar'!$C$30:$I$30,0)),\"\")","v":""},{"$f":"IFERROR(INDEX('Weeks Calendar'!$C$6:$I$10,3,MATCH(G31,'Weeks Calendar'!$C$6:$I$6,0)),\"\")&\nIFERROR(INDEX('Weeks Calendar'!$C$12:$I$16,3,MATCH(G31,'Weeks Calendar'!$C$12:$I$12,0)),\"\")&\nIFERROR(INDEX('Weeks Calendar'!$C$18:$I$22,3,MATCH(G31,'Weeks Calendar'!$C$18:$I$18,0)),\"\")&\nIFERROR(INDEX('Weeks Calendar'!$C$24:$I$28,3,MATCH(G31,'Weeks Calendar'!$C$24:$I$24,0)),\"\")&\nIFERROR(INDEX('Weeks Calendar'!$C$24:$I$28,3,MATCH(G31,'Weeks Calendar'!$C$30:$I$30,0)),\"\")","v":""},{"$f":"IFERROR(INDEX('Weeks Calendar'!$C$6:$I$10,3,MATCH(H31,'Weeks Calendar'!$C$6:$I$6,0)),\"\")&\nIFERROR(INDEX('Weeks Calendar'!$C$12:$I$16,3,MATCH(H31,'Weeks Calendar'!$C$12:$I$12,0)),\"\")&\nIFERROR(INDEX('Weeks Calendar'!$C$18:$I$22,3,MATCH(H31,'Weeks Calendar'!$C$18:$I$18,0)),\"\")&\nIFERROR(INDEX('Weeks Calendar'!$C$24:$I$28,3,MATCH(H31,'Weeks Calendar'!$C$24:$I$24,0)),\"\")&\nIFERROR(INDEX('Weeks Calendar'!$C$24:$I$28,3,MATCH(H31,'Weeks Calendar'!$C$30:$I$30,0)),\"\")","v":""}]
["Grocery Menus",{"$f":"IFERROR(INDEX('Weeks Calendar'!$C$6:$I$10,4,MATCH(B31,'Weeks Calendar'!$C$6:$I$6,0)),\"\")&\nIFERROR(INDEX('Weeks Calendar'!$C$12:$I$16,4,MATCH(B31,'Weeks Calendar'!$C$12:$I$12,0)),\"\")&\nIFERROR(INDEX('Weeks Calendar'!$C$18:$I$22,4,MATCH(B31,'Weeks Calendar'!$C$18:$I$18,0)),\"\")&\nIFERROR(INDEX('Weeks Calendar'!$C$24:$I$28,4,MATCH(B31,'Weeks Calendar'!$C$24:$I$24,0)),\"\")&\nIFERROR(INDEX('Weeks Calendar'!$C$24:$I$28,4,MATCH(B31,'Weeks Calendar'!$C$30:$I$30,0)),\"\")","v":""},{"$f":"IFERROR(INDEX('Weeks Calendar'!$C$6:$I$10,4,MATCH(C31,'Weeks Calendar'!$C$6:$I$6,0)),\"\")&\nIFERROR(INDEX('Weeks Calendar'!$C$12:$I$16,4,MATCH(C31,'Weeks Calendar'!$C$12:$I$12,0)),\"\")&\nIFERROR(INDEX('Weeks Calendar'!$C$18:$I$22,4,MATCH(C31,'Weeks Calendar'!$C$18:$I$18,0)),\"\")&\nIFERROR(INDEX('Weeks Calendar'!$C$24:$I$28,4,MATCH(C31,'Weeks Calendar'!$C$24:$I$24,0)),\"\")&\nIFERROR(INDEX('Weeks Calendar'!$C$24:$I$28,4,MATCH(C31,'Weeks Calendar'!$C$30:$I$30,0)),\"\")","v":""},{"$f":"IFERROR(INDEX('Weeks Calendar'!$C$6:$I$10,4,MATCH(D31,'Weeks Calendar'!$C$6:$I$6,0)),\"\")&\nIFERROR(INDEX('Weeks Calendar'!$C$12:$I$16,4,MATCH(D31,'Weeks Calendar'!$C$12:$I$12,0)),\"\")&\nIFERROR(INDEX('Weeks Calendar'!$C$18:$I$22,4,MATCH(D31,'Weeks Calendar'!$C$18:$I$18,0)),\"\")&\nIFERROR(INDEX('Weeks Calendar'!$C$24:$I$28,4,MATCH(D31,'Weeks Calendar'!$C$24:$I$24,0)),\"\")&\nIFERROR(INDEX('Weeks Calendar'!$C$24:$I$28,4,MATCH(D31,'Weeks Calendar'!$C$30:$I$30,0)),\"\")","v":""},{"$f":"IFERROR(INDEX('Weeks Calendar'!$C$6:$I$10,4,MATCH(E31,'Weeks Calendar'!$C$6:$I$6,0)),\"\")&\nIFERROR(INDEX('Weeks Calendar'!$C$12:$I$16,4,MATCH(E31,'Weeks Calendar'!$C$12:$I$12,0)),\"\")&\nIFERROR(INDEX('Weeks Calendar'!$C$18:$I$22,4,MATCH(E31,'Weeks Calendar'!$C$18:$I$18,0)),\"\")&\nIFERROR(INDEX('Weeks Calendar'!$C$24:$I$28,4,MATCH(E31,'Weeks Calendar'!$C$24:$I$24,0)),\"\")&\nIFERROR(INDEX('Weeks Calendar'!$C$24:$I$28,4,MATCH(E31,'Weeks Calendar'!$C$30:$I$30,0)),\"\")","v":""},{"$f":"IFERROR(INDEX('Weeks Calendar'!$C$6:$I$10,4,MATCH(F31,'Weeks Calendar'!$C$6:$I$6,0)),\"\")&\nIFERROR(INDEX('Weeks Calendar'!$C$12:$I$16,4,MATCH(F31,'Weeks Calendar'!$C$12:$I$12,0)),\"\")&\nIFERROR(INDEX('Weeks Calendar'!$C$18:$I$22,4,MATCH(F31,'Weeks Calendar'!$C$18:$I$18,0)),\"\")&\nIFERROR(INDEX('Weeks Calendar'!$C$24:$I$28,4,MATCH(F31,'Weeks Calendar'!$C$24:$I$24,0)),\"\")&\nIFERROR(INDEX('Weeks Calendar'!$C$24:$I$28,4,MATCH(F31,'Weeks Calendar'!$C$30:$I$30,0)),\"\")","v":""},{"$f":"IFERROR(INDEX('Weeks Calendar'!$C$6:$I$10,4,MATCH(G31,'Weeks Calendar'!$C$6:$I$6,0)),\"\")&\nIFERROR(INDEX('Weeks Calendar'!$C$12:$I$16,4,MATCH(G31,'Weeks Calendar'!$C$12:$I$12,0)),\"\")&\nIFERROR(INDEX('Weeks Calendar'!$C$18:$I$22,4,MATCH(G31,'Weeks Calendar'!$C$18:$I$18,0)),\"\")&\nIFERROR(INDEX('Weeks Calendar'!$C$24:$I$28,4,MATCH(G31,'Weeks Calendar'!$C$24:$I$24,0)),\"\")&\nIFERROR(INDEX('Weeks Calendar'!$C$24:$I$28,4,MATCH(G31,'Weeks Calendar'!$C$30:$I$30,0)),\"\")","v":""},{"$f":"IFERROR(INDEX('Weeks Calendar'!$C$6:$I$10,4,MATCH(H31,'Weeks Calendar'!$C$6:$I$6,0)),\"\")&\nIFERROR(INDEX('Weeks Calendar'!$C$12:$I$16,4,MATCH(H31,'Weeks Calendar'!$C$12:$I$12,0)),\"\")&\nIFERROR(INDEX('Weeks Calendar'!$C$18:$I$22,4,MATCH(H31,'Weeks Calendar'!$C$18:$I$18,0)),\"\")&\nIFERROR(INDEX('Weeks Calendar'!$C$24:$I$28,4,MATCH(H31,'Weeks Calendar'!$C$24:$I$24,0)),\"\")&\nIFERROR(INDEX('Weeks Calendar'!$C$24:$I$28,4,MATCH(H31,'Weeks Calendar'!$C$30:$I$30,0)),\"\")","v":""}]
[null,{"$f":"IFERROR(INDEX('Weeks Calendar'!$C$6:$I$10,5,MATCH(B31,'Weeks Calendar'!$C$6:$I$6,0)),\"\")&\nIFERROR(INDEX('Weeks Calendar'!$C$12:$I$16,5,MATCH(B31,'Weeks Calendar'!$C$12:$I$12,0)),\"\")&\nIFERROR(INDEX('Weeks Calendar'!$C$18:$I$22,5,MATCH(B31,'Weeks Calendar'!$C$18:$I$18,0)),\"\")&\nIFERROR(INDEX('Weeks Calendar'!$C$24:$I$28,5,MATCH(B31,'Weeks Calendar'!$C$24:$I$24,0)),\"\")&\nIFERROR(INDEX('Weeks Calendar'!$C$24:$I$28,5,MATCH(B31,'Weeks Calendar'!$C$30:$I$30,0)),\"\")","v":""},{"$f":"IFERROR(INDEX('Weeks Calendar'!$C$6:$I$10,5,MATCH(C31,'Weeks Calendar'!$C$6:$I$6,0)),\"\")&\nIFERROR(INDEX('Weeks Calendar'!$C$12:$I$16,5,MATCH(C31,'Weeks Calendar'!$C$12:$I$12,0)),\"\")&\nIFERROR(INDEX('Weeks Calendar'!$C$18:$I$22,5,MATCH(C31,'Weeks Calendar'!$C$18:$I$18,0)),\"\")&\nIFERROR(INDEX('Weeks Calendar'!$C$24:$I$28,5,MATCH(C31,'Weeks Calendar'!$C$24:$I$24,0)),\"\")&\nIFERROR(INDEX('Weeks Calendar'!$C$24:$I$28,5,MATCH(C31,'Weeks Calendar'!$C$30:$I$30,0)),\"\")","v":""},{"$f":"IFERROR(INDEX('Weeks Calendar'!$C$6:$I$10,5,MATCH(D31,'Weeks Calendar'!$C$6:$I$6,0)),\"\")&\nIFERROR(INDEX('Weeks Calendar'!$C$12:$I$16,5,MATCH(D31,'Weeks Calendar'!$C$12:$I$12,0)),\"\")&\nIFERROR(INDEX('Weeks Calendar'!$C$18:$I$22,5,MATCH(D31,'Weeks Calendar'!$C$18:$I$18,0)),\"\")&\nIFERROR(INDEX('Weeks Calendar'!$C$24:$I$28,5,MATCH(D31,'Weeks Calendar'!$C$24:$I$24,0)),\"\")&\nIFERROR(INDEX('Weeks Calendar'!$C$24:$I$28,5,MATCH(D31,'Weeks Calendar'!$C$30:$I$30,0)),\"\")","v":""},{"$f":"IFERROR(INDEX('Weeks Calendar'!$C$6:$I$10,5,MATCH(E31,'Weeks Calendar'!$C$6:$I$6,0)),\"\")&\nIFERROR(INDEX('Weeks Calendar'!$C$12:$I$16,5,MATCH(E31,'Weeks Calendar'!$C$12:$I$12,0)),\"\")&\nIFERROR(INDEX('Weeks Calendar'!$C$18:$I$22,5,MATCH(E31,'Weeks Calendar'!$C$18:$I$18,0)),\"\")&\nIFERROR(INDEX('Weeks Calendar'!$C$24:$I$28,5,MATCH(E31,'Weeks Calendar'!$C$24:$I$24,0)),\"\")&\nIFERROR(INDEX('Weeks Calendar'!$C$24:$I$28,5,MATCH(E31,'Weeks Calendar'!$C$30:$I$30,0)),\"\")","v":""},{"$f":"IFERROR(INDEX('Weeks Calendar'!$C$6:$I$10,5,MATCH(F31,'Weeks Calendar'!$C$6:$I$6,0)),\"\")&\nIFERROR(INDEX('Weeks Calendar'!$C$12:$I$16,5,MATCH(F31,'Weeks Calendar'!$C$12:$I$12,0)),\"\")&\nIFERROR(INDEX('Weeks Calendar'!$C$18:$I$22,5,MATCH(F31,'Weeks Calendar'!$C$18:$I$18,0)),\"\")&\nIFERROR(INDEX('Weeks Calendar'!$C$24:$I$28,5,MATCH(F31,'Weeks Calendar'!$C$24:$I$24,0)),\"\")&\nIFERROR(INDEX('Weeks Calendar'!$C$24:$I$28,5,MATCH(F31,'Weeks Calendar'!$C$30:$I$30,0)),\"\")","v":""},{"$f":"IFERROR(INDEX('Weeks Calendar'!$C$6:$I$10,5,MATCH(G31,'Weeks Calendar'!$C$6:$I$6,0)),\"\")&\nIFERROR(INDEX('Weeks Calendar'!$C$12:$I$16,5,MATCH(G31,'Weeks Calendar'!$C$12:$I$12,0)),\"\")&\nIFERROR(INDEX('Weeks Calendar'!$C$18:$I$22,5,MATCH(G31,'Weeks Calendar'!$C$18:$I$18,0)),\"\")&\nIFERROR(INDEX('Weeks Calendar'!$C$24:$I$28,5,MATCH(G31,'Weeks Calendar'!$C$24:$I$24,0)),\"\")&\nIFERROR(INDEX('Weeks Calendar'!$C$24:$I$28,5,MATCH(G31,'Weeks Calendar'!$C$30:$I$30,0)),\"\")","v":""},{"$f":"IFERROR(INDEX('Weeks Calendar'!$C$6:$I$10,5,MATCH(H31,'Weeks Calendar'!$C$6:$I$6,0)),\"\")&\nIFERROR(INDEX('Weeks Calendar'!$C$12:$I$16,5,MATCH(H31,'Weeks Calendar'!$C$12:$I$12,0)),\"\")&\nIFERROR(INDEX('Weeks Calendar'!$C$18:$I$22,5,MATCH(H31,'Weeks Calendar'!$C$18:$I$18,0)),\"\")&\nIFERROR(INDEX('Weeks Calendar'!$C$24:$I$28,5,MATCH(H31,'Weeks Calendar'!$C$24:$I$24,0)),\"\")&\nIFERROR(INDEX('Weeks Calendar'!$C$24:$I$28,5,MATCH(H31,'Weeks Calendar'!$C$30:$I$30,0)),\"\")","v":""}]
[null,{"$f":"IFERROR(IF(OR(H30=$J$4,H30=\"\",ISERR(H30)),\"\",H30+1),\"\")","v":""},{"$f":"IFERROR(IF(OR(B36=$J$4,B36=\"\",ISERR(B36)),\"\",B36+1),\"\")","v":""},"","","","",""]
["----->"]
["Use This Cell",{"$f":"IFERROR(INDEX('Weeks Calendar'!$C$6:$I$10,2,MATCH(B37,'Weeks Calendar'!$C$6:$I$6,0)),\"\")&\nIFERROR(INDEX('Weeks Calendar'!$C$12:$I$16,2,MATCH(B37,'Weeks Calendar'!$C$12:$I$12,0)),\"\")&\nIFERROR(INDEX('Weeks Calendar'!$C$18:$I$22,2,MATCH(B37,'Weeks Calendar'!$C$18:$I$18,0)),\"\")&\nIFERROR(INDEX('Weeks Calendar'!$C$24:$I$28,2,MATCH(B37,'Weeks Calendar'!$C$24:$I$24,0)),\"\")&\nIFERROR(INDEX('Weeks Calendar'!$C$24:$I$28,2,MATCH(B37,'Weeks Calendar'!$C$30:$I$30,0)),\"\")","v":""},{"$f":"IFERROR(INDEX('Weeks Calendar'!$C$6:$I$10,2,MATCH(C37,'Weeks Calendar'!$C$6:$I$6,0)),\"\")&\nIFERROR(INDEX('Weeks Calendar'!$C$12:$I$16,2,MATCH(C37,'Weeks Calendar'!$C$12:$I$12,0)),\"\")&\nIFERROR(INDEX('Weeks Calendar'!$C$18:$I$22,2,MATCH(C37,'Weeks Calendar'!$C$18:$I$18,0)),\"\")&\nIFERROR(INDEX('Weeks Calendar'!$C$24:$I$28,2,MATCH(C37,'Weeks Calendar'!$C$24:$I$24,0)),\"\")&\nIFERROR(INDEX('Weeks Calendar'!$C$24:$I$28,2,MATCH(C37,'Weeks Calendar'!$C$30:$I$30,0)),\"\")","v":""},{"$f":"IFERROR(INDEX('Weeks Calendar'!$C$6:$I$10,2,MATCH(D37,'Weeks Calendar'!$C$6:$I$6,0)),\"\")&\nIFERROR(INDEX('Weeks Calendar'!$C$12:$I$16,2,MATCH(D37,'Weeks Calendar'!$C$12:$I$12,0)),\"\")&\nIFERROR(INDEX('Weeks Calendar'!$C$18:$I$22,2,MATCH(D37,'Weeks Calendar'!$C$18:$I$18,0)),\"\")&\nIFERROR(INDEX('Weeks Calendar'!$C$24:$I$28,2,MATCH(D37,'Weeks Calendar'!$C$24:$I$24,0)),\"\")&\nIFERROR(INDEX('Weeks Calendar'!$C$24:$I$28,2,MATCH(D37,'Weeks Calendar'!$C$30:$I$30,0)),\"\")","v":""},{"$f":"IFERROR(INDEX('Weeks Calendar'!$C$6:$I$10,2,MATCH(E37,'Weeks Calendar'!$C$6:$I$6,0)),\"\")&\nIFERROR(INDEX('Weeks Calendar'!$C$12:$I$16,2,MATCH(E37,'Weeks Calendar'!$C$12:$I$12,0)),\"\")&\nIFERROR(INDEX('Weeks Calendar'!$C$18:$I$22,2,MATCH(E37,'Weeks Calendar'!$C$18:$I$18,0)),\"\")&\nIFERROR(INDEX('Weeks Calendar'!$C$24:$I$28,2,MATCH(E37,'Weeks Calendar'!$C$24:$I$24,0)),\"\")&\nIFERROR(INDEX('Weeks Calendar'!$C$24:$I$28,2,MATCH(E37,'Weeks Calendar'!$C$30:$I$30,0)),\"\")","v":""},{"$f":"IFERROR(INDEX('Weeks Calendar'!$C$6:$I$10,2,MATCH(F37,'Weeks Calendar'!$C$6:$I$6,0)),\"\")&\nIFERROR(INDEX('Weeks Calendar'!$C$12:$I$16,2,MATCH(F37,'Weeks Calendar'!$C$12:$I$12,0)),\"\")&\nIFERROR(INDEX('Weeks Calendar'!$C$18:$I$22,2,MATCH(F37,'Weeks Calendar'!$C$18:$I$18,0)),\"\")&\nIFERROR(INDEX('Weeks Calendar'!$C$24:$I$28,2,MATCH(F37,'Weeks Calendar'!$C$24:$I$24,0)),\"\")&\nIFERROR(INDEX('Weeks Calendar'!$C$24:$I$28,2,MATCH(F37,'Weeks Calendar'!$C$30:$I$30,0)),\"\")","v":""},{"$f":"IFERROR(INDEX('Weeks Calendar'!$C$6:$I$10,2,MATCH(G37,'Weeks Calendar'!$C$6:$I$6,0)),\"\")&\nIFERROR(INDEX('Weeks Calendar'!$C$12:$I$16,2,MATCH(G37,'Weeks Calendar'!$C$12:$I$12,0)),\"\")&\nIFERROR(INDEX('Weeks Calendar'!$C$18:$I$22,2,MATCH(G37,'Weeks Calendar'!$C$18:$I$18,0)),\"\")&\nIFERROR(INDEX('Weeks Calendar'!$C$24:$I$28,2,MATCH(G37,'Weeks Calendar'!$C$24:$I$24,0)),\"\")&\nIFERROR(INDEX('Weeks Calendar'!$C$24:$I$28,2,MATCH(G37,'Weeks Calendar'!$C$30:$I$30,0)),\"\")","v":""},{"$f":"IFERROR(INDEX('Weeks Calendar'!$C$6:$I$10,2,MATCH(H37,'Weeks Calendar'!$C$6:$I$6,0)),\"\")&\nIFERROR(INDEX('Weeks Calendar'!$C$12:$I$16,2,MATCH(H37,'Weeks Calendar'!$C$12:$I$12,0)),\"\")&\nIFERROR(INDEX('Weeks Calendar'!$C$18:$I$22,2,MATCH(H37,'Weeks Calendar'!$C$18:$I$18,0)),\"\")&\nIFERROR(INDEX('Weeks Calendar'!$C$24:$I$28,2,MATCH(H37,'Weeks Calendar'!$C$24:$I$24,0)),\"\")&\nIFERROR(INDEX('Weeks Calendar'!$C$24:$I$28,2,MATCH(H37,'Weeks Calendar'!$C$30:$I$30,0)),\"\")","v":""}]
["to Select",{"$f":"IFERROR(INDEX('Weeks Calendar'!$C$6:$I$10,3,MATCH(B37,'Weeks Calendar'!$C$6:$I$6,0)),\"\")&\nIFERROR(INDEX('Weeks Calendar'!$C$12:$I$16,3,MATCH(B37,'Weeks Calendar'!$C$12:$I$12,0)),\"\")&\nIFERROR(INDEX('Weeks Calendar'!$C$18:$I$22,3,MATCH(B37,'Weeks Calendar'!$C$18:$I$18,0)),\"\")&\nIFERROR(INDEX('Weeks Calendar'!$C$24:$I$28,3,MATCH(B37,'Weeks Calendar'!$C$24:$I$24,0)),\"\")&\nIFERROR(INDEX('Weeks Calendar'!$C$24:$I$28,3,MATCH(B37,'Weeks Calendar'!$C$30:$I$30,0)),\"\")","v":""},{"$f":"IFERROR(INDEX('Weeks Calendar'!$C$6:$I$10,3,MATCH(C37,'Weeks Calendar'!$C$6:$I$6,0)),\"\")&\nIFERROR(INDEX('Weeks Calendar'!$C$12:$I$16,3,MATCH(C37,'Weeks Calendar'!$C$12:$I$12,0)),\"\")&\nIFERROR(INDEX('Weeks Calendar'!$C$18:$I$22,3,MATCH(C37,'Weeks Calendar'!$C$18:$I$18,0)),\"\")&\nIFERROR(INDEX('Weeks Calendar'!$C$24:$I$28,3,MATCH(C37,'Weeks Calendar'!$C$24:$I$24,0)),\"\")&\nIFERROR(INDEX('Weeks Calendar'!$C$24:$I$28,3,MATCH(C37,'Weeks Calendar'!$C$30:$I$30,0)),\"\")","v":""},{"$f":"IFERROR(INDEX('Weeks Calendar'!$C$6:$I$10,3,MATCH(D37,'Weeks Calendar'!$C$6:$I$6,0)),\"\")&\nIFERROR(INDEX('Weeks Calendar'!$C$12:$I$16,3,MATCH(D37,'Weeks Calendar'!$C$12:$I$12,0)),\"\")&\nIFERROR(INDEX('Weeks Calendar'!$C$18:$I$22,3,MATCH(D37,'Weeks Calendar'!$C$18:$I$18,0)),\"\")&\nIFERROR(INDEX('Weeks Calendar'!$C$24:$I$28,3,MATCH(D37,'Weeks Calendar'!$C$24:$I$24,0)),\"\")&\nIFERROR(INDEX('Weeks Calendar'!$C$24:$I$28,3,MATCH(D37,'Weeks Calendar'!$C$30:$I$30,0)),\"\")","v":""},{"$f":"IFERROR(INDEX('Weeks Calendar'!$C$6:$I$10,3,MATCH(E37,'Weeks Calendar'!$C$6:$I$6,0)),\"\")&\nIFERROR(INDEX('Weeks Calendar'!$C$12:$I$16,3,MATCH(E37,'Weeks Calendar'!$C$12:$I$12,0)),\"\")&\nIFERROR(INDEX('Weeks Calendar'!$C$18:$I$22,3,MATCH(E37,'Weeks Calendar'!$C$18:$I$18,0)),\"\")&\nIFERROR(INDEX('Weeks Calendar'!$C$24:$I$28,3,MATCH(E37,'Weeks Calendar'!$C$24:$I$24,0)),\"\")&\nIFERROR(INDEX('Weeks Calendar'!$C$24:$I$28,3,MATCH(E37,'Weeks Calendar'!$C$30:$I$30,0)),\"\")","v":""},{"$f":"IFERROR(INDEX('Weeks Calendar'!$C$6:$I$10,3,MATCH(F37,'Weeks Calendar'!$C$6:$I$6,0)),\"\")&\nIFERROR(INDEX('Weeks Calendar'!$C$12:$I$16,3,MATCH(F37,'Weeks Calendar'!$C$12:$I$12,0)),\"\")&\nIFERROR(INDEX('Weeks Calendar'!$C$18:$I$22,3,MATCH(F37,'Weeks Calendar'!$C$18:$I$18,0)),\"\")&\nIFERROR(INDEX('Weeks Calendar'!$C$24:$I$28,3,MATCH(F37,'Weeks Calendar'!$C$24:$I$24,0)),\"\")&\nIFERROR(INDEX('Weeks Calendar'!$C$24:$I$28,3,MATCH(F37,'Weeks Calendar'!$C$30:$I$30,0)),\"\")","v":""},{"$f":"IFERROR(INDEX('Weeks Calendar'!$C$6:$I$10,3,MATCH(G37,'Weeks Calendar'!$C$6:$I$6,0)),\"\")&\nIFERROR(INDEX('Weeks Calendar'!$C$12:$I$16,3,MATCH(G37,'Weeks Calendar'!$C$12:$I$12,0)),\"\")&\nIFERROR(INDEX('Weeks Calendar'!$C$18:$I$22,3,MATCH(G37,'Weeks Calendar'!$C$18:$I$18,0)),\"\")&\nIFERROR(INDEX('Weeks Calendar'!$C$24:$I$28,3,MATCH(G37,'Weeks Calendar'!$C$24:$I$24,0)),\"\")&\nIFERROR(INDEX('Weeks Calendar'!$C$24:$I$28,3,MATCH(G37,'Weeks Calendar'!$C$30:$I$30,0)),\"\")","v":""},{"$f":"IFERROR(INDEX('Weeks Calendar'!$C$6:$I$10,3,MATCH(H37,'Weeks Calendar'!$C$6:$I$6,0)),\"\")&\nIFERROR(INDEX('Weeks Calendar'!$C$12:$I$16,3,MATCH(H37,'Weeks Calendar'!$C$12:$I$12,0)),\"\")&\nIFERROR(INDEX('Weeks Calendar'!$C$18:$I$22,3,MATCH(H37,'Weeks Calendar'!$C$18:$I$18,0)),\"\")&\nIFERROR(INDEX('Weeks Calendar'!$C$24:$I$28,3,MATCH(H37,'Weeks Calendar'!$C$24:$I$24,0)),\"\")&\nIFERROR(INDEX('Weeks Calendar'!$C$24:$I$28,3,MATCH(H37,'Weeks Calendar'!$C$30:$I$30,0)),\"\")","v":""}]
["Grocery Menus",{"$f":"IFERROR(INDEX('Weeks Calendar'!$C$6:$I$10,4,MATCH(B37,'Weeks Calendar'!$C$6:$I$6,0)),\"\")&\nIFERROR(INDEX('Weeks Calendar'!$C$12:$I$16,4,MATCH(B37,'Weeks Calendar'!$C$12:$I$12,0)),\"\")&\nIFERROR(INDEX('Weeks Calendar'!$C$18:$I$22,4,MATCH(B37,'Weeks Calendar'!$C$18:$I$18,0)),\"\")&\nIFERROR(INDEX('Weeks Calendar'!$C$24:$I$28,4,MATCH(B37,'Weeks Calendar'!$C$24:$I$24,0)),\"\")&\nIFERROR(INDEX('Weeks Calendar'!$C$24:$I$28,4,MATCH(B37,'Weeks Calendar'!$C$30:$I$30,0)),\"\")","v":""},{"$f":"IFERROR(INDEX('Weeks Calendar'!$C$6:$I$10,4,MATCH(C37,'Weeks Calendar'!$C$6:$I$6,0)),\"\")&\nIFERROR(INDEX('Weeks Calendar'!$C$12:$I$16,4,MATCH(C37,'Weeks Calendar'!$C$12:$I$12,0)),\"\")&\nIFERROR(INDEX('Weeks Calendar'!$C$18:$I$22,4,MATCH(C37,'Weeks Calendar'!$C$18:$I$18,0)),\"\")&\nIFERROR(INDEX('Weeks Calendar'!$C$24:$I$28,4,MATCH(C37,'Weeks Calendar'!$C$24:$I$24,0)),\"\")&\nIFERROR(INDEX('Weeks Calendar'!$C$24:$I$28,4,MATCH(C37,'Weeks Calendar'!$C$30:$I$30,0)),\"\")","v":""},{"$f":"IFERROR(INDEX('Weeks Calendar'!$C$6:$I$10,4,MATCH(D37,'Weeks Calendar'!$C$6:$I$6,0)),\"\")&\nIFERROR(INDEX('Weeks Calendar'!$C$12:$I$16,4,MATCH(D37,'Weeks Calendar'!$C$12:$I$12,0)),\"\")&\nIFERROR(INDEX('Weeks Calendar'!$C$18:$I$22,4,MATCH(D37,'Weeks Calendar'!$C$18:$I$18,0)),\"\")&\nIFERROR(INDEX('Weeks Calendar'!$C$24:$I$28,4,MATCH(D37,'Weeks Calendar'!$C$24:$I$24,0)),\"\")&\nIFERROR(INDEX('Weeks Calendar'!$C$24:$I$28,4,MATCH(D37,'Weeks Calendar'!$C$30:$I$30,0)),\"\")","v":""},{"$f":"IFERROR(INDEX('Weeks Calendar'!$C$6:$I$10,4,MATCH(E37,'Weeks Calendar'!$C$6:$I$6,0)),\"\")&\nIFERROR(INDEX('Weeks Calendar'!$C$12:$I$16,4,MATCH(E37,'Weeks Calendar'!$C$12:$I$12,0)),\"\")&\nIFERROR(INDEX('Weeks Calendar'!$C$18:$I$22,4,MATCH(E37,'Weeks Calendar'!$C$18:$I$18,0)),\"\")&\nIFERROR(INDEX('Weeks Calendar'!$C$24:$I$28,4,MATCH(E37,'Weeks Calendar'!$C$24:$I$24,0)),\"\")&\nIFERROR(INDEX('Weeks Calendar'!$C$24:$I$28,4,MATCH(E37,'Weeks Calendar'!$C$30:$I$30,0)),\"\")","v":""},{"$f":"IFERROR(INDEX('Weeks Calendar'!$C$6:$I$10,4,MATCH(F37,'Weeks Calendar'!$C$6:$I$6,0)),\"\")&\nIFERROR(INDEX('Weeks Calendar'!$C$12:$I$16,4,MATCH(F37,'Weeks Calendar'!$C$12:$I$12,0)),\"\")&\nIFERROR(INDEX('Weeks Calendar'!$C$18:$I$22,4,MATCH(F37,'Weeks Calendar'!$C$18:$I$18,0)),\"\")&\nIFERROR(INDEX('Weeks Calendar'!$C$24:$I$28,4,MATCH(F37,'Weeks Calendar'!$C$24:$I$24,0)),\"\")&\nIFERROR(INDEX('Weeks Calendar'!$C$24:$I$28,4,MATCH(F37,'Weeks Calendar'!$C$30:$I$30,0)),\"\")","v":""},{"$f":"IFERROR(INDEX('Weeks Calendar'!$C$6:$I$10,4,MATCH(G37,'Weeks Calendar'!$C$6:$I$6,0)),\"\")&\nIFERROR(INDEX('Weeks Calendar'!$C$12:$I$16,4,MATCH(G37,'Weeks Calendar'!$C$12:$I$12,0)),\"\")&\nIFERROR(INDEX('Weeks Calendar'!$C$18:$I$22,4,MATCH(G37,'Weeks Calendar'!$C$18:$I$18,0)),\"\")&\nIFERROR(INDEX('Weeks Calendar'!$C$24:$I$28,4,MATCH(G37,'Weeks Calendar'!$C$24:$I$24,0)),\"\")&\nIFERROR(INDEX('Weeks Calendar'!$C$24:$I$28,4,MATCH(G37,'Weeks Calendar'!$C$30:$I$30,0)),\"\")","v":""},{"$f":"IFERROR(INDEX('Weeks Calendar'!$C$6:$I$10,4,MATCH(H37,'Weeks Calendar'!$C$6:$I$6,0)),\"\")&\nIFERROR(INDEX('Weeks Calendar'!$C$12:$I$16,4,MATCH(H37,'Weeks Calendar'!$C$12:$I$12,0)),\"\")&\nIFERROR(INDEX('Weeks Calendar'!$C$18:$I$22,4,MATCH(H37,'Weeks Calendar'!$C$18:$I$18,0)),\"\")&\nIFERROR(INDEX('Weeks Calendar'!$C$24:$I$28,4,MATCH(H37,'Weeks Calendar'!$C$24:$I$24,0)),\"\")&\nIFERROR(INDEX('Weeks Calendar'!$C$24:$I$28,4,MATCH(H37,'Weeks Calendar'!$C$30:$I$30,0)),\"\")","v":""}]
[null,{"$f":"IFERROR(INDEX('Weeks Calendar'!$C$6:$I$10,5,MATCH(B37,'Weeks Calendar'!$C$6:$I$6,0)),\"\")&\nIFERROR(INDEX('Weeks Calendar'!$C$12:$I$16,5,MATCH(B37,'Weeks Calendar'!$C$12:$I$12,0)),\"\")&\nIFERROR(INDEX('Weeks Calendar'!$C$18:$I$22,5,MATCH(B37,'Weeks Calendar'!$C$18:$I$18,0)),\"\")&\nIFERROR(INDEX('Weeks Calendar'!$C$24:$I$28,5,MATCH(B37,'Weeks Calendar'!$C$24:$I$24,0)),\"\")&\nIFERROR(INDEX('Weeks Calendar'!$C$24:$I$28,5,MATCH(B37,'Weeks Calendar'!$C$30:$I$30,0)),\"\")","v":""},{"$f":"IFERROR(INDEX('Weeks Calendar'!$C$6:$I$10,5,MATCH(C37,'Weeks Calendar'!$C$6:$I$6,0)),\"\")&\nIFERROR(INDEX('Weeks Calendar'!$C$12:$I$16,5,MATCH(C37,'Weeks Calendar'!$C$12:$I$12,0)),\"\")&\nIFERROR(INDEX('Weeks Calendar'!$C$18:$I$22,5,MATCH(C37,'Weeks Calendar'!$C$18:$I$18,0)),\"\")&\nIFERROR(INDEX('Weeks Calendar'!$C$24:$I$28,5,MATCH(C37,'Weeks Calendar'!$C$24:$I$24,0)),\"\")&\nIFERROR(INDEX('Weeks Calendar'!$C$24:$I$28,5,MATCH(C37,'Weeks Calendar'!$C$30:$I$30,0)),\"\")","v":""},{"$f":"IFERROR(INDEX('Weeks Calendar'!$C$6:$I$10,5,MATCH(D37,'Weeks Calendar'!$C$6:$I$6,0)),\"\")&\nIFERROR(INDEX('Weeks Calendar'!$C$12:$I$16,5,MATCH(D37,'Weeks Calendar'!$C$12:$I$12,0)),\"\")&\nIFERROR(INDEX('Weeks Calendar'!$C$18:$I$22,5,MATCH(D37,'Weeks Calendar'!$C$18:$I$18,0)),\"\")&\nIFERROR(INDEX('Weeks Calendar'!$C$24:$I$28,5,MATCH(D37,'Weeks Calendar'!$C$24:$I$24,0)),\"\")&\nIFERROR(INDEX('Weeks Calendar'!$C$24:$I$28,5,MATCH(D37,'Weeks Calendar'!$C$30:$I$30,0)),\"\")","v":""},{"$f":"IFERROR(INDEX('Weeks Calendar'!$C$6:$I$10,5,MATCH(E37,'Weeks Calendar'!$C$6:$I$6,0)),\"\")&\nIFERROR(INDEX('Weeks Calendar'!$C$12:$I$16,5,MATCH(E37,'Weeks Calendar'!$C$12:$I$12,0)),\"\")&\nIFERROR(INDEX('Weeks Calendar'!$C$18:$I$22,5,MATCH(E37,'Weeks Calendar'!$C$18:$I$18,0)),\"\")&\nIFERROR(INDEX('Weeks Calendar'!$C$24:$I$28,5,MATCH(E37,'Weeks Calendar'!$C$24:$I$24,0)),\"\")&\nIFERROR(INDEX('Weeks Calendar'!$C$24:$I$28,5,MATCH(E37,'Weeks Calendar'!$C$30:$I$30,0)),\"\")","v":""},{"$f":"IFERROR(INDEX('Weeks Calendar'!$C$6:$I$10,5,MATCH(F37,'Weeks Calendar'!$C$6:$I$6,0)),\"\")&\nIFERROR(INDEX('Weeks Calendar'!$C$12:$I$16,5,MATCH(F37,'Weeks Calendar'!$C$12:$I$12,0)),\"\")&\nIFERROR(INDEX('Weeks Calendar'!$C$18:$I$22,5,MATCH(F37,'Weeks Calendar'!$C$18:$I$18,0)),\"\")&\nIFERROR(INDEX('Weeks Calendar'!$C$24:$I$28,5,MATCH(F37,'Weeks Calendar'!$C$24:$I$24,0)),\"\")&\nIFERROR(INDEX('Weeks Calendar'!$C$24:$I$28,5,MATCH(F37,'Weeks Calendar'!$C$30:$I$30,0)),\"\")","v":""},{"$f":"IFERROR(INDEX('Weeks Calendar'!$C$6:$I$10,5,MATCH(G37,'Weeks Calendar'!$C$6:$I$6,0)),\"\")&\nIFERROR(INDEX('Weeks Calendar'!$C$12:$I$16,5,MATCH(G37,'Weeks Calendar'!$C$12:$I$12,0)),\"\")&\nIFERROR(INDEX('Weeks Calendar'!$C$18:$I$22,5,MATCH(G37,'Weeks Calendar'!$C$18:$I$18,0)),\"\")&\nIFERROR(INDEX('Weeks Calendar'!$C$24:$I$28,5,MATCH(G37,'Weeks Calendar'!$C$24:$I$24,0)),\"\")&\nIFERROR(INDEX('Weeks Calendar'!$C$24:$I$28,5,MATCH(G37,'Weeks Calendar'!$C$30:$I$30,0)),\"\")","v":""},{"$f":"IFERROR(INDEX('Weeks Calendar'!$C$6:$I$10,5,MATCH(H37,'Weeks Calendar'!$C$6:$I$6,0)),\"\")&\nIFERROR(INDEX('Weeks Calendar'!$C$12:$I$16,5,MATCH(H37,'Weeks Calendar'!$C$12:$I$12,0)),\"\")&\nIFERROR(INDEX('Weeks Calendar'!$C$18:$I$22,5,MATCH(H37,'Weeks Calendar'!$C$18:$I$18,0)),\"\")&\nIFERROR(INDEX('Weeks Calendar'!$C$24:$I$28,5,MATCH(H37,'Weeks Calendar'!$C$24:$I$24,0)),\"\")&\nIFERROR(INDEX('Weeks Calendar'!$C$24:$I$28,5,MATCH(H37,'Weeks Calendar'!$C$30:$I$30,0)),\"\")","v":""}]
[null,"* Variety of milk is offered with lunch each day",null,null,null,null,"This institution is an equal opportunity employer and provider"]

{"sheet":"Weeks Calendar","index":1,"n_rows":244,"n_cols":90,"rows_kept":244,"cut":false,"hidden":true,"merged":[[2,23,2,25],[1,76,1,78],[1,85,1,87],[2,1,2,4],[2,5,2,7],[1,4,1,6],[1,13,1,15],[1,58,1,60],[1,67,1,69],[1,40,1,42],[1,49,1,51],[2,37,2,40],[2,41,2,43],[1,22,1,24],[1,31,1,33],[2,19,2,22]]}
["This institution is an equal opportunity employer and provider"]
[null,null,null,null,"CACFP 3-5 Planned Veggies (PV)",null,null,null,null,null,null,null,null,"CACFP 3-5 Veggie Bar (VB)",null,null,null,null,null,null,null,null,"CACFP 6-18 Planned Veggies (PV)",null,null,null,null,null,null,null,null,"CACFP 6-18 Veggie Bar (VB)",null,null,null,null,null,null,null,null,"CACFP Adult Planned Veggies (PV)",null,null,null,null,null,null,null,null,"CACFP Adult Veggie Bar (VB)",null,null,null,null,null,null,null,null,"K-8 Planned Veggies (PV)",null,null,null,null,null,null,null,null,"K-8 Veggie Bar (VB)",null,null,null,null,null,null,null,null,"9-12 Planned Veggies (PV)",null,null,null,null,null,null,null,null,"9-12 Veggie Bar (VB)"]
[]
["Choose Week",null,"Sun","Mon","Tue","Wed","Thu","Fri","Sat",null,null,"Sun","Mon","Tue","Wed","Thu","Fri","Sat",null,null,"Sun","Mon","Tue","Wed","Thu","Fri","Sat",null,null,"Sun","Mon","Tue","Wed","Thu","Fri","Sat",null,null,"Sun","Mon","Tue","Wed","Thu","Fri","Sat",null,null,"Sun","Mon","Tue","Wed","Thu","Fri","Sat",null,null,"Sun","Mon","Tue","Wed","Thu","Fri","Sat",null,null,"Sun","Mon","Tue","Wed","Thu","Fri","Sat",null,null,"Sun","Mon","Tue","Wed","Thu","Fri","Sat",null,null,"Sun","Mon","Tue","Wed","Thu","Fri","Sat"]
["_________","Week 1",null,"","","","","","",null,"Week 1",null,"","","","","","",null,"Week 1",null,"","","","","","",null,"Week 1",null,"","","","","","",null,"Week 1",null,"","","","","","",null,"Week 1",null,"","","","","","",null,"Week 1",null,"","","","","","",null,"Week 1",null,"","","","","","",null,"Week 1",null,{"$f":"\"\"","v":""},{"$f":"\"\"","v":""},{"$f":"\"\"","v":""},{"$f":"\"\"","v":""},{"$f":"\"\"","v":""},"",null,"Week 1",null,{"$f":"\"\"","v":""},{"$f":"\"\"","v":""},{"$f":"\"\"","v":""},{"$f":"\"\"","v":""},{"$f":"\"\"","v":""},""]
["Week 1",{"$f":"\"\"","v":""},null,"Ham & Swiss Sandwich","Turkey & Cheese Sandwich","Pastrami & Provalone Sandwich","Turkey Bagel Sandwich","Old Fashioned Chicken Wrap",null,null,{"$f":"\"\"","v":""},"Sausage, Egg & Cheese Sandwich","Crunchy Chicken Tender Wrap","Turkey Meatballs and Gravy","Fish Bites","Boneless Chicken Chompers","Teriyaki Chicken Bowl","Bean and Cheese Burrito",null,{"$f":"\"\"","v":""},"Sausage, Egg & Cheese Sandwich","Crunchy Chicken Tender Wrap","Turkey Meatballs and Gravy","Fish Bites","Boneless Chicken Chompers","Teriyaki Chicken Bowl","Bean and Cheese Burrito",null,{"$f":"\"\"","v":""},"Sausage, Egg & Cheese Sandwich","Crunchy Chicken Tender Wrap","Turkey Meatballs and Gravy","Fish Bites","Boneless Chicken Chompers","Teriyaki Chicken Bowl","Bean and Cheese Burrito",null,{"$f":"\"\"","v":""},"Sausage, Egg & Cheese Sandwich","Crunchy Chicken Tender Wrap","Turkey Meatballs and Gravy","Fish Bites","Boneless Chicken Chompers","Teriyaki Chicken Bowl","Bean and Cheese Burrito",null,{"$f":"\"\"","v":""},"Sausage, Egg & Cheese Sandwich","Crunchy Chicken Tender Wrap","Turkey Meatballs and Gravy","Fish Bites","Boneless Chicken Chompers","Teriyaki Chicken Bowl","Bean and Cheese Burrito",null,{"$f":"\"\"","v":""},"Sausage, Egg & Cheese Sandwich","Crunchy Chicken Tender Wrap","Turkey Meatballs and Gravy","Fish Bites","Boneless Chicken Chompers","Teriyaki Chicken Bowl","Bean and Cheese Burrito",null,{"$f":"\"\"","v":""},"Sausage, Egg & Cheese Sandwich","Crunchy Chicken Tender Wrap","Turkey Meatballs and Gravy","Fish Bites","Boneless Chicken Chompers","Teriyaki Chicken Bowl","Bean and Cheese Burrito",null,{"$f":"\"\"","v":""},"Sausage, Egg & Cheese Sandwich","Pastrami & Provalone Sandwich","Turkey Meatballs and Gravy","Fish Bites","Boneless Chicken Chompers","Teriyaki Chicken Bowl","Bean and Cheese Burrito",null,{"$f":"\"\"","v":""},"Sausage, Egg & Cheese Sandwich","Crunchy Chicken Tender Wrap","Turkey Meatballs and Gravy","Fish Bites","Boneless Chicken Chompers","Teriyaki Chicken Bowl","Bean and Cheese Burrito"]
["Week 2",{"$f":"\"\"","v":""},null,"Mayo Packet","Lettuce & Mayo","Mayo Packet","Cucumber & Dressing","Side Salad & Dressing",null,null,{"$f":"\"\"","v":""},"Salad Bar","Shredded Cheddar Cheese","Dinner Roll","Dinner Roll","Ketchup","Cilantro Brown Rice","Taco Sauce",null,{"$f":"\"\"","v":""},"Crispy Cubes & Ketchup","RanchaBoom! Sauce","Dinner Roll","Garlic Ranch","Ketchup","Cilantro Brown Rice","Cheddar Cheese & Taco Sauce",null,{"$f":"\"\"","v":""},"Salad Bar","Shredded Cheddar Cheese","Dinner Roll","Dinner Roll","Ketchup","Cilantro Brown Rice","Taco Sauce",null,{"$f":"\"\"","v":""},"Crispy Cubes & Ketchup","Shredded Cheddar Cheese","Dinner Roll","Dinner Roll","Ketchup","Cilantro Brown Rice","Taco Sauce",null,{"$f":"\"\"","v":""},"Salad Bar","Shredded Cheddar Cheese","Dinner Roll","Dinner Roll","Ketchup","Cilantro Brown Rice","Taco Sauce",null,{"$f":"\"\"","v":""},"Crispy Cubes & Ketchup","Shredded Cabbage & Cheddar","Dinner Roll","Dinner Roll","Ketchup","Cilantro Brown Rice","Taco Sauce",null,{"$f":"\"\"","v":""},"Salad Bar","RanchaBoom! Sauce","Dinner Roll","Dinner Roll","Ketchup","Cilantro Brown Rice","Taco Sauce",null,{"$f":"\"\"","v":""},"Crispy Cubes & Ketchup",1,"Dinner Roll","Dinner Roll","Ketchup","Cilantro Brown Rice","Taco Sauce & Sour Cream",null,{"$f":"\"\"","v":""},"Salad Bar","Sour Cream","Dinner Roll","Dinner Roll","Ketchup","Cilantro Brown Rice","Taco Sauce & Sour Cream"]
["Week 3",{"$f":"\"\"","v":""},null,"Carrots & Dressing","Corn","Broccoli & Dressing","Assorted Fruit","Assorted Fruit",null,null,{"$f":"\"\"","v":""},"Assorted Fruit","Salad Bar","Salad Bar","Salad Bar","Assorted Chips","Salad Bar","Salad Bar",null,{"$f":"\"\"","v":""},"Assorted Fruit","Shredded Cheddar Cheese","Sweet Potatoes","Coleslaw","Carrots","Broccoli & Dressing","Side Salad & Dressing",null,{"$f":"\"\"","v":""},"Assorted Fruit","Salad Bar","Salad Bar","Salad Bar","Assorted Chips","Salad Bar","Salad Bar",null,{"$f":"\"\"","v":""},"Assorted Fruit","Corn","Sweet Potatoes","Coleslaw","Assorted Chips","Broccoli & Dressing","Side Salad & Dressing",null,{"$f":"\"\"","v":""},"Assorted Fruit","Salad Bar","Salad Bar","Salad Bar","Assorted Chips","Salad Bar","Salad Bar",null,{"$f":"\"\"","v":""},"Side Salad & Dressing","RanchaBoom! Sauce","Sweet Potatoes","Coleslaw & Baked Beans","Assorted Chips","Broccoli & Dressing","Side Salad & Dressing",null,{"$f":"\"\"","v":""},"Assorted Fruit","Salad Bar","Salad Bar","Salad Bar","Assorted Chips","Salad Bar","Salad Bar",null,{"$f":"\"\"","v":""},"Side Salad & Dressing",2,"Assorted Chips","Coleslaw & Baked Beans","Assorted Chips","Broccoli & Dressing","Side Salad & Dressing",null,{"$f":"\"\"","v":""},"Assorted Fruit","RanchaBoom! Sauce","Assorted Chips","Assorted Chips","Assorted Chips","Salad Bar","Shredded Cheddar & Taco Sauce"]
["Week 4",{"$f":"\"\"","v":""},null,"Assorted Fruit","Assorted Fruit","Assorted Fruit",null,null,null,null,{"$f":"\"\"","v":""},{"$f":"\"\"","v":""},"Assorted Fruit","Assorted Fruit","Assorted Fruit","Salad Bar","Assorted Fruit","Assorted Fruit",null,{"$f":"\"\"","v":""},{"$f":"\"\"","v":""},"Corn","Assorted Fruit","Assorted Fruit","Assorted Fruit","Assorted Fruit","Assorted Fruit",null,{"$f":"\"\"","v":""},{"$f":"\"\"","v":""},"Assorted Fruit","Assorted Fruit","Assorted Fruit","Salad Bar","Assorted Fruit","Assorted Fruit",null,{"$f":"\"\"","v":""},{"$f":"\"\"","v":""},"Assorted Fruit","Assorted Fruit","Assorted Fruit","Carrots","Assorted Fruit","Assorted Fruit",null,{"$f":"\"\"","v":""},{"$f":"\"\"","v":""},"Assorted Fruit","Assorted Fruit","Assorted Fruit","Salad Bar","Assorted Fruit","Assorted Fruit",null,{"$f":"\"\"","v":""},"Assorted Fruit","Corn","Assorted Fruit","Assorted Fruit","Side Salad & Carrots","Assorted Fruit","Assorted Fruit",null,{"$f":"\"\"","v":""},{"$f":"\"\"","v":""},"Assorted Fruit","Assorted Fruit","Assorted Fruit","Salad Bar","Assorted Fruit","Assorted Fruit",null,{"$f":"\"\"","v":""},"Assorted Fruit",3,"Sweet Potatoes","Assorted Fruit","Side Salad & Carrots","Assorted Fruit","Assorted Fruit",null,{"$f":"\"\"","v":""},{"$f":"\"\"","v":""},"Salad Bar","Salad Bar","Salad Bar","Salad Bar","Assorted Fruit","Assorted Fruit"]
["Week 5",{"$f":"\"\"","v":""},null,null,null,null,null,null,null,null,{"$f":"\"\"","v":""},{"$f":"\"\"","v":""},{"$f":"\"\"","v":""},{"$f":"\"\"","v":""},{"$f":"\"\"","v":""},"Assorted Fruit",{"$f":"\"\"","v":""},{"$f":"\"\"","v":""},null,{"$f":"\"\"","v":""},{"$f":"\"\"","v":""},"Assorted Fruit",{"$f":"\"\"","v":""},{"$f":"\"\"","v":""},null,{"$f":"\"\"","v":""},{"$f":"\"\"","v":""},null,{"$f":"\"\"","v":""},{"$f":"\"\"","v":""},{"$f":"\"\"","v":""},{"$f":"\"\"","v":""},{"$f":"\"\"","v":""},"Assorted Fruit",{"$f":"\"\"","v":""},{"$f":"\"\"","v":""},null,{"$f":"\"\"","v":""},{"$f":"\"\"","v":""},{"$f":"\"\"","v":""},{"$f":"\"\"","v":""},{"$f":"\"\"","v":""},"Assorted Fruit",{"$f":"\"\"","v":""},{"$f":"\"\"","v":""},null,{"$f":"\"\"","v":""},{"$f":"\"\"","v":""},{"$f":"\"\"","v":""},{"$f":"\"\"","v":""},{"$f":"\"\"","v":""},"Assorted Fruit",{"$f":"\"\"","v":""},{"$f":"\"\"","v":""},null,{"$f":"\"\"","v":""},{"$f":"\"\"","v":""},"Assorted Fruit",{"$f":"\"\"","v":""},{"$f":"\"\"","v":""},"Assorted Fruit",{"$f":"\"\"","v":""},{"$f":"\"\"","v":""},null,{"$f":"\"\"","v":""},{"$f":"\"\"","v":""},{"$f":"\"\"","v":""},{"$f":"\"\"","v":""},{"$f":"\"\"","v":""},"Assorted Fruit",{"$f":"\"\"","v":""},{"$f":"\"\"","v":""},null,{"$f":"\"\"","v":""},{"$f":"\"\"","v":""},4,"Assorted Fruit",{"$f":"\"\"","v":""},"Assorted Fruit",{"$f":"\"\"","v":""},{"$f":"\"\"","v":""},null,{"$f":"\"\"","v":""},{"$f":"\"\"","v":""},"Assorted Fruit","Assorted Fruit","Assorted Fruit","Assorted Fruit",{"$f":"\"\"","v":""},{"$f":"\"\"","v":""}]
["Week 6","Week 2",null,{"$f":"\"\"","v":""},{"$f":"\"\"","v":""},{"$f":"\"\"","v":""},{"$f":"\"\"","v":""},{"$f":"\"\"","v":""},null,null,"Week 2",{"$f":"\"\"","v":""},{"$f":"\"\"","v":""},{"$f":"\"\"","v":""},{"$f":"\"\"","v":""},{"$f":"\"\"","v":""},{"$f":"\"\"","v":""},{"$f":"\"\"","v":""},null,"Week 2",{"$f":"\"\"","v":""},{"$f":"\"\"","v":""},{"$f":"\"\"","v":""},{"$f":"\"\"","v":""},{"$f":"\"\"","v":""},{"$f":"\"\"","v":""},{"$f":"\"\"","v":""},null,"Week 2",{"$f":"\"\"","v":""},{"$f":"\"\"","v":""},{"$f":"\"\"","v":""},{"$f":"\"\"","v":""},{"$f":"\"\"","v":""},{"$f":"\"\"","v":""},{"$f":"\"\"","v":""},null,"Week 2",{"$f":"\"\"","v":""},{"$f":"\"\"","v":""},{"$f":"\"\"","v":""},{"$f":"\"\"","v":""},{"$f":"\"\"","v":""},{"$f":"\"\"","v":""},{"$f":"\"\"","v":""},null,"Week 2",{"$f":"\"\"","v":""},{"$f":"\"\"","v":""},{"$f":"\"\"","v":""},{"$f":"\"\"","v":""},{"$f":"\"\"","v":""},{"$f":"\"\"","v":""},{"$f":"\"\"","v":""},null,"Week 2",{"$f":"\"\"","v":""},{"$f":"\"\"","v":""},{"$f":"\"\"","v":""},{"$f":"\"\"","v":""},{"$f":"\"\"","v":""},{"$f":"\"\"","v":""},{"$f":"\"\"","v":""},null,"Week 2",{"$f":"\"\"","v":""},{"$f":"\"\"","v":""},{"$f":"\"\"","v":""},{"$f":"\"\"","v":""},{"$f":"\"\"","v":""},{"$f":"\"\"","v":""},{"$f":"\"\"","v":""},null,"Week 2",{"$f":"\"\"","v":""},{"$f":"\"\"","v":""},{"$f":"\"\"","v":""},{"$f":"\"\"","v":""},{"$f":"\"\"","v":""},{"$f":"\"\"","v":""},{"$f":"\"\"","v":""},null,"Week 2",{"$f":"\"\"","v":""},{"$f":"\"\"","v":""},{"$f":"\"\"","v":""},{"$f":"\"\"","v":""},{"$f":"\"\"","v":""},{"$f":"\"\"","v":""},{"$f":"\"\"","v":""}]
["Week 7",{"$f":"\"\"","v":""},null,"Greek Chicken Wrap","Egg Salad Wrap","Chef Salad","Yogurt Parfait","Breakfast for Lunch",null,null,{"$f":"\"\"","v":""},"Turkey Sausage Pancake on a Stick","Hamburger","Alfredo Chicken Fillet","Ravioli in Red Sauce","Mini Corn Dogs","French Toast Sticks","Chicken Carnitas Taco",null,{"$f":"\"\"","v":""},"Turkey Sausage Pancake on a Stick","Hamburger","Alfredo Chicken Fillet","Ravioli in Red Sauce","Mini Corn Dogs","French Toast Sticks","Chicken Carnitas Taco",null,{"$f":"\"\"","v":""},"Turkey Sausage Pancake on a Stick","Hamburger","Alfredo Chicken Fillet","Ravioli in Red Sauce","Mini Corn Dogs","French Toast Sticks","Chicken Carnitas Taco",null,{"$f":"\"\"","v":""},"Turkey Sausage Pancake on a Stick","Hamburger","Alfredo Chicken Fillet","Ravioli in Red Sauce","Mini Corn Dogs","French Toast Sticks","Chicken Carnitas Taco",null,{"$f":"\"\"","v":""},"Turkey Sausage Pancake on a Stick","Hamburger","Alfredo Chicken Fillet","Ravioli in Red Sauce","Mini Corn Dogs","French Toast Sticks","Chicken Carnitas Taco",null,{"$f":"\"\"","v":""},"Turkey Sausage Pancake on a Stick","Hamburger","Alfredo Chicken Fillet","Ravioli in Red Sauce","Mini Corn Dogs","French Toast Sticks","Chicken Carnitas Taco",null,{"$f":"\"\"","v":""},"Turkey Sausage Pancake on a Stick","Hamburger","Alfredo Chicken Fillet","Ravioli in Red Sauce","Mini Corn Dogs","French Toast Sticks","Chicken Carnitas Taco",null,{"$f":"\"\"","v":""},"Turkey Sausage Pancake on a Stick","Hamburger","Alfredo Chicken Fillet","Ravioli in Red Sauce","Mini Corn Dogs","French Toast Sticks","Chicken Carnitas Taco",null,{"$f":"\"\"","v":""},"Turkey Sausage Pancake on a Stick","Hamburger","Alfredo Chicken Fillet","Ravioli in Red Sauce","Mini Corn Dogs","French Toast Sticks","Chicken Carnitas Taco"]
["Week 8",{"$f":"\"\"","v":""},null,"Cucumber & Dressing","Broccoli & Dressing","Dinner Roll","w/ Whipped Cream","Carrots & Dressing",null,null,{"$f":"\"\"","v":""},"Salad Bar","Ketchup","Garlic Brown Rice","Dinner Roll & Margarine","Ketchup","Syrup & Margarine","ChickaBoom! Sauce & Cilantro",null,{"$f":"\"\"","v":""},"Breakfast Potato with Peppers","Crispy Cubes & Ketchup","Garlic Brown Rice","Dinner Roll & Margarine","Ketchup","Syrup & Margarine","Shredded Lettuce & Cilantro",null,{"$f":"\"\"","v":""},"Salad Bar","Ketchup","Garlic Brown Rice","Dinner Roll & Margarine","Ketchup","Syrup & Margarine","ChickaBoom! Sauce & Cilantro",null,{"$f":"\"\"","v":""},"Breakfast Potato with Peppers","Crispy Cubes & Ketchup","Garlic Brown Rice","Dinner Roll & Margarine","Ketchup","Syrup & Margarine","Shredded Lettuce & Cilantro",null,{"$f":"\"\"","v":""},"Salad Bar","Ketchup","Garlic Brown Rice","Dinner Roll & Margarine","Ketchup","Syrup & Margarine","ChickaBoom! Sauce & Cilantro",null,{"$f":"\"\"","v":""},"Breakfast Potato with Peppers","Crispy Cubes & Ketchup","Garlic Brown Rice","Dinner Roll & Margarine","Ketchup","Syrup & Margarine","Shredded Lettuce & Cheddar",null,{"$f":"\"\"","v":""},"Salad Bar","Ketchup","Garlic Brown Rice","Dinner Roll & Margarine","Ketchup","Syrup & Margarine","Shredded Cheddar",null,{"$f":"\"\"","v":""},"Breakfast Potato with Peppers","Crispy Cubes & Ketchup","Garlic Brown Rice","Dinner Roll & Margarine","Ketchup","Syrup & Margarine","Shredded Lettuce & Cheddar",null,{"$f":"\"\"","v":""},"Salad Bar","Pickles, Ketchup & Mustard","Garlic Brown Rice","Dinner Roll & Margarine","Ketchup","Syrup & Margarine","Shredded Cheddar"]
["Week 9",{"$f":"\"\"","v":""},null,"Assorted Fruit","Assorted Fruit","Assorted Fruit","Red Peppers & Dressing","Assorted Fruit",null,null,{"$f":"\"\"","v":""},"Assorted Fruit","Salad Bar","Salad Bar","Shredded Mozzarella","Salad Bar","Salad Bar","Salad Bar",null,{"$f":"\"\"","v":""},"Assorted Fruit","Assorted Fruit","Carrots & Dressing","Shredded Mozzarella","Coleslaw","Cucumbers & Dressing","Corn",null,{"$f":"\"\"","v":""},"Assorted Fruit","Salad Bar","Salad Bar","Shredded Mozzarella","Salad Bar","Salad Bar","Salad Bar",null,{"$f":"\"\"","v":""},"Assorted Fruit","Assorted Fruit","Carrots & Dressing","Shredded Mozzarella","Coleslaw","Cucumber & Dressing","ChickaBoom! Sauce",null,{"$f":"\"\"","v":""},"Assorted Fruit","Salad Bar","Salad Bar","Shredded Mozzarella","Salad Bar","Salad Bar","Salad Bar",null,{"$f":"\"\"","v":""},"Assorted Fruit","Lettuce","Carrots","Shredded Mozzarella","Coleslaw & Baked Beans","Cucumber & Dressing","ChickaBoom! Sauce",null,{"$f":"\"\"","v":""},"Assorted Fruit","Salad Bar","Salad Bar","Shredded Mozzarella","Salad Bar","Salad Bar","ChickaBoom! Sauce & Cilantro",null,{"$f":"\"\"","v":""},"Assorted Fruit","Lettuce","Carrots","Shredded Mozzarella","Coleslaw & Baked Beans","Cucumber & Dressing","ChickaBoom! Sauce",null,{"$f":"\"\"","v":""},"Assorted Fruit","Salad Bar","Dinner Roll","Shredded Mozzarella","Salad Bar","Salad Bar","ChickaBoom! Sauce & Cilantro"]
["Week 10",{"$f":"\"\"","v":""},null,null,null,null,"Assorted Fruit",null,null,null,{"$f":"\"\"","v":""},{"$f":"\"\"","v":""},"Assorted Fruit","Assorted Fruit","Salad Bar","Assorted Fruit","Assorted Fruit","Assorted Fruit",null,{"$f":"\"\"","v":""},{"$f":"\"\"","v":""},{"$f":"\"\"","v":""},"Assorted Fruit","Spinach Salad","Assorted Fruit","Assorted Fruit","ChickaBoom! Sauce",null,{"$f":"\"\"","v":""},{"$f":"\"\"","v":""},"Assorted Fruit","Assorted Fruit","Salad Bar","Assorted Fruit","Assorted Fruit","Assorted Fruit",null,{"$f":"\"\"","v":""},{"$f":"\"\"","v":""},{"$f":"\"\"","v":""},"Assorted Fruit","Spinach","Assorted Fruit","Assorted Fruit","Assorted Fruit",null,{"$f":"\"\"","v":""},{"$f":"\"\"","v":""},"Assorted Fruit","Assorted Fruit","Salad Bar","Assorted Fruit","Assorted Fruit","Assorted Fruit",null,{"$f":"\"\"","v":""},{"$f":"\"\"","v":""},"Assorted Fruit","Assorted Fruit","Spinach & Carrots","Assorted Fruit","Assorted Fruit","Corn",null,{"$f":"\"\"","v":""},{"$f":"\"\"","v":""},"Assorted Fruit","Assorted Fruit","Salad Bar","Assorted Fruit","Assorted Fruit","Salad Bar",null,{"$f":"\"\"","v":""},{"$f":"\"\"","v":""},"Assorted Fruit","Assorted Fruit","Spinach & Carrots","Assorted Fruit","Assorted Fruit","Corn",null,{"$f":"\"\"","v":""},{"$f":"\"\"","v":""},"Assorted Fruit","Salad Bar","Salad Bar","Assorted Fruit","Assorted Fruit","Salad Bar"]
["Week 11",{"$f":"\"\"","v":""},null,null,null,null,null,null,null,null,{"$f":"\"\"","v":""},{"$f":"\"\"","v":""},{"$f":"\"\"","v":""},{"$f":"\"\"","v":""},"Assorted Fruit",{"$f":"\"\"","v":""},{"$f":"\"\"","v":""},{"$f":"\"\"","v":""},null,{"$f":"\"\"","v":""},{"$f":"\"\"","v":""},{"$f":"\"\"","v":""},{"$f":"\"\"","v":""},"Assorted Fruit",{"$f":"\"\"","v":""},{"$f":"\"\"","v":""},"Assorted Fruit",null,{"$f":"\"\"","v":""},{"$f":"\"\"","v":""},{"$f":"\"\"","v":""},{"$f":"\"\"","v":""},"Assorted Fruit",{"$f":"\"\"","v":""},{"$f":"\"\"","v":""},{"$f":"\"\"","v":""},null,{"$f":"\"\"","v":""},{"$f":"\"\"","v":""},{"$f":"\"\"","v":""},{"$f":"\"\"","v":""},"Assorted Fruit",{"$f":"\"\"","v":""},{"$f":"\"\"","v":""},{"$f":"\"\"","v":""},null,{"$f":"\"\"","v":""},{"$f":"\"\"","v":""},{"$f":"\"\"","v":""},{"$f":"\"\"","v":""},"Assorted Fruit",{"$f":"\"\"","v":""},{"$f":"\"\"","v":""},{"$f":"\"\"","v":""},null,{"$f":"\"\"","v":""},{"$f":"\"\"","v":""},{"$f":"\"\"","v":""},{"$f":"\"\"","v":""},"Assorted Fruit",{"$f":"\"\"","v":""},{"$f":"\"\"","v":""},"Assorted Fruit",null,{"$f":"\"\"","v":""},{"$f":"\"\"","v":""},{"$f":"\"\"","v":""},{"$f":"\"\"","v":""},"Assorted Fruit",{"$f":"\"\"","v":""},{"$f":"\"\"","v":""},"Assorted Fruit",null,{"$f":"\"\"","v":""},{"$f":"\"\"","v":""},{"$f":"\"\"","v":""},{"$f":"\"\"","v":""},"Assorted Fruit",{"$f":"\"\"","v":""},{"$f":"\"\"","v":""},"Assorted Fruit",null,{"$f":"\"\"","v":""},{"$f":"\"\"","v":""},{"$f":"\"\"","v":""},"Assorted Fruit","Assorted Fruit",{"$f":"\"\"","v":""},{"$f":"\"\"","v":""},"Assorted Fruit"]
["Week 12","Week 3",null,{"$f":"\"\"","v":""},{"$f":"\"\"","v":""},{"$f":"\"\"","v":""},{"$f":"\"\"","v":""},{"$f":"\"\"","v":""},null,null,"Week 3",{"$f":"\"\"","v":""},{"$f":"\"\"","v":""},{"$f":"\"\"","v":""},{"$f":"\"\"","v":""},{"$f":"\"\"","v":""},{"$f":"\"\"","v":""},{"$f":"\"\"","v":""},null,"Week 3",{"$f":"\"\"","v":""},{"$f":"\"\"","v":""},{"$f":"\"\"","v":""},{"$f":"\"\"","v":""},{"$f":"\"\"","v":""},{"$f":"\"\"","v":""},{"$f":"\"\"","v":""},null,"Week 3",{"$f":"\"\"","v":""},{"$f":"\"\"","v":""},{"$f":"\"\"","v":""},{"$f":"\"\"","v":""},{"$f":"\"\"","v":""},{"$f":"\"\"","v":""},{"$f":"\"\"","v":""},null,"Week 3",{"$f":"\"\"","v":""},{"$f":"\"\"","v":""},{"$f":"\"\"","v":""},{"$f":"\"\"","v":""},{"$f":"\"\"","v":""},{"$f":"\"\"","v":""},{"$f":"\"\"","v":""},null,"Week 3",{"$f":"\"\"","v":""},{"$f":"\"\"","v":""},{"$f":"\"\"","v":""},{"$f":"\"\"","v":""},{"$f":"\"\"","v":""},{"$f":"\"\"","v":""},{"$f":"\"\"","v":""},null,"Week 3",{"$f":"\"\"","v":""},{"$f":"\"\"","v":""},{"$f":"\"\"","v":""},{"$f":"\"\"","v":""},{"$f":"\"\"","v":""},{"$f":"\"\"","v":""},{"$f":"\"\"","v":""},null,"Week 3",{"$f":"\"\"","v":""},{"$f":"\"\"","v":""},{"$f":"\"\"","v":""},{"$f":"\"\"","v":""},{"$f":"\"\"","v":""},{"$f":"\"\"","v":""},{"$f":"\"\"","v":""},null,"Week 3",{"$f":"\"\"","v":""},{"$f":"\"\"","v":""},{"$f":"\"\"","v":""},{"$f":"\"\"","v":""},{"$f":"\"\"","v":""},{"$f":"\"\"","v":""},{"$f":"\"\"","v":""},null,"Week 3",{"$f":"\"\"","v":""},{"$f":"\"\"","v":""},{"$f":"\"\"","v":""},{"$f":"\"\"","v":""},{"$f":"\"\"","v":""},{"$f":"\"\"","v":""},{"$f":"\"\"","v":""}]
["Week 13",{"$f":"\"\"","v":""},null,"Bean & Cheese Burrito","Bosco Sticks","Cheeseburger","Chicken Enchilada Nachos","Pepperoni Pizza",null,null,{"$f":"\"\"","v":""},"Turkey Sausage with Gravy","Chicken Nachos","Curry Gravy Meatballs","BBQ Chicken Sandwich","Cheesy Beef Steak","Cheese Omelet","Meatball Sub",null,{"$f":"\"\"","v":""},"Turkey Sausage with Gravy","Chicken Nachos","Curry Gravy Meatballs","BBQ Chicken Sandwich","Cheesy Beef Steak","Cheese Omelet","Meatball Sub",null,{"$f":"\"\"","v":""},"Turkey Sausage with Gravy","Chicken Nachos","Curry Gravy Meatballs","BBQ Chicken Sandwich","Cheesy Beef Steak","Cheese Omelet","Meatball Sub",null,{"$f":"\"\"","v":""},"Turkey Sausage with Gravy","Chicken Nachos","Curry Gravy Meatballs","BBQ Chicken Sandwich","Cheesy Beef Steak","Cheese Omelet","Meatball Sub",null,{"$f":"\"\"","v":""},"Turkey Sausage with Gravy","Chicken Nachos","Curry Gravy Meatballs","BBQ Chicken Sandwich","Cheesy Beef Steak","Cheese Omelet","Meatball Sub",null,{"$f":"\"\"","v":""},"Turkey Sausage with Gravy","Chicken Nachos","Curry Gravy Meatballs","BBQ Chicken Sandwich","Cheesy Beef Steak","Cheese Omelet","Meatball Sub",null,{"$f":"\"\"","v":""},"Turkey Sausage with Gravy","Chicken Nachos","Curry Gravy Meatballs","BBQ Chicken Sandwich","Cheesy Beef Steak","Cheese Omelet","Meatball Sub",null,{"$f":"\"\"","v":""},"Turkey Sausage with Gravy","Chicken Nachos","Curry Gravy Meatballs","BBQ Chicken Sandwich","Cheesy Beef Steak","Cheese Omelet","Meatball Sub",null,{"$f":"\"\"","v":""},"Turkey Sausage with Gravy","Chicken Nachos","Curry Gravy Meatballs","BBQ Chicken Sandwich","Cheesy Beef Steak","Cheese Omelet","Meatball Sub"]
["Week 14",{"$f":"\"\"","v":""},null,"Sour Cream","Marinara Sauce","Ketchup","Shredded Lettuce","Side Salad & Dressing",null,null,{"$f":"\"\"","v":""},"Salad Bar","Assorted Chips","Garlic Brown Rice","Salad Bar","Biscuit","Waffle","Salad Bar",null,{"$f":"\"\"","v":""},"Corn","Assorted Chips","Garlic Brown Rice","Coleslaw","Biscuit","Waffle","Cucumbers & Dressing",null,{"$f":"\"\"","v":""},"Salad Bar","Assorted Chips","Garlic Brown Rice","Salad Bar","Biscuit","Waffle","Salad Bar",null,{"$f":"\"\"","v":""},"Corn","Assorted Chips","Garlic Brown Rice","Coleslaw","Biscuit","Waffle","Cucumbers & Dressing",null,{"$f":"\"\"","v":""},"Salad Bar","Assorted Chips","Garlic Brown Rice","Salad Bar","Biscuit","Waffle","Salad Bar",null,{"$f":"\"\"","v":""},"Crispy Cubes","Assorted Chips","Garlic Brown Rice","Coleslaw & Baked Beans","Biscuit","Waffle","Cucumbers & Dressing",null,{"$f":"\"\"","v":""},"Biscuit","Assorted Chips","Garlic Brown Rice","Assorted Chips","Biscuit","Waffle","Salad Bar",null,{"$f":"\"\"","v":""},"Crispy Cubes","Assorted Chips","Garlic Brown Rice","Coleslaw & Baked Beans","Biscuit","Waffle","Assorted Chips",null,{"$f":"\"\"","v":""},"Biscuit","Assorted Chips","Garlic Brown Rice","Assorted Chips","Biscuit","Waffle","Shredded Mozzarella"]
["Week 15",{"$f":"\"\"","v":""},null,"Carrots & Dressing","Assorted Fruit","Side Salad & Dressing","Taco Sauce","Assorted Fruit",null,null,{"$f":"\"\"","v":""},"Assorted Fruit","Shredded Cheddar Cheese","Salad Bar","Assorted Fruit","Salad Bar","Ketchup","Assorted Fruit",null,{"$f":"\"\"","v":""},"Assorted Fruit","Shredded Cheddar Cheese","Carrots & Dressing","Assorted Fruit","Side Salad","Potato Wedges & Ketchup","Assorted Fruit",null,{"$f":"\"\"","v":""},"Assorted Fruit","Shredded Cheddar Cheese","Salad Bar","Assorted Fruit","Salad Bar","Ketchup","Assorted Fruit",null,{"$f":"\"\"","v":""},"Assorted Fruit","Shredded Cheddar Cheese","Carrots & Dressing","Assorted Fruit","Side Salad","Potato Wedges & Ketchup","Assorted Fruit",null,{"$f":"\"\"","v":""},"Assorted Fruit","Shredded Cheddar Cheese","Salad Bar","Assorted Fruit","Salad Bar","Ketchup","Assorted Fruit",null,{"$f":"\"\"","v":""},"Corn","Shredded Cabbage & Corn","Carrots & Dressing","Assorted Chips","Romaine Lettuce & Carrots","Potato Wedges & Ketchup","Assorted Fruit",null,{"$f":"\"\"","v":""},"Salad Bar","RanchaBoom! Sauce","Salad Bar","Salad Bar","Salad Bar","Ketchup","Assorted Fruit",null,{"$f":"\"\"","v":""},"Corn","Shredded Cabbage & Corn","Carrots & Dressing","Assorted Chips","Romaine Lettuce & Carrots","Potato Wedges & Ketchup","Cucumbers & Dressing",null,{"$f":"\"\"","v":""},"Salad Bar","RanchaBoom! Sauce","Dinner Roll","Salad Bar","Salad Bar","Ketchup","Assorted Chips"]
["Week 16",{"$f":"\"\"","v":""},null,"Assorted Fruit",null,"Assorted Fruit","Assorted Fruit",null,null,null,{"$f":"\"\"","v":""},{"$f":"\"\"","v":""},"Salad Bar","Assorted Fruit",{"$f":"\"\"","v":""},"Assorted Fruit","Salad Bar",{"$f":"\"\"","v":""},null,{"$f":"\"\"","v":""},{"$f":"\"\"","v":""},"Corn & Cabbage","Assorted Fruit",{"$f":"\"\"","v":""},"Assorted Fruit","Assorted Fruit",{"$f":"\"\"","v":""},null,{"$f":"\"\"","v":""},{"$f":"\"\"","v":""},"Salad Bar","Assorted Fruit",{"$f":"\"\"","v":""},"Assorted Fruit","Salad Bar",{"$f":"\"\"","v":""},null,{"$f":"\"\"","v":""},{"$f":"\"\"","v":""},"Corn","Assorted Fruit",{"$f":"\"\"","v":""},"Assorted Fruit","Assorted Fruit",{"$f":"\"\"","v":""},null,{"$f":"\"\"","v":""},{"$f":"\"\"","v":""},"Salad Bar","Assorted Fruit",{"$f":"\"\"","v":""},"Assorted Fruit","Salad Bar",{"$f":"\"\"","v":""},null,{"$f":"\"\"","v":""},"Assorted Fruit","RanchaBoom! Sauce","Assorted Fruit","Assorted Fruit","Assorted Fruit","Spinach & Dressing",{"$f":"\"\"","v":""},null,{"$f":"\"\"","v":""},"Assorted Fruit","Salad Bar","Assorted Fruit","Assorted Fruit","Assorted Fruit","Salad Bar",{"$f":"\"\"","v":""},null,{"$f":"\"\"","v":""},"Assorted Fruit","RanchaBoom! Sauce","Assorted Fruit","Assorted Fruit","Assorted Fruit","Spinach & Dressing","Assorted Fruit",null,{"$f":"\"\"","v":""},"Assorted Fruit","Salad Bar","Salad Bar","Assorted Fruit","Assorted Fruit","Salad Bar","Salad Bar"]
["Week 17",{"$f":"\"\"","v":""},null,null,null,null,null,null,null,null,{"$f":"\"\"","v":""},{"$f":"\"\"","v":""},"Assorted Fruit",{"$f":"\"\"","v":""},{"$f":"\"\"","v":""},{"$f":"\"\"","v":""},"Assorted Fruit",{"$f":"\"\"","v":""},null,{"$f":"\"\"","v":""},{"$f":"\"\"","v":""},"Assorted Fruit",{"$f":"\"\"","v":""},{"$f":"\"\"","v":""},{"$f":"\"\"","v":""},{"$f":"\"\"","v":""},{"$f":"\"\"","v":""},null,{"$f":"\"\"","v":""},{"$f":"\"\"","v":""},"Assorted Fruit",{"$f":"\"\"","v":""},{"$f":"\"\"","v":""},{"$f":"\"\"","v":""},"Assorted Fruit",{"$f":"\"\"","v":""},null,{"$f":"\"\"","v":""},{"$f":"\"\"","v":""},"Assorted Fruit",{"$f":"\"\"","v":""},{"$f":"\"\"","v":""},{"$f":"\"\"","v":""},{"$f":"\"\"","v":""},{"$f":"\"\"","v":""},null,{"$f":"\"\"","v":""},{"$f":"\"\"","v":""},"Assorted Fruit",{"$f":"\"\"","v":""},{"$f":"\"\"","v":""},{"$f":"\"\"","v":""},"Assorted Fruit",{"$f":"\"\"","v":""},null,{"$f":"\"\"","v":""},{"$f":"\"\"","v":""},"Assorted Fruit",{"$f":"\"\"","v":""},{"$f":"\"\"","v":""},{"$f":"\"\"","v":""},"Assorted Fruit",{"$f":"\"\"","v":""},null,{"$f":"\"\"","v":""},{"$f":"\"\"","v":""},"Assorted Fruit",{"$f":"\"\"","v":""},{"$f":"\"\"","v":""},{"$f":"\"\"","v":""},"Assorted Fruit",{"$f":"\"\"","v":""},null,{"$f":"\"\"","v":""},{"$f":"\"\"","v":""},"Assorted Fruit",{"$f":"\"\"","v":""},{"$f":"\"\"","v":""},{"$f":"\"\"","v":""},"Assorted Fruit",{"$f":"\"\"","v":""},null,{"$f":"\"\"","v":""},{"$f":"\"\"","v":""},"Assorted Fruit","Assorted Fruit",{"$f":"\"\"","v":""},{"$f":"\"\"","v":""},"Assorted Fruit","Assorted Fruit"]
["Week 18","Week 4",null,{"$f":"\"\"","v":""},{"$f":"\"\"","v":""},{"$f":"\"\"","v":""},{"$f":"\"\"","v":""},{"$f":"\"\"","v":""},null,null,"Week 4",{"$f":"\"\"","v":""},{"$f":"\"\"","v":""},{"$f":"\"\"","v":""},{"$f":"\"\"","v":""},{"$f":"\"\"","v":""},{"$f":"\"\"","v":""},{"$f":"\"\"","v":""},null,"Week 4",{"$f":"\"\"","v":""},{"$f":"\"\"","v":""},{"$f":"\"\"","v":""},{"$f":"\"\"","v":""},{"$f":"\"\"","v":""},{"$f":"\"\"","v":""},{"$f":"\"\"","v":""},null,"Week 4",{"$f":"\"\"","v":""},{"$f":"\"\"","v":""},{"$f":"\"\"","v":""},{"$f":"\"\"","v":""},{"$f":"\"\"","v":""},{"$f":"\"\"","v":""},{"$f":"\"\"","v":""},null,"Week 4",{"$f":"\"\"","v":""},{"$f":"\"\"","v":""},{"$f":"\"\"","v":""},{"$f":"\"\"","v":""},{"$f":"\"\"","v":""},{"$f":"\"\"","v":""},{"$f":"\"\"","v":""},null,"Week 4",{"$f":"\"\"","v":""},{"$f":"\"\"","v":""},{"$f":"\"\"","v":""},{"$f":"\"\"","v":""},{"$f":"\"\"","v":""},{"$f":"\"\"","v":""},{"$f":"\"\"","v":""},null,"Week 4",{"$f":"\"\"","v":""},{"$f":"\"\"","v":""},{"$f":"\"\"","v":""},{"$f":"\"\"","v":""},{"$f":"\"\"","v":""},{"$f":"\"\"","v":""},{"$f":"\"\"","v":""},null,"Week 4",{"$f":"\"\"","v":""},{"$f":"\"\"","v":""},{"$f":"\"\"","v":""},{"$f":"\"\"","v":""},{"$f":"\"\"","v":""},{"$f":"\"\"","v":""},{"$f":"\"\"","v":""},null,"Week 4",{"$f":"\"\"","v":""},{"$f":"\"\"","v":""},{"$f":"\"\"","v":""},{"$f":"\"\"","v":""},{"$f":"\"\"","v":""},{"$f":"\"\"","v":""},{"$f":"\"\"","v":""},null,"Week 4",{"$f":"\"\"","v":""},{"$f":"\"\"","v":""},{"$f":"\"\"","v":""},{"$f":"\"\"","v":""},{"$f":"\"\"","v":""},{"$f":"\"\"","v":""},{"$f":"\"\"","v":""}]
["Week 19",{"$f":"\"\"","v":""},null,"Walking Beef Taco","Cheesy Spaghetti","Queso Omelet","Grilled Cheese Sandwich & Tomato Soup","Soft Pretzel with Cheese",null,null,{"$f":"\"\"","v":""},"Breakfast Pizza","Chicken Patty Sandwich","Walking Beef Taco","Sesame Popcorn Chicken","Turkey and Gravy","Bosco Sticks","Zesty Beef Steak",null,{"$f":"\"\"","v":""},"Breakfast Pizza","Chicken Patty Sandwich","Walking Beef Taco","Sesame Popcorn Chicken","Turkey and Gravy","Bosco Sticks","Zesty Beef Steak",null,{"$f":"\"\"","v":""},"Breakfast Pizza","Chicken Patty Sandwich","Walking Beef Taco","Sesame Popcorn Chicken","Turkey and Gravy","Bosco Sticks","Zesty Beef Steak",null,{"$f":"\"\"","v":""},"Breakfast Pizza","Chicken Patty Sandwich","Walking Beef Taco","Sesame Popcorn Chicken","Turkey and Gravy","Bosco Sticks","Zesty Beef Steak",null,{"$f":"\"\"","v":""},"Breakfast Pizza","Chicken Patty Sandwich","Walking Beef Taco","Sesame Popcorn Chicken","Turkey and Gravy","Bosco Sticks","Zesty Beef Steak",null,{"$f":"\"\"","v":""},"Breakfast Pizza","Chicken Patty Sandwich","Walking Beef Taco","Sesame Popcorn Chicken","Turkey and Gravy","Bosco Sticks","Zesty Beef Steak",null,{"$f":"\"\"","v":""},"Breakfast Pizza","Chicken Patty Sandwich","Walking Beef Taco","Sesame Popcorn Chicken","Turkey and Gravy","Bosco Sticks","Zesty Beef Steak",null,{"$f":"\"\"","v":""},"Breakfast Pizza","Chicken Patty Sandwich","Walking Beef Taco","Sesame Popcorn Chicken","Turkey and Gravy","Bosco Sticks","Zesty Beef Steak",null,{"$f":"\"\"","v":""},"Breakfast Pizza","Chicken Patty Sandwich","Walking Beef Taco","Sesame Popcorn Chicken","Turkey and Gravy","Bosco Sticks","Zesty Beef Steak"]
["Week 20",{"$f":"\"\"","v":""},null,"Cilantro & Taco Sauce","Side Salad & Dressing","Dinner Roll","Green Beans","Carrots & Dressing",null,null,{"$f":"\"\"","v":""},"Salad Bar","Ketchup","Shredded Lettuce & Cheddar","Assorted Chips","Dinner Roll","Marinara Sauce","Dinner Roll",null,{"$f":"\"\"","v":""},"Spinach Salad & Dressing","Ketchup","Shredded Lettuce & Cheddar","Assorted Chips","Dinner Roll","Marinara Sauce","Dinner Roll & Mashed Potatoes",null,{"$f":"\"\"","v":""},"Salad Bar","Ketchup","Shredded Lettuce & Cheddar","Assorted Chips","Dinner Roll","Marinara Sauce","Dinner Roll",null,{"$f":"\"\"","v":""},"Spinach Salad & Dressing","Ketchup","Shredded Lettuce & Cheddar","Assorted Chips","Dinner Roll","Marinara Sauce","Dinner Roll & Mashed Potatoes",null,{"$f":"\"\"","v":""},"Salad Bar","Ketchup","Shredded Lettuce & Cheddar","Assorted Chips","Dinner Roll","Marinara Sauce","Dinner Roll",null,{"$f":"\"\"","v":""},"Spinach Salad & Dressing","Potato Wedges & Ketchup","Shredded Cheddar & Taco Sauce","Assorted Chips","Dinner Roll","Marinara Sauce","Dinner Roll & Mashed Potatoes",null,{"$f":"\"\"","v":""},"Salad Bar","Ketchup","Shredded Lettuce & Cheddar","Assorted Chips","Dinner Roll","Marinara Sauce","Dinner Roll",null,{"$f":"\"\"","v":""},"Spinach Salad & Dressing","Potato Wedges & Ketchup","Shredded Cheddar & Taco Sauce","Assorted Chips","Dinner Roll","Marinara Sauce","Dinner Roll & Mashed Potatoes",null,{"$f":"\"\"","v":""},"Salad Bar","Ketchup","Shredded Cheddar & Taco Sauce","Assorted Chips","Dinner Roll","Marinara Sauce","Dinner Roll"]
["Week 21",{"$f":"\"\"","v":""},null,"Corn","Assorted Fruit","Baked Beans","Assorted Fruit","Assorted Fruit",null,null,{"$f":"\"\"","v":""},"Assorted Fruit","Salad Bar","Salad Bar","Salad Bar","Salad Bar","Salad Bar","Salad Bar",null,{"$f":"\"\"","v":""},"Assorted Fruit","Garden Salad & Dressing","Tomatoes","Carrots & Dressing","Green Beans","Assorted Fruit","Assorted Fruit",null,{"$f":"\"\"","v":""},"Assorted Fruit","Salad Bar","Salad Bar","Salad Bar","Salad Bar","Salad Bar","Salad Bar",null,{"$f":"\"\"","v":""},"Assorted Fruit","Garden Salad & Dressing","Tomatoes","Carrots & Dressing","Green Beans","Assorted Fruit","Assorted Fruit",null,{"$f":"\"\"","v":""},"Assorted Fruit","Salad Bar","Salad Bar","Salad Bar","Salad Bar","Salad Bar","Salad Bar",null,{"$f":"\"\"","v":""},"Assorted Fruit","Garden Salad & Dressing","Refried Beans & Shredded Lettuce","Carrots & Dressing","Green Beans & Broccoli","Side Salad & Dressing","Side Salad & Dressing",null,{"$f":"\"\"","v":""},"Assorted Fruit","Salad Bar","Taco Sauce","Salad Bar","Salad Bar","Salad Bar","Salad Bar",null,{"$f":"\"\"","v":""},"Assorted Fruit","Garden Salad & Dressing","Refried Beans & Shredded Lettuce","Carrots & Dressing","Green Beans & Broccoli","Side Salad & Dressing","Assorted Chips",null,{"$f":"\"\"","v":""},"Assorted Fruit","Salad Bar","Sour Cream & Shredded Lettuce","Salad Bar","Salad Bar","Salad Bar","Assorted Chips"]
["Week 22",{"$f":"\"\"","v":""},{"$f":"\"\"","v":""},"Assorted Fruit",null,"Assorted Fruit",null,null,null,null,{"$f":"\"\"","v":""},{"$f":"\"\"","v":""},"Assorted Fruit","Assorted Fruit","Assorted Fruit","Assorted Fruit","Assorted Fruit","Assorted Fruit",null,{"$f":"\"\"","v":""},{"$f":"\"\"","v":""},"Assorted Fruit","Assorted Fruit","Assorted Fruit","Assorted Fruit",{"$f":"\"\"","v":""},{"$f":"\"\"","v":""},null,{"$f":"\"\"","v":""},{"$f":"\"\"","v":""},"Assorted Fruit","Assorted Fruit","Assorted Fruit","Assorted Fruit","Assorted Fruit","Assorted Fruit",null,{"$f":"\"\"","v":""},{"$f":"\"\"","v":""},"Assorted Fruit","Assorted Fruit","Assorted Fruit","Assorted Fruit",{"$f":"\"\"","v":""},{"$f":"\"\"","v":""},null,{"$f":"\"\"","v":""},{"$f":"\"\"","v":""},"Assorted Fruit","Assorted Fruit","Assorted Fruit","Assorted Fruit","Assorted Fruit","Assorted Fruit",null,{"$f":"\"\"","v":""},{"$f":"\"\"","v":""},"Assorted Fruit","Tomatoes","Assorted Fruit","Assorted Fruit","Assorted Fruit","Assorted Fruit",null,{"$f":"\"\"","v":""},{"$f":"\"\"","v":""},"Assorted Fruit","Salad Bar","Assorted Fruit","Assorted Fruit","Assorted Fruit","Assorted Fruit",null,{"$f":"\"\"","v":""},{"$f":"\"\"","v":""},"Assorted Fruit","Tomatoes","Assorted Fruit","Assorted Fruit","Assorted Fruit","Side Salad & Dressing",null,{"$f":"\"\"","v":""},{"$f":"\"\"","v":""},"Assorted Fruit","Salad Bar","Assorted Fruit","Assorted Fruit","Assorted Fruit","Salad Bar"]
["Week 23",{"$f":"\"\"","v":""},{"$f":"\"\"","v":""},null,null,null,null,null,null,null,{"$f":"\"\"","v":""},{"$f":"\"\"","v":""},{"$f":"\"\"","v":""},{"$f":"\"\"","v":""},{"$f":"\"\"","v":""},{"$f":"\"\"","v":""},{"$f":"\"\"","v":""},{"$f":"\"\"","v":""},null,{"$f":"\"\"","v":""},{"$f":"\"\"","v":""},{"$f":"\"\"","v":""},{"$f":"\"\"","v":""},{"$f":"\"\"","v":""},{"$f":"\"\"","v":""},{"$f":"\"\"","v":""},{"$f":"\"\"","v":""},null,{"$f":"\"\"","v":""},{"$f":"\"\"","v":""},{"$f":"\"\"","v":""},{"$f":"\"\"","v":""},{"$f":"\"\"","v":""},{"$f":"\"\"","v":""},{"$f":"\"\"","v":""},{"$f":"\"\"","v":""},null,{"$f":"\"\"","v":""},{"$f":"\"\"","v":""},{"$f":"\"\"","v":""},{"$f":"\"\"","v":""},{"$f":"\"\"","v":""},{"$f":"\"\"","v":""},{"$f":"\"\"","v":""},{"$f":"\"\"","v":""},null,{"$f":"\"\"","v":""},{"$f":"\"\"","v":""},{"$f":"\"\"","v":""},{"$f":"\"\"","v":""},{"$f":"\"\"","v":""},{"$f":"\"\"","v":""},{"$f":"\"\"","v":""},{"$f":"\"\"","v":""},null,{"$f":"\"\"","v":""},{"$f":"\"\"","v":""},{"$f":"\"\"","v":""},"Assorted Fruit",{"$f":"\"\"","v":""},{"$f":"\"\"","v":""},{"$f":"\"\"","v":""},{"$f":"\"\"","v":""},null,{"$f":"\"\"","v":""},{"$f":"\"\"","v":""},{"$f":"\"\"","v":""},"Assorted Fruit",{"$f":"\"\"","v":""},{"$f":"\"\"","v":""},{"$f":"\"\"","v":""},{"$f":"\"\"","v":""},null,{"$f":"\"\"","v":""},{"$f":"\"\"","v":""},{"$f":"\"\"","v":""},"Assorted Fruit",{"$f":"\"\"","v":""},{"$f":"\"\"","v":""},{"$f":"\"\"","v":""},"Assorted Fruit",null,{"$f":"\"\"","v":""},{"$f":"\"\"","v":""},{"$f":"\"\"","v":""},"Assorted Fruit",{"$f":"\"\"","v":""},{"$f":"\"\"","v":""},{"$f":"\"\"","v":""},"Assorted Fruit"]
["Week 24","Week 5",{"$f":"\"\"","v":""},{"$f":"\"\"","v":""},{"$f":"\"\"","v":""},{"$f":"\"\"","v":""},{"$f":"\"\"","v":""},{"$f":"\"\"","v":""},{"$f":"\"\"","v":""},null,"Week 5",{"$f":"\"\"","v":""},{"$f":"\"\"","v":""},{"$f":"\"\"","v":""},{"$f":"\"\"","v":""},{"$f":"\"\"","v":""},{"$f":"\"\"","v":""},{"$f":"\"\"","v":""},null,"Week 5",{"$f":"\"\"","v":""},{"$f":"\"\"","v":""},{"$f":"\"\"","v":""},{"$f":"\"\"","v":""},{"$f":"\"\"","v":""},{"$f":"\"\"","v":""},{"$f":"\"\"","v":""},null,"Week 5",{"$f":"\"\"","v":""},{"$f":"\"\"","v":""},{"$f":"\"\"","v":""},{"$f":"\"\"","v":""},{"$f":"\"\"","v":""},{"$f":"\"\"","v":""},{"$f":"\"\"","v":""},null,"Week 5",{"$f":"\"\"","v":""},{"$f":"\"\"","v":""},{"$f":"\"\"","v":""},{"$f":"\"\"","v":""},{"$f":"\"\"","v":""},{"$f":"\"\"","v":""},{"$f":"\"\"","v":""},null,"Week 5",{"$f":"\"\"","v":""},{"$f":"\"\"","v":""},{"$f":"\"\"","v":""},{"$f":"\"\"","v":""},{"$f":"\"\"","v":""},{"$f":"\"\"","v":""},{"$f":"\"\"","v":""},null,"Week 5",{"$f":"\"\"","v":""},{"$f":"\"\"","v":""},{"$f":"\"\"","v":""},{"$f":"\"\"","v":""},{"$f":"\"\"","v":""},{"$f":"\"\"","v":""},{"$f":"\"\"","v":""},null,"Week 5",{"$f":"\"\"","v":""},{"$f":"\"\"","v":""},{"$f":"\"\"","v":""},{"$f":"\"\"","v":""},{"$f":"\"\"","v":""},{"$f":"\"\"","v":""},{"$f":"\"\"","v":""},null,"Week 5",{"$f":"\"\"","v":""},{"$f":"\"\"","v":""},{"$f":"\"\"","v":""},{"$f":"\"\"","v":""},{"$f":"\"\"","v":""},{"$f":"\"\"","v":""},{"$f":"\"\"","v":""},null,"Week 5",{"$f":"\"\"","v":""},{"$f":"\"\"","v":""},{"$f":"\"\"","v":""},{"$f":"\"\"","v":""},{"$f":"\"\"","v":""},{"$f":"\"\"","v":""},{"$f":"\"\"","v":""}]
["Week 25",{"$f":"\"\"","v":""},null,"Penne & Meatballs","Beef Chili w/ Cornbread","Turkey w/ Mashed Potatoes","Beef Soft Tacos","Teriyaki Chicken",null,null,{"$f":"\"\"","v":""},"Queso Omelet","Beef Hot Dog","Chicken Enchilada Nachos","Macaroni & Cheese","Buffalo Chicken Sandwich","Chicken & Potato Pilaf","Pepperoni Pizza",null,{"$f":"\"\"","v":""},"Queso Omelet","Beef Hot Dog","Chicken Enchilada Nachos","Macaroni & Cheese","Buffalo Chicken Sandwich","Chicken & Potato Pilaf","Pepperoni Pizza",null,{"$f":"\"\"","v":""},"Queso Omelet","Beef Hot Dog","Chicken Enchilada Nachos","Macaroni & Cheese","Buffalo Chicken Sandwich","Chicken & Potato Pilaf","Pepperoni Pizza",null,{"$f":"\"\"","v":""},"Queso Omelet","Beef Hot Dog","Chicken Enchilada Nachos","Macaroni & Cheese","Buffalo Chicken Sandwich","Chicken & Potato Pilaf","Pepperoni Pizza",null,{"$f":"\"\"","v":""},"Queso Omelet","Beef Hot Dog","Chicken Enchilada Nachos","Macaroni & Cheese","Buffalo Chicken Sandwich","Chicken & Potato Pilaf","Pepperoni Pizza",null,{"$f":"\"\"","v":""},"Queso Omelet","Beef Hot Dog","Chicken Enchilada Nachos","Macaroni & Cheese","Buffalo Chicken Sandwich","Chicken & Potato Pilaf","Pepperoni Pizza",null,{"$f":"\"\"","v":""},"Queso Omelet","Beef Hot Dog","Chicken Enchilada Nachos","Macaroni & Cheese","Buffalo Chicken Sandwich","Chicken & Potato Pilaf","Pepperoni Pizza",null,{"$f":"\"\"","v":""},"Queso Omelet","Beef Hot Dog","Chicken Enchilada Nachos","Macaroni & Cheese","Buffalo Chicken Sandwich","Chicken & Potato Pilaf","Pepperoni Pizza",null,{"$f":"\"\"","v":""},"Queso Omelet","Beef Hot Dog","Chicken Enchilada Nachos","Macaroni & Cheese","Buffalo Chicken Sandwich","Chicken & Potato Pilaf","Pepperoni Pizza"]
["Week 26",{"$f":"\"\"","v":""},null,"Tomatoes","Shredded Cheese & Tomatoes","and Gravy","Shredded Lettuce & Cheese","w/ Brown Rice",null,null,{"$f":"\"\"","v":""},"Dinner Roll","Ketchup & Mustard","Shredded Lettuce & Cheddar","Salad Bar","Salad Bar","Salad Bar","Salad Bar",null,{"$f":"\"\"","v":""},"Ketchup","Ketchup & Mustard","Shredded Lettuce & Cheddar","Carrots & Dressing","Garden Salad & Dressing","Cucumber & Dressing","Broccoli & Dressing",null,{"$f":"\"\"","v":""},"Dinner Roll","Ketchup & Mustard","Shredded Lettuce & Cheddar","Salad Bar","Salad Bar","Salad Bar","Salad Bar",null,{"$f":"\"\"","v":""},"Dinner Roll","Coleslaw","Shredded Lettuce & Cheddar","Carrots & Dressing","Garden Salad & Dressing","Cucumber & Dressing","Broccoli & Dressing",null,{"$f":"\"\"","v":""},"Dinner Roll","Ketchup & Mustard","Shredded Lettuce & Cheddar","Salad Bar","Salad Bar","Salad Bar","Salad Bar",null,{"$f":"\"\"","v":""},"Dinner Roll","Potato Wedges & Coleslaw","Shredded Cheddar & Taco Sauce","Carrots & Dressing","Garden Salad & Dressing","Cucumber & Dressing","Broccoli & Dressing",null,{"$f":"\"\"","v":""},"Dinner Roll","Assorted Chips","Shredded Lettuce & Cheddar","Salad Bar","Salad Bar","Salad Bar","Salad Bar",null,{"$f":"\"\"","v":""},"Ketchup & Dinner Roll","Potato Wedges & Coleslaw","Shredded Cheddar & Taco Sauce","Carrots & Dressing","Garden Salad & Dressing","Cucumber & Dressing","Assorted Chips",null,{"$f":"\"\"","v":""},"Dinner Roll","Assorted Chips","Shredded Cheddar & Taco Sauce","Salad Bar","Assorted Chips","Salad Bar","Assorted Chips"]
["Week 27",{"$f":"\"\"","v":""},null,"Assorted Fruit","Tortilla Chips","Dinner Roll & Veggies","Assorted Fruit","Assorted Fruit",null,null,{"$f":"\"\"","v":""},"Salad Bar","Salad Bar","Salad Bar","Assorted Fruit","Assorted Fruit","Assorted Fruit","Assorted Fruit",null,{"$f":"\"\"","v":""},"Dinner Roll","Coleslaw","Taco Sauce","Assorted Fruit","Assorted Fruit","Assorted Fruit","Assorted Fruit",null,{"$f":"\"\"","v":""},"Salad Bar","Salad Bar","Salad Bar","Assorted Fruit","Assorted Fruit","Assorted Fruit","Assorted Fruit",null,{"$f":"\"\"","v":""},"Cucumbers & Dressing","Ketchup & Mustard","Tomatoes","Assorted Fruit","Assorted Fruit","Assorted Fruit","Assorted Fruit",null,{"$f":"\"\"","v":""},"Salad Bar","Salad Bar","Salad Bar","Assorted Fruit","Assorted Fruit","Assorted Fruit","Assorted Fruit",null,{"$f":"\"\"","v":""},"Cucumbers & Dressing","Ketchup & Mustard","Shredded Lettuce & Tomatoes","Assorted Fruit","Assorted Fruit","Assorted Fruit","Assorted Fruit",null,{"$f":"\"\"","v":""},"Salad Bar","Ketchup & Mustard","Taco Sauce","Assorted Fruit","Assorted Fruit","Assorted Fruit","Assorted Fruit",null,{"$f":"\"\"","v":""},"Assorted Chips","Ketchup & Mustard","Shredded Lettuce & Tomatoes","Assorted Fruit","Assorted Fruit","Assorted Fruit","Broccoli & Dressing",null,{"$f":"\"\"","v":""},"Assorted Chips","Ketchup & Mustard","Sour Cream","Assorted Fruit","Salad Bar","Assorted Fruit","Salad Bar"]
["Week 28",{"$f":"\"\"","v":""},null,null,"Assorted Fruit","Assorted Fruit",{"$f":"\"\"","v":""},null,{"$f":"\"\"","v":""},null,{"$f":"\"\"","v":""},"Assorted Fruit","Assorted Fruit","Assorted Fruit",{"$f":"\"\"","v":""},{"$f":"\"\"","v":""},{"$f":"\"\"","v":""},{"$f":"\"\"","v":""},null,{"$f":"\"\"","v":""},"Cucumbers & Dressing","Assorted Fruit","Tomatoes",{"$f":"\"\"","v":""},{"$f":"\"\"","v":""},{"$f":"\"\"","v":""},{"$f":"\"\"","v":""},null,{"$f":"\"\"","v":""},"Assorted Fruit","Assorted Fruit","Assorted Fruit",{"$f":"\"\"","v":""},{"$f":"\"\"","v":""},{"$f":"\"\"","v":""},{"$f":"\"\"","v":""},null,{"$f":"\"\"","v":""},"Assorted Fruit","Assorted Fruit","Assorted Fruit",{"$f":"\"\"","v":""},{"$f":"\"\"","v":""},{"$f":"\"\"","v":""},{"$f":"\"\"","v":""},null,{"$f":"\"\"","v":""},"Assorted Fruit","Assorted Fruit","Assorted Fruit",{"$f":"\"\"","v":""},{"$f":"\"\"","v":""},{"$f":"\"\"","v":""},{"$f":"\"\"","v":""},null,{"$f":"\"\"","v":""},"Assorted Fruit","Assorted Fruit","Refried Beans",{"$f":"\"\"","v":""},{"$f":"\"\"","v":""},{"$f":"\"\"","v":""},{"$f":"\"\"","v":""},null,{"$f":"\"\"","v":""},"Assorted Fruit","Salad Bar","Salad Bar",{"$f":"\"\"","v":""},{"$f":"\"\"","v":""},{"$f":"\"\"","v":""},{"$f":"\"\"","v":""},null,{"$f":"\"\"","v":""},"Cucumbers & Dressing","Assorted Fruit","Refried Beans",{"$f":"\"\"","v":""},{"$f":"\"\"","v":""},{"$f":"\"\"","v":""},"Assorted Fruit",null,{"$f":"\"\"","v":""},"Salad Bar","Salad Bar","Salad Bar",{"$f":"\"\"","v":""},"Assorted Fruit",{"$f":"\"\"","v":""},"Assorted Fruit"]
["Week 29",{"$f":"\"\"","v":""},null,{"$f":"\"\"","v":""},null,{"$f":"\"\"","v":""},{"$f":"\"\"","v":""},{"$f":"\"\"","v":""},{"$f":"\"\"","v":""},null,{"$f":"\"\"","v":""},{"$f":"\"\"","v":""},{"$f":"\"\"","v":""},{"$f":"\"\"","v":""},{"$f":"\"\"","v":""},{"$f":"\"\"","v":""},{"$f":"\"\"","v":""},{"$f":"\"\"","v":""},null,{"$f":"\"\"","v":""},"Assorted Fruit",{"$f":"\"\"","v":""},"Assorted Fruit",{"$f":"\"\"","v":""},{"$f":"\"\"","v":""},{"$f":"\"\"","v":""},{"$f":"\"\"","v":""},null,{"$f":"\"\"","v":""},{"$f":"\"\"","v":""},{"$f":"\"\"","v":""},{"$f":"\"\"","v":""},{"$f":"\"\"","v":""},{"$f":"\"\"","v":""},{"$f":"\"\"","v":""},{"$f":"\"\"","v":""},null,{"$f":"\"\"","v":""},{"$f":"\"\"","v":""},{"$f":"\"\"","v":""},{"$f":"\"\"","v":""},{"$f":"\"\"","v":""},{"$f":"\"\"","v":""},{"$f":"\"\"","v":""},{"$f":"\"\"","v":""},null,{"$f":"\"\"","v":""},{"$f":"\"\"","v":""},{"$f":"\"\"","v":""},{"$f":"\"\"","v":""},{"$f":"\"\"","v":""},{"$f":"\"\"","v":""},{"$f":"\"\"","v":""},{"$f":"\"\"","v":""},null,{"$f":"\"\"","v":""},{"$f":"\"\"","v":""},{"$f":"\"\"","v":""},"Assorted Fruit",{"$f":"\"\"","v":""},{"$f":"\"\"","v":""},{"$f":"\"\"","v":""},{"$f":"\"\"","v":""},null,{"$f":"\"\"","v":""},{"$f":"\"\"","v":""},"Assorted Fruit","Assorted Fruit",{"$f":"\"\"","v":""},{"$f":"\"\"","v":""},{"$f":"\"\"","v":""},{"$f":"\"\"","v":""},null,{"$f":"\"\"","v":""},"Assorted Fruit",{"$f":"\"\"","v":""},"Assorted Fruit",{"$f":"\"\"","v":""},{"$f":"\"\"","v":""},{"$f":"\"\"","v":""},{"$f":"\"\"","v":""},null,{"$f":"\"\"","v":""},"Assorted Fruit","Assorted Fruit","Assorted Fruit",{"$f":"\"\"","v":""},{"$f":"\"\"","v":""},{"$f":"\"\"","v":""},{"$f":"\"\"","v":""}]
["Week 30","Week 6",{"$f":"\"\"","v":""},{"$f":"\"\"","v":""},{"$f":"\"\"","v":""},{"$f":"\"\"","v":""},{"$f":"\"\"","v":""},{"$f":"\"\"","v":""},{"$f":"\"\"","v":""},null,"Week 6",{"$f":"\"\"","v":""},{"$f":"\"\"","v":""},{"$f":"\"\"","v":""},{"$f":"\"\"","v":""},{"$f":"\"\"","v":""},{"$f":"\"\"","v":""},{"$f":"\"\"","v":""},null,"Week 6",{"$f":"\"\"","v":""},{"$f":"\"\"","v":""},{"$f":"\"\"","v":""},{"$f":"\"\"","v":""},{"$f":"\"\"","v":""},{"$f":"\"\"","v":""},{"$f":"\"\"","v":""},null,"Week 6",{"$f":"\"\"","v":""},{"$f":"\"\"","v":""},{"$f":"\"\"","v":""},{"$f":"\"\"","v":""},{"$f":"\"\"","v":""},{"$f":"\"\"","v":""},{"$f":"\"\"","v":""},null,"Week 6",{"$f":"\"\"","v":""},{"$f":"\"\"","v":""},{"$f":"\"\"","v":""},{"$f":"\"\"","v":""},{"$f":"\"\"","v":""},{"$f":"\"\"","v":""},{"$f":"\"\"","v":""},null,"Week 6",{"$f":"\"\"","v":""},{"$f":"\"\"","v":""},{"$f":"\"\"","v":""},{"$f":"\"\"","v":""},{"$f":"\"\"","v":""},{"$f":"\"\"","v":""},{"$f":"\"\"","v":""},null,"Week 6",{"$f":"\"\"","v":""},{"$f":"\"\"","v":""},{"$f":"\"\"","v":""},{"$f":"\"\"","v":""},{"$f":"\"\"","v":""},{"$f":"\"\"","v":""},{"$f":"\"\"","v":""},null,"Week 6",{"$f":"\"\"","v":""},{"$f":"\"\"","v":""},{"$f":"\"\"","v":""},{"$f":"\"\"","v":""},{"$f":"\"\"","v":""},{"$f":"\"\"","v":""},{"$f":"\"\"","v":""},null,"Week 6",{"$f":"\"\"","v":""},{"$f":"\"\"","v":""},{"$f":"\"\"","v":""},{"$f":"\"\"","v":""},{"$f":"\"\"","v":""},{"$f":"\"\"","v":""},{"$f":"\"\"","v":""},null,"Week 6",{"$f":"\"\"","v":""},{"$f":"\"\"","v":""},{"$f":"\"\"","v":""},{"$f":"\"\"","v":""},{"$f":"\"\"","v":""},{"$f":"\"\"","v":""},{"$f":"\"\"","v":""}]
["Week 31",{"$f":"\"\"","v":""},"French Toast Sticks","BBQ Chicken Sandwich","Chicken Enchilada Nachos","Beef Hot Dog","Gold Coast Chicken","Albondigas Mexicanas","Sesame Popcorn Chicken",null,{"$f":"\"\"","v":""},"French Toast Sticks","BBQ Chicken Sandwich","Chicken Enchilada Nachos","Beef Hot Dog","Gold Coast Chicken","Albondigas Mexicanas","Sesame Popcorn Chicken",null,{"$f":"\"\"","v":""},"French Toast Sticks","BBQ Chicken Sandwich","Chicken Enchilada Nachos","Beef Hot Dog","Gold Coast Chicken","Albondigas Mexicanas","Sesame Popcorn Chicken",null,{"$f":"\"\"","v":""},"French Toast Sticks","BBQ Chicken Sandwich","Chicken Enchilada Nachos","Beef Hot Dog","Gold Coast Chicken","Albondigas Mexicanas","Sesame Popcorn Chicken",null,{"$f":"\"\"","v":""},"French Toast Sticks","BBQ Chicken Sandwich","Chicken Enchilada Nachos","Beef Hot Dog","Gold Coast Chicken","Albondigas Mexicanas","Sesame Popcorn Chicken",null,{"$f":"\"\"","v":""},"French Toast Sticks","BBQ Chicken Sandwich","Chicken Enchilada Nachos","Beef Hot Dog","Gold Coast Chicken","Albondigas Mexicanas","Sesame Popcorn Chicken",null,{"$f":"\"\"","v":""},"French Toast Sticks","BBQ Chicken Sandwich","Chicken Enchilada Nachos","Beef Hot Dog","Gold Coast Chicken","Albondigas Mexicanas","Sesame Popcorn Chicken",null,{"$f":"\"\"","v":""},"French Toast Sticks","BBQ Chicken Sandwich","Chicken Enchilada Nachos","Beef Hot Dog","Gold Coast Chicken","Albondigas Mexicanas","Sesame Popcorn Chicken",null,{"$f":"\"\"","v":""},"French Toast Sticks","BBQ Chicken Sandwich","Chicken Enchilada Nachos","Beef Hot Dog","Gold Coast Chicken","Albondigas Mexicanas","Sesame Popcorn Chicken",null,{"$f":"\"\"","v":""},"French Toast Sticks","BBQ Chicken Sandwich","Chicken Enchilada Nachos","Beef Hot Dog","Gold Coast Chicken","Albondigas Mexicanas","Sesame Popcorn Chicken"]
["Week 32",{"$f":"\"\"","v":""},"Maple Syrup","Sweet Potatoes","Shredded Lettuce","Ketchup","Garlic Brown Rice","Mashed Potatoes","Cucumbers & Dressing",null,{"$f":"\"\"","v":""},"Maple Syrup","Salad Bar","Salad Bar","Ketchup","Garlic Brown Rice","Assorted Chips","Salad Bar",null,{"$f":"\"\"","v":""},"Maple Syrup","Sweet Potatoes","Assorted Chips","Ketchup","Garlic Brown Rice","Dinner Roll & Mashed Potatoes","Cucumbers & Dressing",null,{"$f":"\"\"","v":""},"Maple Syrup","Salad Bar","Salad Bar","Ketchup","Garlic Brown Rice","Assorted Chips","Salad Bar",null,{"$f":"\"\"","v":""},"Maple Syrup","Sweet Potatoes","Shredded Lettuce","Ketchup","Garlic Brown Rice","Mashed Potatoes","Cucumbers & Dressing",null,{"$f":"\"\"","v":""},"Maple Syrup","Salad Bar","Salad Bar","Ketchup","Garlic Brown Rice","Assorted Chips","Salad Bar",null,{"$f":"\"\"","v":""},"Maple Syrup","Assorted Chips","Tomatoes & Shredded Lettuce","Ketchup","Garlic Brown Rice","Mashed Potatoes","Cucumbers & Dressing",null,{"$f":"\"\"","v":""},"Maple Syrup","Assorted Chips","Assorted Chips","Shredded Cheddar & Ketchup","Garlic Brown Rice","Dinner Roll","Salad Bar",null,{"$f":"\"\"","v":""},"Maple Syrup","Assorted Chips","Tomatoes & Shredded Lettuce","Ketchup","Garlic Brown Rice","Mashed Potatoes","Assorted Chips",null,{"$f":"\"\"","v":""},"Maple Syrup","Assorted Chips","Assorted Chips","Shredded Cheddar & Ketchup","Garlic Brown Rice","Dinner Roll","Assorted Chips"]
["Week 33",{"$f":"\"\"","v":""},"Breakfast Potato with Peppers","Assorted Fruit","Assorted Fruit","Coleslaw","Carrot & Dressing","Assorted Chips","Assorted Fruit",null,{"$f":"\"\"","v":""},"Salad Bar","Assorted Fruit","Assorted Fruit","Shredded Cheddar Cheese","Salad Bar","Salad Bar","Assorted Fruit",null,{"$f":"\"\"","v":""},"Breakfast Potato with Peppers","Corn & Dressing","Shredded Lettuce & Tomatoes","Shredded Cheddar Cheese","Carrot & Dressing","Assorted Chips","Assorted Fruit",null,{"$f":"\"\"","v":""},"Salad Bar","Assorted Fruit","Assorted Fruit","Shredded Cheddar Cheese","Salad Bar","Salad Bar","Assorted Fruit",null,{"$f":"\"\"","v":""},"Breakfast Potato with Peppers","Assorted Fruit","Assorted Fruit","Coleslaw","Carrot & Dressing","Assorted Chips","Assorted Fruit",null,{"$f":"\"\"","v":""},"Salad Bar","Assorted Fruit","Assorted Fruit","Shredded Cheddar Cheese","Salad Bar","Salad Bar","Assorted Fruit",null,{"$f":"\"\"","v":""},"Breakfast Potato with Peppers","Sweet Potatoes","Assorted Fruit","Coleslaw & Baked Beans","Spinach & Carrot","Dinner Roll","Assorted Fruit",null,{"$f":"\"\"","v":""},"Salad Bar","Salad Bar","Salad Bar","Salad Bar","Salad Bar","Assorted Chips","Assorted Fruit",null,{"$f":"\"\"","v":""},"Breakfast Potato with Peppers","Sweet Potatoes","Assorted Fruit","Coleslaw & Baked Beans","Dinner Roll","Dinner Roll","Cucumbers & Dressing",null,{"$f":"\"\"","v":""},"Salad Bar","Salad Bar","Salad Bar","Salad Bar","Salad Bar","Assorted Chips","Salad Bar"]
["Week 34",{"$f":"\"\"","v":""},"Assorted Fruit",{"$f":"\"\"","v":""},{"$f":"\"\"","v":""},"Shredded Cheddar Cheese","Assorted Fruit","Assorted Fruit",{"$f":"\"\"","v":""},null,{"$f":"\"\"","v":""},"Assorted Fruit",{"$f":"\"\"","v":""},{"$f":"\"\"","v":""},"Salad Bar","Assorted Fruit","Assorted Fruit",{"$f":"\"\"","v":""},null,{"$f":"\"\"","v":""},"Assorted Fruit","Assorted Fruit","Assorted Fruit","Coleslaw","Assorted Fruit","Assorted Fruit",{"$f":"\"\"","v":""},null,{"$f":"\"\"","v":""},"Assorted Fruit",{"$f":"\"\"","v":""},{"$f":"\"\"","v":""},"Salad Bar","Assorted Fruit","Assorted Fruit",{"$f":"\"\"","v":""},null,{"$f":"\"\"","v":""},"Assorted Fruit",{"$f":"\"\"","v":""},{"$f":"\"\"","v":""},"Shredded Cheddar Cheese","Assorted Fruit","Assorted Fruit",{"$f":"\"\"","v":""},null,{"$f":"\"\"","v":""},"Assorted Fruit",{"$f":"\"\"","v":""},{"$f":"\"\"","v":""},"Salad Bar","Assorted Fruit","Assorted Fruit",{"$f":"\"\"","v":""},null,{"$f":"\"\"","v":""},"Assorted Fruit","Corn & Dressing",{"$f":"\"\"","v":""},"Shredded Cheddar","Assorted Fruit","Broccoli",{"$f":"\"\"","v":""},null,{"$f":"\"\"","v":""},"Assorted Fruit","Assorted Fruit","Assorted Fruit","Assorted Fruit","Assorted Fruit","Salad Bar",{"$f":"\"\"","v":""},null,{"$f":"\"\"","v":""},"Assorted Fruit","Corn & Dressing",{"$f":"\"\"","v":""},"Shredded Cheddar","Spinach & Carrot","Broccoli","Assorted Fruit",null,{"$f":"\"\"","v":""},"Assorted Fruit","Assorted Fruit","Assorted Fruit","Assorted Fruit","Assorted Fruit","Salad Bar","Assorted Fruit"]
["Week 35",{"$f":"\"\"","v":""},{"$f":"\"\"","v":""},{"$f":"\"\"","v":""},{"$f":"\"\"","v":""},"Assorted Fruit",{"$f":"\"\"","v":""},{"$f":"\"\"","v":""},{"$f":"\"\"","v":""},null,{"$f":"\"\"","v":""},{"$f":"\"\"","v":""},{"$f":"\"\"","v":""},{"$f":"\"\"","v":""},"Assorted Fruit",{"$f":"\"\"","v":""},{"$f":"\"\"","v":""},{"$f":"\"\"","v":""},null,{"$f":"\"\"","v":""},{"$f":"\"\"","v":""},{"$f":"\"\"","v":""},{"$f":"\"\"","v":""},"Assorted Fruit",{"$f":"\"\"","v":""},null,{"$f":"\"\"","v":""},null,{"$f":"\"\"","v":""},{"$f":"\"\"","v":""},{"$f":"\"\"","v":""},{"$f":"\"\"","v":""},"Assorted Fruit",{"$f":"\"\"","v":""},{"$f":"\"\"","v":""},{"$f":"\"\"","v":""},null,{"$f":"\"\"","v":""},{"$f":"\"\"","v":""},{"$f":"\"\"","v":""},{"$f":"\"\"","v":""},"Assorted Fruit",{"$f":"\"\"","v":""},{"$f":"\"\"","v":""},{"$f":"\"\"","v":""},null,{"$f":"\"\"","v":""},{"$f":"\"\"","v":""},{"$f":"\"\"","v":""},{"$f":"\"\"","v":""},"Assorted Fruit",{"$f":"\"\"","v":""},{"$f":"\"\"","v":""},{"$f":"\"\"","v":""},null,{"$f":"\"\"","v":""},{"$f":"\"\"","v":""},"Assorted Fruit",{"$f":"\"\"","v":""},"Assorted Fruit",{"$f":"\"\"","v":""},"Assorted Fruit",{"$f":"\"\"","v":""},null,{"$f":"\"\"","v":""},{"$f":"\"\"","v":""},{"$f":"\"\"","v":""},{"$f":"\"\"","v":""},{"$f":"\"\"","v":""},{"$f":"\"\"","v":""},"Assorted Fruit",{"$f":"\"\"","v":""},null,{"$f":"\"\"","v":""},{"$f":"\"\"","v":""},"Assorted Fruit",{"$f":"\"\"","v":""},"Assorted Fruit","Assorted Fruit","Assorted Fruit",{"$f":"\"\"","v":""},null,{"$f":"\"\"","v":""},{"$f":"\"\"","v":""},{"$f":"\"\"","v":""},{"$f":"\"\"","v":""},{"$f":"\"\"","v":""},{"$f":"\"\"","v":""},"Assorted Fruit",{"$f":"\"\"","v":""}]
["Week 36","Week 7",{"$f":"\"\"","v":""},{"$f":"\"\"","v":""},{"$f":"\"\"","v":""},{"$f":"\"\"","v":""},{"$f":"\"\"","v":""},{"$f":"\"\"","v":""},{"$f":"\"\"","v":""},null,"Week 7",{"$f":"\"\"","v":""},{"$f":"\"\"","v":""},{"$f":"\"\"","v":""},{"$f":"\"\"","v":""},{"$f":"\"\"","v":""},{"$f":"\"\"","v":""},{"$f":"\"\"","v":""},null,"Week 7",{"$f":"\"\"","v":""},{"$f":"\"\"","v":""},{"$f":"\"\"","v":""},{"$f":"\"\"","v":""},{"$f":"\"\"","v":""},{"$f":"\"\"","v":""},{"$f":"\"\"","v":""},null,"Week 7",{"$f":"\"\"","v":""},{"$f":"\"\"","v":""},{"$f":"\"\"","v":""},{"$f":"\"\"","v":""},{"$f":"\"\"","v":""},{"$f":"\"\"","v":""},{"$f":"\"\"","v":""},null,"Week 7",{"$f":"\"\"","v":""},{"$f":"\"\"","v":""},{"$f":"\"\"","v":""},{"$f":"\"\"","v":""},{"$f":"\"\"","v":""},{"$f":"\"\"","v":""},{"$f":"\"\"","v":""},null,"Week 7",{"$f":"\"\"","v":""},{"$f":"\"\"","v":""},{"$f":"\"\"","v":""},{"$f":"\"\"","v":""},{"$f":"\"\"","v":""},{"$f":"\"\"","v":""},{"$f":"\"\"","v":""},null,"Week 7",{"$f":"\"\"","v":""},{"$f":"\"\"","v":""},{"$f":"\"\"","v":""},{"$f":"\"\"","v":""},{"$f":"\"\"","v":""},{"$f":"\"\"","v":""},{"$f":"\"\"","v":""},null,"Week 7",{"$f":"\"\"","v":""},{"$f":"\"\"","v":""},{"$f":"\"\"","v":""},{"$f":"\"\"","v":""},{"$f":"\"\"","v":""},{"$f":"\"\"","v":""},{"$f":"\"\"","v":""},null,"Week 7",{"$f":"\"\"","v":""},{"$f":"\"\"","v":""},{"$f":"\"\"","v":""},{"$f":"\"\"","v":""},{"$f":"\"\"","v":""},{"$f":"\"\"","v":""},{"$f":"\"\"","v":""},null,"Week 7",{"$f":"\"\"","v":""},{"$f":"\"\"","v":""},{"$f":"\"\"","v":""},{"$f":"\"\"","v":""},{"$f":"\"\"","v":""},{"$f":"\"\"","v":""},{"$f":"\"\"","v":""}]
["Week 37",{"$f":"\"\"","v":""},"Waffle & Breakfast Sausage","Hamburger","General Tso's Chicken","Tuscan Chicken Sandwich","Tejas Meatballs","Zesty Beef Steak","Fish Sandwich",null,{"$f":"\"\"","v":""},"Waffle & Breakfast Sausage","Hamburger","General Tso's Chicken","Tuscan Chicken Sandwich","Tejas Meatballs","Zesty Beef Steak","Fish Sandwich",null,{"$f":"\"\"","v":""},"Waffle & Breakfast Sausage","Hamburger","Sweet & Sour Chicken","Tuscan Chicken Sandwich","Tejas Meatballs","Zesty Beef Steak","Fish Sandwich",null,{"$f":"\"\"","v":""},"Waffle & Breakfast Sausage","Hamburger","General Tso's Chicken","Tuscan Chicken Sandwich","Tejas Meatballs","Zesty Beef Steak","Fish Sandwich",null,{"$f":"\"\"","v":""},"Waffle & Breakfast Sausage","Hamburger","General Tso's Chicken","Tuscan Chicken Sandwich","Tejas Meatballs","Zesty Beef Steak","Fish Sandwich",null,{"$f":"\"\"","v":""},"Waffle & Breakfast Sausage","Hamburger","General Tso's Chicken","Tuscan Chicken Sandwich","Tejas Meatballs","Zesty Beef Steak","Fish Sandwich",null,{"$f":"\"\"","v":""},"Waffle & Breakfast Sausage","Hamburger","General Tso's Chicken","Tuscan Chicken Sandwich","Tejas Meatballs","Zesty Beef Steak","Fish Sandwich",null,{"$f":"\"\"","v":""},"Waffle & Breakfast Sausage","Hamburger","General Tso's Chicken","Tuscan Chicken Sandwich","Tejas Meatballs","Zesty Beef Steak","Fish Sandwich",null,{"$f":"\"\"","v":""},"Waffle & Breakfast Sausage","Hamburger","General Tso's Chicken","Tuscan Chicken Sandwich","Tejas Meatballs","Zesty Beef Steak","Fish Sandwich",null,{"$f":"\"\"","v":""},"Waffle & Breakfast Sausage","Hamburger","General Tso's Chicken","Tuscan Chicken Sandwich","Tejas Meatballs","Zesty Beef Steak","Fish Sandwich"]
["Week 38",{"$f":"\"\"","v":""},"Maple Syrup","Pickles & Ketchup","Cilantro Brown Rice","Carrots & Dressing","Assorted Chips","Mashed Potatoes","Baja  Sauce",null,{"$f":"\"\"","v":""},"Maple Syrup","Pickles & Ketchup","Cilantro Brown Rice","Salad Bar","Assorted Chips","Dinner Roll","Baja  Sauce",null,{"$f":"\"\"","v":""},"Maple Syrup","Pickles & Lettuce","Cilantro Brown Rice","Carrots","Assorted Chips","Mashed Potatoes","Baja  Sauce",null,{"$f":"\"\"","v":""},"Maple Syrup","Pickles & Ketchup","Cilantro Brown Rice","Salad Bar","Assorted Chips","Dinner Roll","Baja  Sauce",null,{"$f":"\"\"","v":""},"Maple Syrup","Pickles & Ketchup","Cilantro Brown Rice","Carrots & Dressing","Assorted Chips","Mashed Potatoes","Baja  Sauce",null,{"$f":"\"\"","v":""},"Maple Syrup","Pickles & Ketchup","Cilantro Brown Rice","Salad Bar","Assorted Chips","Dinner Roll","Baja  Sauce",null,{"$f":"\"\"","v":""},"Maple Syrup","Potato Wedges & Ketchup","Cilantro Brown Rice","Pinto Beans","Assorted Chips","Mashed Potatoes","Baja  Sauce",null,{"$f":"\"\"","v":""},"Maple Syrup","Pickles & Ketchup","Cilantro Brown Rice","Salad Bar","Assorted Chips","Garlic Brown Rice","Baja  Sauce",null,{"$f":"\"\"","v":""},"Maple Syrup","Potato Wedges & Ketchup","Cilantro Brown Rice","Pinto Beans","Assorted Chips","Mashed Potatoes","Baja  Sauce",null,{"$f":"\"\"","v":""},"Maple Syrup","Pickles & Ketchup","Cilantro Brown Rice","Assorted Chips","Assorted Chips","Garlic Brown Rice","Baja  Sauce"]
["Week 39",{"$f":"\"\"","v":""},"Breakfast Potato with Peppers","Assorted Chips","Broccoli","Assorted Fruit","Red Peppers & Dressing","Dinner Roll","Side Salad & Dressing",null,{"$f":"\"\"","v":""},"Salad Bar","Salad Bar","Salad Bar","Assorted Fruit","Salad Bar","Salad Bar","Salad Bar",null,{"$f":"\"\"","v":""},"Breakfast Potato with Peppers","Ketchup","Broccoli","Assorted Fruit","Tomatoes","Dinner Roll","Side Salad & Dressing",null,{"$f":"\"\"","v":""},"Salad Bar","Salad Bar","Salad Bar","Assorted Fruit","Salad Bar","Salad Bar","Salad Bar",null,{"$f":"\"\"","v":""},"Breakfast Potato with Peppers","Assorted Chips","Broccoli","Assorted Fruit","Red Peppers & Dressing","Dinner Roll","Side Salad & Dressing",null,{"$f":"\"\"","v":""},"Salad Bar","Salad Bar","Salad Bar","Assorted Fruit","Salad Bar","Salad Bar","Salad Bar",null,{"$f":"\"\"","v":""},"Breakfast Potato with Peppers","Assorted Chips","Broccoli & Cauliflower","Carrots","Tomatoes & Red Peppers","Dinner Roll","Side Salad & Dressing",null,{"$f":"\"\"","v":""},"Salad Bar","Assorted Chips","Salad Bar","Assorted Fruit","Salad Bar","Dinner Roll","Salad Bar",null,{"$f":"\"\"","v":""},"Breakfast Potato with Peppers","Assorted Chips","Broccoli & Cauliflower","Carrots","Tomatoes & Red Peppers","Dinner Roll","Assorted Chips",null,{"$f":"\"\"","v":""},"Salad Bar","Assorted Chips","Salad Bar","Salad Bar","Salad Bar","Dinner Roll","Assorted Chips"]
["Week 40",{"$f":"\"\"","v":""},"Assorted Fruit","Assorted Fruit","Assorted Fruit",{"$f":"\"\"","v":""},"Assorted Fruit","Assorted Fruit","Assorted Fruit",null,{"$f":"\"\"","v":""},"Assorted Fruit","Assorted Fruit","Assorted Fruit",{"$f":"\"\"","v":""},"Assorted Fruit","Assorted Fruit","Assorted Fruit",null,{"$f":"\"\"","v":""},"Assorted Fruit","Potato Wedges","Assorted Fruit",{"$f":"\"\"","v":""},"Red Peppers & Dressing","Assorted Fruit","Assorted Fruit",null,{"$f":"\"\"","v":""},"Assorted Fruit","Assorted Fruit","Assorted Fruit",{"$f":"\"\"","v":""},"Assorted Fruit","Assorted Fruit","Assorted Fruit",null,{"$f":"\"\"","v":""},"Assorted Fruit","Assorted Fruit","Assorted Fruit",{"$f":"\"\"","v":""},"Assorted Fruit","Assorted Fruit","Assorted Fruit",null,{"$f":"\"\"","v":""},"Assorted Fruit","Assorted Fruit","Assorted Fruit",{"$f":"\"\"","v":""},"Assorted Fruit","Assorted Fruit","Assorted Fruit",null,{"$f":"\"\"","v":""},"Assorted Fruit","Pickles & Shredded Lettuce","Assorted Fruit","Assorted Fruit","Assorted Fruit","Assorted Fruit","Assorted Fruit",null,{"$f":"\"\"","v":""},"Assorted Fruit","Salad Bar","Assorted Fruit",{"$f":"\"\"","v":""},"Assorted Fruit","Salad Bar","Assorted Fruit",null,{"$f":"\"\"","v":""},"Assorted Fruit","Pickles & Shredded Lettuce","Assorted Fruit","Assorted Fruit","Assorted Fruit","Assorted Fruit","Side Salad & Dressing",null,{"$f":"\"\"","v":""},"Assorted Fruit","Salad Bar","Assorted Fruit","Assorted Fruit","Assorted Fruit","Salad Bar","Salad Bar"]
[null,{"$f":"\"\"","v":""},{"$f":"\"\"","v":""},{"$f":"\"\"","v":""},{"$f":"\"\"","v":""},{"$f":"\"\"","v":""},{"$f":"\"\"","v":""},{"$f":"\"\"","v":""},{"$f":"\"\"","v":""},null,{"$f":"\"\"","v":""},{"$f":"\"\"","v":""},{"$f":"\"\"","v":""},{"$f":"\"\"","v":""},{"$f":"\"\"","v":""},{"$f":"\"\"","v":""},{"$f":"\"\"","v":""},{"$f":"\"\"","v":""},null,{"$f":"\"\"","v":""},{"$f":"\"\"","v":""},"Assorted Fruit",{"$f":"\"\"","v":""},{"$f":"\"\"","v":""},"Assorted Fruit",{"$f":"\"\"","v":""},{"$f":"\"\"","v":""},null,{"$f":"\"\"","v":""},{"$f":"\"\"","v":""},{"$f":"\"\"","v":""},{"$f":"\"\"","v":""},{"$f":"\"\"","v":""},{"$f":"\"\"","v":""},{"$f":"\"\"","v":""},{"$f":"\"\"","v":""},null,{"$f":"\"\"","v":""},{"$f":"\"\"","v":""},{"$f":"\"\"","v":""},{"$f":"\"\"","v":""},{"$f":"\"\"","v":""},{"$f":"\"\"","v":""},{"$f":"\"\"","v":""},{"$f":"\"\"","v":""},null,{"$f":"\"\"","v":""},{"$f":"\"\"","v":""},{"$f":"\"\"","v":""},{"$f":"\"\"","v":""},{"$f":"\"\"","v":""},{"$f":"\"\"","v":""},{"$f":"\"\"","v":""},{"$f":"\"\"","v":""},null,{"$f":"\"\"","v":""},{"$f":"\"\"","v":""},"Assorted Fruit",{"$f":"\"\"","v":""},{"$f":"\"\"","v":""},{"$f":"\"\"","v":""},{"$f":"\"\"","v":""},{"$f":"\"\"","v":""},null,{"$f":"\"\"","v":""},{"$f":"\"\"","v":""},"Assorted Fruit",{"$f":"\"\"","v":""},{"$f":"\"\"","v":""},{"$f":"\"\"","v":""},"Assorted Fruit",{"$f":"\"\"","v":""},null,{"$f":"\"\"","v":""},{"$f":"\"\"","v":""},"Assorted Fruit",{"$f":"\"\"","v":""},{"$f":"\"\"","v":""},{"$f":"\"\"","v":""},{"$f":"\"\"","v":""},"Assorted Fruit",null,{"$f":"\"\"","v":""},{"$f":"\"\"","v":""},"Assorted Fruit",{"$f":"\"\"","v":""},{"$f":"\"\"","v":""},{"$f":"\"\"","v":""},"Assorted Fruit","Assorted Fruit"]
[null,"Week 8",{"$f":"\"\"","v":""},{"$f":"\"\"","v":""},{"$f":"\"\"","v":""},{"$f":"\"\"","v":""},{"$f":"\"\"","v":""},{"$f":"\"\"","v":""},{"$f":"\"\"","v":""},null,"Week 8",{"$f":"\"\"","v":""},{"$f":"\"\"","v":""},{"$f":"\"\"","v":""},{"$f":"\"\"","v":""},{"$f":"\"\"","v":""},{"$f":"\"\"","v":""},{"$f":"\"\"","v":""},null,"Week 8",{"$f":"\"\"","v":""},{"$f":"\"\"","v":""},{"$f":"\"\"","v":""},{"$f":"\"\"","v":""},{"$f":"\"\"","v":""},{"$f":"\"\"","v":""},{"$f":"\"\"","v":""},null,"Week 8",{"$f":"\"\"","v":""},{"$f":"\"\"","v":""},{"$f":"\"\"","v":""},{"$f":"\"\"","v":""},{"$f":"\"\"","v":""},{"$f":"\"\"","v":""},{"$f":"\"\"","v":""},null,"Week 8",{"$f":"\"\"","v":""},{"$f":"\"\"","v":""},{"$f":"\"\"","v":""},{"$f":"\"\"","v":""},{"$f":"\"\"","v":""},{"$f":"\"\"","v":""},{"$f":"\"\"","v":""},null,"Week 8",{"$f":"\"\"","v":""},{"$f":"\"\"","v":""},{"$f":"\"\"","v":""},{"$f":"\"\"","v":""},{"$f":"\"\"","v":""},{"$f":"\"\"","v":""},{"$f":"\"\"","v":""},null,"Week 8",{"$f":"\"\"","v":""},{"$f":"\"\"","v":""},{"$f":"\"\"","v":""},{"$f":"\"\"","v":""},{"$f":"\"\"","v":""},{"$f":"\"\"","v":""},{"$f":"\"\"","v":""},null,"Week 8",{"$f":"\"\"","v":""},{"$f":"\"\"","v":""},{"$f":"\"\"","v":""},{"$f":"\"\"","v":""},{"$f":"\"\"","v":""},{"$f":"\"\"","v":""},{"$f":"\"\"","v":""},null,"Week 8",{"$f":"\"\"","v":""},{"$f":"\"\"","v":""},{"$f":"\"\"","v":""},{"$f":"\"\"","v":""},{"$f":"\"\"","v":""},{"$f":"\"\"","v":""},{"$f":"\"\"","v":""},null,"Week 8",{"$f":"\"\"","v":""},{"$f":"\"\"","v":""},{"$f":"\"\"","v":""},{"$f":"\"\"","v":""},{"$f":"\"\"","v":""},{"$f":"\"\"","v":""},{"$f":"\"\"","v":""}]
[null,{"$f":"\"\"","v":""},"Cheese Omelet","Crunchy Chicken Tenders","Walking Beef Taco","Italian Chicken Pasta","Corn Dog","Chicken Taco","Beef Pho",null,{"$f":"\"\"","v":""},"Cheese Omelet","Crunchy Chicken Tenders","Walking Beef Taco","Italian Chicken Pasta","Corn Dog","Chicken Taco","Beef Pho",null,{"$f":"\"\"","v":""},"Cheese Omelet","Crunchy Chicken Tenders","Walking Beef Taco","Italian Chicken Pasta","Corn Dog","Chicken Taco","Beef Pho",null,{"$f":"\"\"","v":""},"Cheese Omelet","Crunchy Chicken Tenders","Walking Beef Taco","Italian Chicken Pasta","Corn Dog","Chicken Taco","Beef Pho",null,{"$f":"\"\"","v":""},"Cheese Omelet","Crunchy Chicken Tenders","Walking Beef Taco","Italian Chicken Pasta","Corn Dog","Chicken Taco","Beef Pho",null,{"$f":"\"\"","v":""},"Cheese Omelet","Crunchy Chicken Tenders","Walking Beef Taco","Italian Chicken Pasta","Corn Dog","Chicken Taco","Beef Pho",null,{"$f":"\"\"","v":""},"Cheese Omelet","Crunchy Chicken Tenders","Walking Beef Taco","Italian Chicken Pasta","Corn Dog","Chicken Taco","Beef Pho",null,{"$f":"\"\"","v":""},"Cheese Omelet","Crunchy Chicken Tenders","Walking Beef Taco","Italian Chicken Pasta","Corn Dog","Chicken Taco","Beef Pho",null,{"$f":"\"\"","v":""},"Cheese Omelet","Crunchy Chicken Tenders","Walking Beef Taco","Italian Chicken Pasta","Corn Dog","Chicken Taco","Beef Pho",null,{"$f":"\"\"","v":""},"Cheese Omelet","Crunchy Chicken Tenders","Walking Beef Taco","Italian Chicken Pasta","Corn Dog","Chicken Taco","Beef Pho"]
[null,{"$f":"\"\"","v":""},"Dinner Roll","BBQ Sauce","Shredded Lettuce & Cheddar","Shredded Mozzarella","Coleslaw","Shredded Lettuce & Cheddar","Green Beans",null,{"$f":"\"\"","v":""},"Dinner Roll","BBQ Sauce","Shredded Lettuce & Cheddar","Shredded Mozzarella","Ketchup & Mustard","Shredded Cheddar Cheese","Salad Bar",null,{"$f":"\"\"","v":""},"Dinner Roll & Sour Cream","BBQ Sauce","Shredded Lettuce & Cheddar","Shredded Mozzarella","Coleslaw","Shredded Lettuce & Cheddar","Green Beans",null,{"$f":"\"\"","v":""},"Dinner Roll","BBQ Sauce","Shredded Lettuce & Cheddar","Shredded Mozzarella","Ketchup & Mustard","Shredded Cheddar Cheese","Salad Bar",null,{"$f":"\"\"","v":""},"Dinner Roll","BBQ Sauce","Shredded Lettuce & Cheddar","Shredded Mozzarella","Coleslaw","Shredded Lettuce & Cheddar","Green Beans",null,{"$f":"\"\"","v":""},"Dinner Roll","BBQ Sauce","Shredded Lettuce & Cheddar","Shredded Mozzarella","Ketchup & Mustard","Shredded Cheddar Cheese","Salad Bar",null,{"$f":"\"\"","v":""},"Dinner Roll","Baked Beans & Biscuit","Shredded Cheddar & Taco Sauce","Dinner Roll","Crispy Cubes & Coleslaw","Shredded Lettuce & Tomatoes","Dinner Roll",null,{"$f":"\"\"","v":""},"Dinner Roll","BBQ Sauce","Shredded Lettuce & Cheddar","Shredded Mozzarella","Ketchup & Mustard","Shredded Cheddar","Dinner Roll",null,{"$f":"\"\"","v":""},"Sour Cream & Shredded Mozzarella","Baked Beans & Biscuit","Shredded Cheddar & Taco Sauce","Dinner Roll","Crispy Cubes & Coleslaw","Shredded Lettuce & Tomatoes","Dinner Roll",null,{"$f":"\"\"","v":""},"Dinner Roll","BBQ Sauce","Shredded Lettuce & Cheddar","Shredded Mozzarella","Ketchup & Mustard","Shredded Cheddar & Sour Cream","Dinner Roll"]
[null,{"$f":"\"\"","v":""},"Spinach Salad & Dressing","Side Salad & Dressing","Red Peppers","Carrots & Dressing","Ketchup & Mustard","Assorted Fruit","Assorted Fruit",null,{"$f":"\"\"","v":""},"Salad Bar","Salad Bar","Salad Bar","Salad Bar","Salad Bar","Salad Bar","Assorted Fruit",null,{"$f":"\"\"","v":""},"Spinach Salad & Dressing","Side Salad & Dressing","Assorted Chips & Taco Sauce","Carrots & Dressing","Ketchup & Mustard","RanchaBoom! Sauce","Assorted Fruit",null,{"$f":"\"\"","v":""},"Salad Bar","Salad Bar","Salad Bar","Salad Bar","Salad Bar","Salad Bar","Assorted Fruit",null,{"$f":"\"\"","v":""},"Spinach Salad & Dressing","Side Salad & Dressing","Red Peppers","Carrots & Dressing","Ketchup & Mustard","Assorted Fruit","Assorted Fruit",null,{"$f":"\"\"","v":""},"Salad Bar","Salad Bar","Salad Bar","Salad Bar","Salad Bar","Salad Bar","Assorted Fruit",null,{"$f":"\"\"","v":""},"Spinach Salad & Dressing","Side Salad & Dressing","Shredded Lettuce & Tomatoes","Romaine Lettuce & Carrots","Ketchup & Mustard","Shredded Cheddar","Green Beans",null,{"$f":"\"\"","v":""},"Salad Bar","Biscuit","Assorted Chips & Taco Sauce","Salad Bar","Salad Bar","RanchaBoom! Sauce","Salad Bar",null,{"$f":"\"\"","v":""},"Assorted Chips","Side Salad & Dressing","Shredded Lettuce & Tomatoes","Romaine Lettuce & Carrots","Ketchup & Mustard","Shredded Cheddar","Green Beans",null,{"$f":"\"\"","v":""},"Assorted Chips","Biscuit","Assorted Chips & Taco Sauce","Dinner Roll","Salad Bar","RanchaBoom! Sauce","Salad Bar"]
[null,{"$f":"\"\"","v":""},"Assorted Fruit","Assorted Fruit","Assorted Fruit","Assorted Fruit","Assorted Fruit",{"$f":"\"\"","v":""},{"$f":"\"\"","v":""},null,{"$f":"\"\"","v":""},"Assorted Fruit","Assorted Fruit","Assorted Fruit","Assorted Fruit","Assorted Fruit","Assorted Fruit",{"$f":"\"\"","v":""},null,{"$f":"\"\"","v":""},"Assorted Fruit","Assorted Fruit","Red Peppers","Assorted Fruit","Assorted Fruit","Assorted Fruit",{"$f":"\"\"","v":""},null,{"$f":"\"\"","v":""},"Assorted Fruit","Assorted Fruit","Assorted Fruit","Assorted Fruit","Assorted Fruit","Assorted Fruit",{"$f":"\"\"","v":""},null,{"$f":"\"\"","v":""},"Assorted Fruit","Assorted Fruit","Assorted Fruit","Assorted Fruit","Assorted Fruit",{"$f":"\"\"","v":""},{"$f":"\"\"","v":""},null,{"$f":"\"\"","v":""},"Assorted Fruit","Assorted Fruit","Assorted Fruit","Assorted Fruit","Assorted Fruit","Assorted Fruit",{"$f":"\"\"","v":""},null,{"$f":"\"\"","v":""},"Assorted Fruit","Assorted Fruit","Red Peppers","Shredded Mozzarella","Assorted Fruit","RanchaBoom! Sauce","Assorted Fruit",null,{"$f":"\"\"","v":""},"Assorted Fruit","Salad Bar","Salad Bar","Assorted Fruit","Assorted Fruit","Salad Bar","Assorted Fruit",null,{"$f":"\"\"","v":""},"Spinach Salad & Dressing","Assorted Fruit","Red Peppers","Shredded Mozzarella","Assorted Fruit","RanchaBoom! Sauce","Assorted Fruit",null,{"$f":"\"\"","v":""},"Salad Bar","Salad Bar","Salad Bar","Salad Bar","Assorted Fruit","Salad Bar","Assorted Fruit"]
[null,{"$f":"\"\"","v":""},{"$f":"\"\"","v":""},{"$f":"\"\"","v":""},{"$f":"\"\"","v":""},{"$f":"\"\"","v":""},{"$f":"\"\"","v":""},{"$f":"\"\"","v":""},{"$f":"\"\"","v":""},null,{"$f":"\"\"","v":""},{"$f":"\"\"","v":""},{"$f":"\"\"","v":""},{"$f":"\"\"","v":""},{"$f":"\"\"","v":""},{"$f":"\"\"","v":""},{"$f":"\"\"","v":""},{"$f":"\"\"","v":""},null,{"$f":"\"\"","v":""},{"$f":"\"\"","v":""},{"$f":"\"\"","v":""},"Assorted Fruit",{"$f":"\"\"","v":""},{"$f":"\"\"","v":""},{"$f":"\"\"","v":""},{"$f":"\"\"","v":""},null,{"$f":"\"\"","v":""},{"$f":"\"\"","v":""},{"$f":"\"\"","v":""},{"$f":"\"\"","v":""},{"$f":"\"\"","v":""},{"$f":"\"\"","v":""},{"$f":"\"\"","v":""},{"$f":"\"\"","v":""},null,{"$f":"\"\"","v":""},{"$f":"\"\"","v":""},{"$f":"\"\"","v":""},{"$f":"\"\"","v":""},{"$f":"\"\"","v":""},{"$f":"\"\"","v":""},{"$f":"\"\"","v":""},{"$f":"\"\"","v":""},null,{"$f":"\"\"","v":""},{"$f":"\"\"","v":""},{"$f":"\"\"","v":""},{"$f":"\"\"","v":""},{"$f":"\"\"","v":""},{"$f":"\"\"","v":""},{"$f":"\"\"","v":""},{"$f":"\"\"","v":""},null,{"$f":"\"\"","v":""},{"$f":"\"\"","v":""},{"$f":"\"\"","v":""},"Assorted Fruit","Assorted Fruit",{"$f":"\"\"","v":""},"Assorted Fruit",{"$f":"\"\"","v":""},null,{"$f":"\"\"","v":""},{"$f":"\"\"","v":""},"Assorted Fruit","Assorted Fruit",{"$f":"\"\"","v":""},{"$f":"\"\"","v":""},"Assorted Fruit",{"$f":"\"\"","v":""},null,{"$f":"\"\"","v":""},"Assorted Fruit",{"$f":"\"\"","v":""},"Assorted Fruit","Assorted Fruit",{"$f":"\"\"","v":""},"Assorted Fruit",{"$f":"\"\"","v":""},null,{"$f":"\"\"","v":""},"Assorted Fruit","Assorted Fruit","Assorted Fruit","Assorted Fruit",{"$f":"\"\"","v":""},"Assorted Fruit",{"$f":"\"\"","v":""}]
[null,"Week 9",{"$f":"\"\"","v":""},{"$f":"\"\"","v":""},{"$f":"\"\"","v":""},{"$f":"\"\"","v":""},{"$f":"\"\"","v":""},{"$f":"\"\"","v":""},{"$f":"\"\"","v":""},null,"Week 9",{"$f":"\"\"","v":""},{"$f":"\"\"","v":""},{"$f":"\"\"","v":""},{"$f":"\"\"","v":""},{"$f":"\"\"","v":""},{"$f":"\"\"","v":""},{"$f":"\"\"","v":""},null,"Week 9",{"$f":"\"\"","v":""},{"$f":"\"\"","v":""},{"$f":"\"\"","v":""},{"$f":"\"\"","v":""},{"$f":"\"\"","v":""},{"$f":"\"\"","v":""},{"$f":"\"\"","v":""},null,"Week 9",{"$f":"\"\"","v":""},{"$f":"\"\"","v":""},{"$f":"\"\"","v":""},{"$f":"\"\"","v":""},{"$f":"\"\"","v":""},{"$f":"\"\"","v":""},{"$f":"\"\"","v":""},null,"Week 9",{"$f":"\"\"","v":""},{"$f":"\"\"","v":""},{"$f":"\"\"","v":""},{"$f":"\"\"","v":""},{"$f":"\"\"","v":""},{"$f":"\"\"","v":""},{"$f":"\"\"","v":""},null,"Week 9",{"$f":"\"\"","v":""},{"$f":"\"\"","v":""},{"$f":"\"\"","v":""},{"$f":"\"\"","v":""},{"$f":"\"\"","v":""},{"$f":"\"\"","v":""},{"$f":"\"\"","v":""},null,"Week 9",{"$f":"\"\"","v":""},{"$f":"\"\"","v":""},{"$f":"\"\"","v":""},{"$f":"\"\"","v":""},{"$f":"\"\"","v":""},{"$f":"\"\"","v":""},{"$f":"\"\"","v":""},null,"Week 9",{"$f":"\"\"","v":""},{"$f":"\"\"","v":""},{"$f":"\"\"","v":""},{"$f":"\"\"","v":""},{"$f":"\"\"","v":""},{"$f":"\"\"","v":""},{"$f":"\"\"","v":""},null,"Week 9",{"$f":"\"\"","v":""},{"$f":"\"\"","v":""},{"$f":"\"\"","v":""},{"$f":"\"\"","v":""},{"$f":"\"\"","v":""},{"$f":"\"\"","v":""},{"$f":"\"\"","v":""},null,"Week 9",{"$f":"\"\"","v":""},{"$f":"\"\"","v":""},{"$f":"\"\"","v":""},{"$f":"\"\"","v":""},{"$f":"\"\"","v":""},{"$f":"\"\"","v":""},{"$f":"\"\"","v":""}]
[null,{"$f":"\"\"","v":""},"Pancakes","Chicken Patty Sandwich","Pollo Verde","Beef & Potato Wrap","Sesame Popcorn Chicken","Cheesy Spaghetti","Mongolain Meatballs",null,{"$f":"\"\"","v":""},"Pancakes","Chicken Patty Sandwich","Pollo Verde","Beef & Potato Wrap","Sesame Popcorn Chicken","Cheesy Spaghetti","Mongolain Meatballs",null,{"$f":"\"\"","v":""},"Pancakes","Chicken Patty Sandwich","Pollo Verde","Beef & Potato Wrap","Sesame Popcorn Chicken","Cheesy Spaghetti","Mongolain Meatballs",null,{"$f":"\"\"","v":""},"Pancakes","Chicken Patty Sandwich","Pollo Verde","Beef & Potato Wrap","Sesame Popcorn Chicken","Cheesy Spaghetti","Mongolain Meatballs",null,{"$f":"\"\"","v":""},"Pancakes","Chicken Patty Sandwich","Pollo Verde","Beef & Potato Wrap","Sesame Popcorn Chicken","Cheesy Spaghetti","Mongolain Meatballs",null,{"$f":"\"\"","v":""},"Pancakes","Chicken Patty Sandwich","Pollo Verde","Beef & Potato Wrap","Sesame Popcorn Chicken","Cheesy Spaghetti","Mongolain Meatballs",null,{"$f":"\"\"","v":""},"Pancakes","Chicken Patty Sandwich","Pollo Verde","Beef & Potato Wrap","Sesame Popcorn Chicken","Cheesy Spaghetti","Mongolain Meatballs",null,{"$f":"\"\"","v":""},"Pancakes","Chicken Patty Sandwich","Pollo Verde","Beef & Potato Wrap","Sesame Popcorn Chicken","Cheesy Spaghetti","Mongolain Meatballs",null,{"$f":"\"\"","v":""},"Pancakes","Chicken Patty Sandwich","Pollo Verde","Beef & Potato Wrap","Sesame Popcorn Chicken","Cheesy Spaghetti","Mongolain Meatballs",null,{"$f":"\"\"","v":""},"Pancakes","Chicken Patty Sandwich","Pollo Verde","Beef & Potato Wrap","Sesame Popcorn Chicken","Cheesy Spaghetti","Mongolain Meatballs"]
[null,{"$f":"\"\"","v":""},"Maple Syrup","Mayo","Garlic Brown Rice","Shredded Cheddar Cheese","Dinner Roll ","Spinach Salad & Dressing","Cilantro Brown Rice",null,{"$f":"\"\"","v":""},"Maple Syrup","Mayo","Garlic Brown Rice","Shredded Cheddar Cheese","Dinner Roll ","Salad Bar","Cilantro Brown Rice",null,{"$f":"\"\"","v":""},"Maple Syrup & Sausage","Lettuce & Mayo","Garlic Brown Rice","Shredded Cheddar Cheese","Broccoli & Dressing","Spinach Salad & Dressing","Cilantro Brown Rice",null,{"$f":"\"\"","v":""},"Maple Syrup","Mayo","Garlic Brown Rice","Shredded Cheddar Cheese","Dinner Roll ","Salad Bar","Cilantro Brown Rice",null,{"$f":"\"\"","v":""},"Maple Syrup","Mayo","Garlic Brown Rice","Shredded Cheddar Cheese","Dinner Roll ","Spinach Salad & Dressing","Cilantro Brown Rice",null,{"$f":"\"\"","v":""},"Maple Syrup","Mayo","Garlic Brown Rice","Shredded Cheddar Cheese","Dinner Roll ","Salad Bar","Cilantro Brown Rice",null,{"$f":"\"\"","v":""},"& Turkey Sausage","Lettuce & Mayo","Garlic Brown Rice","RanchaBoom! Sauce","Dinner Roll ","Garden Salad & Dressing","Dinner Roll",null,{"$f":"\"\"","v":""},"& Turkey Sausage","Mayo","Garlic Brown Rice","RanchaBoom! Sauce","Dinner Roll ","Salad Bar","Cilantro Brown Rice",null,{"$f":"\"\"","v":""},"& Turkey Sausage","Lettuce & Mayo","Garlic Brown Rice","RanchaBoom! Sauce","Dinner Roll ","Dinner Roll","Dinner Roll",null,{"$f":"\"\"","v":""},"& Turkey Sausage","Mayo","Garlic Brown Rice","RanchaBoom! Sauce","Dinner Roll ","Dinner Roll & Margarine","Cilantro Brown Rice"]
[null,{"$f":"\"\"","v":""},"Breakfast Potato with Peppers","Corn","Carrots & Dressing","Tomato","Broccoli & Dressing","Assorted Fruit","Cucumbers & Dressing",null,{"$f":"\"\"","v":""},"Salad Bar","Salad Bar","Salad Bar","Salad Bar","Salad Bar","Assorted Fruit","Salad Bar",null,{"$f":"\"\"","v":""},"Breakfast Potato with Peppers","Corn","Carrots & Dressing","RanchaBoom! Sauce","Assorted Fruit","Assorted Fruit","Cucumbers & Red Peppers",null,{"$f":"\"\"","v":""},"Salad Bar","Salad Bar","Salad Bar","Salad Bar","Salad Bar","Assorted Fruit","Salad Bar",null,{"$f":"\"\"","v":""},"Breakfast Potato with Peppers","Corn","Carrots & Dressing","Tomato","Broccoli & Dressing","Assorted Fruit","Cucumbers & Dressing",null,{"$f":"\"\"","v":""},"Salad Bar","Salad Bar","Salad Bar","Salad Bar","Salad Bar","Assorted Fruit","Salad Bar",null,{"$f":"\"\"","v":""},"Maple Syrup","Corn","Carrots & Dressing","Shredded Cheddar Cheese","Broccoli & Cauliflower","Assorted Fruit","Cilantro Brown Rice",null,{"$f":"\"\"","v":""},"Salad Bar","Salad Bar","Salad Bar","Shredded Cheddar Cheese","Salad Bar","Assorted Fruit","Dinner Roll",null,{"$f":"\"\"","v":""},"Maple Syrup","Corn","Carrots & Dressing","Shredded Cheddar Cheese","Broccoli & Cauliflower","Garden Salad & Dressing","Cilantro Brown Rice",null,{"$f":"\"\"","v":""},"Maple Syrup","Salad Bar","Dinner Roll","Shredded Cheddar Cheese","Salad Bar","Salad Bar","Dinner Roll"]
[null,{"$f":"\"\"","v":""},"Assorted Fruit","Assorted Fruit","Assorted Fruit","Assorted Fruit","Assorted Fruit",{"$f":"\"\"","v":""},"Assorted Fruit",null,{"$f":"\"\"","v":""},"Assorted Fruit","Assorted Fruit","Assorted Fruit","Assorted Fruit","Assorted Fruit",{"$f":"\"\"","v":""},"Assorted Fruit",null,{"$f":"\"\"","v":""},"Assorted Fruit","Assorted Fruit","Assorted Fruit","Tomato",null,{"$f":"\"\"","v":""},"Dressing",null,{"$f":"\"\"","v":""},"Assorted Fruit","Assorted Fruit","Assorted Fruit","Assorted Fruit","Assorted Fruit",{"$f":"\"\"","v":""},"Assorted Fruit",null,{"$f":"\"\"","v":""},"Assorted Fruit","Assorted Fruit","Assorted Fruit","Assorted Fruit","Assorted Fruit",{"$f":"\"\"","v":""},"Assorted Fruit",null,{"$f":"\"\"","v":""},"Assorted Fruit","Assorted Fruit","Assorted Fruit","Assorted Fruit","Assorted Fruit",{"$f":"\"\"","v":""},"Assorted Fruit",null,{"$f":"\"\"","v":""},"Breakfast Potato with Peppers","Assorted Fruit","Assorted Fruit","Black Beans & Tomato","Dressing",{"$f":"\"\"","v":""},"Cucumbers & Dressing",null,{"$f":"\"\"","v":""},"Assorted Fruit","Assorted Fruit","Assorted Fruit","Salad Bar","Assorted Fruit",{"$f":"\"\"","v":""},"Salad Bar",null,{"$f":"\"\"","v":""},"Breakfast Potato with Peppers","Assorted Fruit","Assorted Fruit","Black Beans & Tomato","Dressing","Assorted Fruit","Cucumbers & Dressing",null,{"$f":"\"\"","v":""},"Salad Bar","Assorted Fruit","Salad Bar","Salad Bar","Assorted Fruit","Assorted Fruit","Salad Bar"]
[null,{"$f":"\"\"","v":""},{"$f":"\"\"","v":""},{"$f":"\"\"","v":""},{"$f":"\"\"","v":""},{"$f":"\"\"","v":""},{"$f":"\"\"","v":""},{"$f":"\"\"","v":""},{"$f":"\"\"","v":""},null,{"$f":"\"\"","v":""},{"$f":"\"\"","v":""},{"$f":"\"\"","v":""},{"$f":"\"\"","v":""},{"$f":"\"\"","v":""},{"$f":"\"\"","v":""},{"$f":"\"\"","v":""},{"$f":"\"\"","v":""},null,{"$f":"\"\"","v":""},{"$f":"\"\"","v":""},{"$f":"\"\"","v":""},{"$f":"\"\"","v":""},"Assorted Fruit",{"$f":"\"\"","v":""},{"$f":"\"\"","v":""},"Assorted Fruit",null,{"$f":"\"\"","v":""},{"$f":"\"\"","v":""},{"$f":"\"\"","v":""},{"$f":"\"\"","v":""},{"$f":"\"\"","v":""},{"$f":"\"\"","v":""},{"$f":"\"\"","v":""},{"$f":"\"\"","v":""},null,{"$f":"\"\"","v":""},{"$f":"\"\"","v":""},{"$f":"\"\"","v":""},{"$f":"\"\"","v":""},{"$f":"\"\"","v":""},{"$f":"\"\"","v":""},{"$f":"\"\"","v":""},{"$f":"\"\"","v":""},null,{"$f":"\"\"","v":""},{"$f":"\"\"","v":""},{"$f":"\"\"","v":""},{"$f":"\"\"","v":""},{"$f":"\"\"","v":""},{"$f":"\"\"","v":""},{"$f":"\"\"","v":""},{"$f":"\"\"","v":""},null,{"$f":"\"\"","v":""},"Assorted Fruit",{"$f":"\"\"","v":""},{"$f":"\"\"","v":""},"Assorted Fruit","Assorted Fruit",{"$f":"\"\"","v":""},"Assorted Fruit",null,{"$f":"\"\"","v":""},{"$f":"\"\"","v":""},{"$f":"\"\"","v":""},{"$f":"\"\"","v":""},"Assorted Fruit",{"$f":"\"\"","v":""},{"$f":"\"\"","v":""},"Assorted Fruit",null,{"$f":"\"\"","v":""},"Assorted Fruit",{"$f":"\"\"","v":""},{"$f":"\"\"","v":""},"Assorted Fruit","Assorted Fruit",{"$f":"\"\"","v":""},"Assorted Fruit",null,{"$f":"\"\"","v":""},"Assorted Fruit",{"$f":"\"\"","v":""},"Assorted Fruit","Assorted Fruit",{"$f":"\"\"","v":""},{"$f":"\"\"","v":""},"Assorted Fruit"]
[null,"Week 10",{"$f":"\"\"","v":""},{"$f":"\"\"","v":""},{"$f":"\"\"","v":""},{"$f":"\"\"","v":""},{"$f":"\"\"","v":""},{"$f":"\"\"","v":""},{"$f":"\"\"","v":""},null,"Week 10",{"$f":"\"\"","v":""},{"$f":"\"\"","v":""},{"$f":"\"\"","v":""},{"$f":"\"\"","v":""},{"$f":"\"\"","v":""},{"$f":"\"\"","v":""},{"$f":"\"\"","v":""},null,"Week 10",{"$f":"\"\"","v":""},{"$f":"\"\"","v":""},{"$f":"\"\"","v":""},{"$f":"\"\"","v":""},{"$f":"\"\"","v":""},{"$f":"\"\"","v":""},{"$f":"\"\"","v":""},null,"Week 10",{"$f":"\"\"","v":""},{"$f":"\"\"","v":""},{"$f":"\"\"","v":""},{"$f":"\"\"","v":""},{"$f":"\"\"","v":""},{"$f":"\"\"","v":""},{"$f":"\"\"","v":""},null,"Week 10",{"$f":"\"\"","v":""},{"$f":"\"\"","v":""},{"$f":"\"\"","v":""},{"$f":"\"\"","v":""},{"$f":"\"\"","v":""},{"$f":"\"\"","v":""},{"$f":"\"\"","v":""},null,"Week 10",{"$f":"\"\"","v":""},{"$f":"\"\"","v":""},{"$f":"\"\"","v":""},{"$f":"\"\"","v":""},{"$f":"\"\"","v":""},{"$f":"\"\"","v":""},{"$f":"\"\"","v":""},null,"Week 10",{"$f":"\"\"","v":""},{"$f":"\"\"","v":""},{"$f":"\"\"","v":""},{"$f":"\"\"","v":""},{"$f":"\"\"","v":""},{"$f":"\"\"","v":""},{"$f":"\"\"","v":""},null,"Week 10",{"$f":"\"\"","v":""},{"$f":"\"\"","v":""},{"$f":"\"\"","v":""},{"$f":"\"\"","v":""},{"$f":"\"\"","v":""},{"$f":"\"\"","v":""},{"$f":"\"\"","v":""},null,"Week 10",{"$f":"\"\"","v":""},{"$f":"\"\"","v":""},{"$f":"\"\"","v":""},{"$f":"\"\"","v":""},{"$f":"\"\"","v":""},{"$f":"\"\"","v":""},{"$f":"\"\"","v":""},null,"Week 10",{"$f":"\"\"","v":""},{"$f":"\"\"","v":""},{"$f":"\"\"","v":""},{"$f":"\"\"","v":""},{"$f":"\"\"","v":""},{"$f":"\"\"","v":""},{"$f":"\"\"","v":""}]
[null,{"$f":"\"\"","v":""},"Scrambled Egg Wrap","Chicken Strip Kabob Bowl","Taco Joe","Queso Meatball Nachos","Pollo de la Playa","Popcorn Chicken Nachos","Chicken Satay",null,{"$f":"\"\"","v":""},"Scrambled Egg Wrap","Chicken Strip Kabob Bowl","Taco Joe","Queso Meatball Nachos","Pollo de la Playa","Popcorn Chicken Nachos","Chicken Satay",null,{"$f":"\"\"","v":""},"Scrambled Egg Wrap","Chicken Strip Kabob Bowl","Taco Joe","Queso Meatball Nachos","Pollo de la Playa","Popcorn Chicken Nachos","Chicken Satay",null,{"$f":"\"\"","v":""},"Scrambled Egg Wrap","Chicken Strip Kabob Bowl","Taco Joe","Queso Meatball Nachos","Pollo de la Playa","Popcorn Chicken Nachos","Chicken Satay",null,{"$f":"\"\"","v":""},"Scrambled Egg Wrap","Chicken Strip Kabob Bowl","Taco Joe","Queso Meatball Nachos","Pollo de la Playa","Popcorn Chicken Nachos","Chicken Satay",null,{"$f":"\"\"","v":""},"Scrambled Egg Wrap","Chicken Strip Kabob Bowl","Taco Joe","Queso Meatball Nachos","Pollo de la Playa","Popcorn Chicken Nachos","Chicken Satay",null,{"$f":"\"\"","v":""},"Scrambled Egg Wrap","Chicken Strip Kabob Bowl","Taco Joe","Queso Meatball Nachos","Pollo de la Playa","Popcorn Chicken Nachos","Chicken Satay",null,{"$f":"\"\"","v":""},"Scrambled Egg Wrap","Chicken Strip Kabob Bowl","Taco Joe","Queso Meatball Nachos","Pollo de la Playa","Popcorn Chicken Nachos","Chicken Satay",null,{"$f":"\"\"","v":""},"Scrambled Egg Wrap","Chicken Strip Kabob Bowl","Taco Joe","Queso Meatball Nachos","Pollo de la Playa","Popcorn Chicken Nachos","Chicken Satay",null,{"$f":"\"\"","v":""},"Scrambled Egg Wrap","Chicken Strip Kabob Bowl","Taco Joe","Queso Meatball Nachos","Pollo de la Playa","Popcorn Chicken Nachos","Chicken Satay"]
[null,{"$f":"\"\"","v":""},"Ketchup & RanchaBoom Sauce","Cilantro Brown Rice","Shredded Cheddar Cheese","Side Salad & Dressing","Garlic Brown Rice","Assorted Chips","Garlic Brown Rice",null,{"$f":"\"\"","v":""},"Shredded Mozzarella","Cilantro Brown Rice","Shredded Cheddar Cheese","Salad Bar","Garlic Brown Rice","Assorted Chips","Garlic Brown Rice",null,{"$f":"\"\"","v":""},"Ketchup & RanchaBoom! Sauce","Cilantro Brown Rice","Shredded Cheddar Cheese","Side Salad & Dressing","Garlic Brown Rice","Mashed Potatoes","Garlic Brown Rice",null,{"$f":"\"\"","v":""},"Shredded Mozzarella","Cilantro Brown Rice","Shredded Cheddar Cheese","Salad Bar","Garlic Brown Rice","Assorted Chips","Garlic Brown Rice",null,{"$f":"\"\"","v":""},"Ketchup & RanchaBoom Sauce","Cilantro Brown Rice","Shredded Cheddar Cheese","Side Salad & Dressing","Garlic Brown Rice","Assorted Chips","Garlic Brown Rice",null,{"$f":"\"\"","v":""},"Shredded Mozzarella","Cilantro Brown Rice","Shredded Cheddar Cheese","Salad Bar","Garlic Brown Rice","Assorted Chips","Garlic Brown Rice",null,{"$f":"\"\"","v":""},"Ketchup & RanchaBoom Sauce","Cilantro Brown Rice","Shredded Lettuce & Cheddar","Assorted Chips","Garlic Brown Rice","Mashed Potatoes","Garlic Brown Rice",null,{"$f":"\"\"","v":""},"Shredded Mozzarella & Ketchup","Cilantro Brown Rice","Assorted Chips","Salad Bar","Garlic Brown Rice","Assorted Chips","Garlic Brown Rice",null,{"$f":"\"\"","v":""},"Ketchup & RanchaBoom Sauce","Cilantro Brown Rice","Shredded Lettuce & Cheddar","Assorted Chips","Garlic Brown Rice","Mashed Potatoes","Garlic Brown Rice",null,{"$f":"\"\"","v":""},"Shredded Mozzarella","Cilantro Brown Rice & Dinner Roll","Assorted Chips","Assorted Chips","Garlic Brown Rice","Assorted Chips","Garlic Brown Rice"]
[null,{"$f":"\"\"","v":""},"Shredded Mozzarella","Shredded Cheddar & Corn","Side Salad","Assorted Fruit","Shredded Cheddar Cheese","Shredded Cabbage","Cucumbers & Dressing",null,{"$f":"\"\"","v":""},"Rancha Boom! Sauce","ChickaBoom! Sauce & Shredded Cheddar","Salad Bar","Assorted Fruit","Shredded Cheddar Cheese","Salad Bar","Dill Ranch",null,{"$f":"\"\"","v":""},"Shredded Mozzarella","Shredded Lettuce & Cheddar","RanchaBoom! Sauce","Assorted Fruit","Shredded Cheddar Cheese","RanchaBoom! Sauce","Cucumbers & Dressing",null,{"$f":"\"\"","v":""},"Rancha Boom! Sauce","ChickaBoom! Sauce & Shredded Cheddar","Salad Bar","Assorted Fruit","Shredded Cheddar Cheese","Salad Bar","Dill Ranch",null,{"$f":"\"\"","v":""},"Shredded Mozzarella","Shredded Cheddar & Corn","Side Salad","Assorted Fruit","Shredded Cheddar Cheese","Shredded Cabbage","Cucumbers & Dressing",null,{"$f":"\"\"","v":""},"Rancha Boom! Sauce","ChickaBoom! Sauce & Shredded Cheddar","Salad Bar","Assorted Fruit","Shredded Cheddar Cheese","Salad Bar","Dill Ranch",null,{"$f":"\"\"","v":""},"Shredded Mozzarella","Shredded Lettuce & Cheddar","RanchaBoom! Sauce","Tomatoes","Shredded Cheddar Cheese","Assorted Chips","Cucumbers & Dressing",null,{"$f":"\"\"","v":""},"Rancha Boom! Sauce","Shredded Cheddar & Chickaboom! Sauce","Shredded Cheddar & Ranchaboom! Sauce","Assorted Fruit","Shredded Cheddar","RanchaBoom! Sauce","Salad Bar",null,{"$f":"\"\"","v":""},"Shredded Mozzarella","Shredded Lettuce & Cheddar","RanchaBoom! Sauce","Tomatoes","Spinach & Carrots","Shredded Cabbage","Assorted Chips",null,{"$f":"\"\"","v":""},"Rancha Boom! Sauce","Shredded Cheddar & Chickaboom! Sauce","Shredded Cheddar & Ranchaboom! Sauce","Salad Bar","Shredded Cheddar & Dinner Roll","RanchaBoom! Sauce","Assorted Chips"]
[null,{"$f":"\"\"","v":""},"Assorted Fruit","ChickaBoom! Sauce","Assorted Fruit",{"$f":"\"\"","v":""},"Spinach Salad","Assorted Fruit","Assorted Fruit",null,{"$f":"\"\"","v":""},"Salad Bar","Salad Bar","Assorted Fruit",{"$f":"\"\"","v":""},"Salad Bar","Assorted Fruit","Salad Bar",null,{"$f":"\"\"","v":""},"Potato Wedges & Red Peppers","Corn & ChickaBoom! Sauce","Side Salad",{"$f":"\"\"","v":""},"Spinach Salad","Shredded Cabbage","Assorted Fruit",null,{"$f":"\"\"","v":""},"Salad Bar","Salad Bar","Assorted Fruit",{"$f":"\"\"","v":""},"Salad Bar","Assorted Fruit","Salad Bar",null,{"$f":"\"\"","v":""},"Assorted Fruit","ChickaBoom! Sauce","Assorted Fruit",{"$f":"\"\"","v":""},"Spinach Salad","Assorted Fruit","Assorted Fruit",null,{"$f":"\"\"","v":""},"Salad Bar","Salad Bar","Assorted Fruit",{"$f":"\"\"","v":""},"Salad Bar","Assorted Fruit","Salad Bar",null,{"$f":"\"\"","v":""},"Potato Wedges & Red Peppers","Corn","Black Beans","Side Salad & Dressing","Spinach & Carrots","Shredded Cabbage","Assorted Fruit",null,{"$f":"\"\"","v":""},"Salad Bar","Salad Bar","Salad Bar",{"$f":"\"\"","v":""},"Salad Bar","Salad Bar","Assorted Fruit",null,{"$f":"\"\"","v":""},"Potato Wedges & Red Peppers","Corn","Black Beans","Side Salad & Dressing","Assorted Fruit","Assorted Chips","Cucumbers & Dressing",null,{"$f":"\"\"","v":""},"Salad Bar","Salad Bar","Salad Bar","Assorted Fruit","Salad Bar","Salad Bar","Salad Bar"]
[null,{"$f":"\"\"","v":""},{"$f":"\"\"","v":""},"Assorted Fruit",{"$f":"\"\"","v":""},{"$f":"\"\"","v":""},"Assorted Fruit",{"$f":"\"\"","v":""},{"$f":"\"\"","v":""},null,{"$f":"\"\"","v":""},"Assorted Fruit","Assorted Fruit",{"$f":"\"\"","v":""},{"$f":"\"\"","v":""},"Assorted Fruit",{"$f":"\"\"","v":""},"Assorted Fruit",null,{"$f":"\"\"","v":""},"Assorted Fruit","Assorted Fruit","Assorted Fruit",{"$f":"\"\"","v":""},"Assorted Fruit","Assorted Fruit",{"$f":"\"\"","v":""},null,{"$f":"\"\"","v":""},"Assorted Fruit","Assorted Fruit",{"$f":"\"\"","v":""},{"$f":"\"\"","v":""},"Assorted Fruit",{"$f":"\"\"","v":""},"Assorted Fruit",null,{"$f":"\"\"","v":""},{"$f":"\"\"","v":""},"Assorted Fruit",{"$f":"\"\"","v":""},{"$f":"\"\"","v":""},"Assorted Fruit",{"$f":"\"\"","v":""},{"$f":"\"\"","v":""},null,{"$f":"\"\"","v":""},"Assorted Fruit","Assorted Fruit",{"$f":"\"\"","v":""},{"$f":"\"\"","v":""},"Assorted Fruit",{"$f":"\"\"","v":""},"Assorted Fruit",null,{"$f":"\"\"","v":""},"Assorted Fruit","Assorted Fruit","Assorted Fruit","Assorted Fruit","Assorted Fruit","Assorted Fruit",{"$f":"\"\"","v":""},null,{"$f":"\"\"","v":""},"Assorted Fruit","Assorted Fruit","Assorted Fruit",{"$f":"\"\"","v":""},"Assorted Fruit","Assorted Fruit",{"$f":"\"\"","v":""},null,{"$f":"\"\"","v":""},"Assorted Fruit","Assorted Fruit","Assorted Fruit","Assorted Fruit",{"$f":"\"\"","v":""},"Assorted Fruit","Assorted Fruit",null,{"$f":"\"\"","v":""},"Assorted Fruit","Assorted Fruit","Assorted Fruit",{"$f":"\"\"","v":""},"Assorted Fruit","Assorted Fruit","Assorted Fruit"]
[null,"Week 11",{"$f":"\"\"","v":""},{"$f":"\"\"","v":""},{"$f":"\"\"","v":""},{"$f":"\"\"","v":""},{"$f":"\"\"","v":""},{"$f":"\"\"","v":""},{"$f":"\"\"","v":""},null,"Week 11",{"$f":"\"\"","v":""},{"$f":"\"\"","v":""},{"$f":"\"\"","v":""},{"$f":"\"\"","v":""},{"$f":"\"\"","v":""},{"$f":"\"\"","v":""},{"$f":"\"\"","v":""},null,"Week 11",{"$f":"\"\"","v":""},{"$f":"\"\"","v":""},{"$f":"\"\"","v":""},{"$f":"\"\"","v":""},{"$f":"\"\"","v":""},{"$f":"\"\"","v":""},{"$f":"\"\"","v":""},null,"Week 11",{"$f":"\"\"","v":""},{"$f":"\"\"","v":""},{"$f":"\"\"","v":""},{"$f":"\"\"","v":""},{"$f":"\"\"","v":""},{"$f":"\"\"","v":""},{"$f":"\"\"","v":""},null,"Week 11",{"$f":"\"\"","v":""},{"$f":"\"\"","v":""},{"$f":"\"\"","v":""},{"$f":"\"\"","v":""},{"$f":"\"\"","v":""},{"$f":"\"\"","v":""},{"$f":"\"\"","v":""},null,"Week 11",{"$f":"\"\"","v":""},{"$f":"\"\"","v":""},{"$f":"\"\"","v":""},{"$f":"\"\"","v":""},{"$f":"\"\"","v":""},{"$f":"\"\"","v":""},{"$f":"\"\"","v":""},null,"Week 11",{"$f":"\"\"","v":""},{"$f":"\"\"","v":""},{"$f":"\"\"","v":""},{"$f":"\"\"","v":""},{"$f":"\"\"","v":""},{"$f":"\"\"","v":""},{"$f":"\"\"","v":""},null,"Week 11",{"$f":"\"\"","v":""},{"$f":"\"\"","v":""},{"$f":"\"\"","v":""},{"$f":"\"\"","v":""},{"$f":"\"\"","v":""},{"$f":"\"\"","v":""},{"$f":"\"\"","v":""},null,"Week 11",{"$f":"\"\"","v":""},{"$f":"\"\"","v":""},{"$f":"\"\"","v":""},{"$f":"\"\"","v":""},{"$f":"\"\"","v":""},{"$f":"\"\"","v":""},{"$f":"\"\"","v":""},null,"Week 11",{"$f":"\"\"","v":""},{"$f":"\"\"","v":""},{"$f":"\"\"","v":""},{"$f":"\"\"","v":""},{"$f":"\"\"","v":""},{"$f":"\"\"","v":""},{"$f":"\"\"","v":""}]
[null,{"$f":"\"\"","v":""},"Egg & Cheese Breakfast Sandwich","Crispy Chicken Sandwich","Walking Beef Taco","Taj Mahal Meatballs","Mini Corn Dogs","Sweet & Sour Chicken","Baja Fish Taco",null,{"$f":"\"\"","v":""},"Egg & Cheese Breakfast Sandwich","Crispy Chicken Sandwich","Walking Beef Taco","Taj Mahal Meatballs","Mini Corn Dogs","Sweet & Sour Chicken","Baja Fish Taco",null,{"$f":"\"\"","v":""},"Egg & Cheese Breakfast Sandwich","Crispy Chicken Sandwich","Walking Beef Taco","Taj Mahal Meatballs","Mini Corn Dogs","Sweet & Sour Chicken","Baja Fish Taco",null,{"$f":"\"\"","v":""},"Egg & Cheese Breakfast Sandwich","Crispy Chicken Sandwich","Walking Beef Taco","Taj Mahal Meatballs","Mini Corn Dogs","Sweet & Sour Chicken","Baja Fish Taco",null,{"$f":"\"\"","v":""},"Egg & Cheese Breakfast Sandwich","Crispy Chicken Sandwich","Walking Beef Taco","Taj Mahal Meatballs","Mini Corn Dogs","Sweet & Sour Chicken","Baja Fish Taco",null,{"$f":"\"\"","v":""},"Egg & Cheese Breakfast Sandwich","Crispy Chicken Sandwich","Walking Beef Taco","Taj Mahal Meatballs","Mini Corn Dogs","Sweet & Sour Chicken","Baja Fish Taco",null,{"$f":"\"\"","v":""},"Egg & Cheese Breakfast Sandwich","Crispy Chicken Sandwich","Walking Beef Taco","Taj Mahal Meatballs","Mini Corn Dogs","Sweet & Sour Chicken","Baja Fish Taco",null,{"$f":"\"\"","v":""},"Egg & Cheese Breakfast Sandwich","Crispy Chicken Sandwich","Walking Beef Taco","Taj Mahal Meatballs","Mini Corn Dogs","Sweet & Sour Chicken","Baja Fish Taco",null,{"$f":"\"\"","v":""},"Egg & Cheese Breakfast Sandwich","Crispy Chicken Sandwich","Walking Beef Taco","Taj Mahal Meatballs","Mini Corn Dogs","Sweet & Sour Chicken","Baja Fish Taco",null,{"$f":"\"\"","v":""},"Egg & Cheese Breakfast Sandwich","Crispy Chicken Sandwich","Walking Beef Taco","Taj Mahal Meatballs","Mini Corn Dogs","Sweet & Sour Chicken","Baja Fish Taco"]
[null,{"$f":"\"\"","v":""},"Breakfast Potato with Peppers","Ketchup","Shredded Lettuce & Cheddar","Dinner Roll","Ketchup","Cilantro Brown Rice","Shredded Cheddar & Cilantro",null,{"$f":"\"\"","v":""},"Rancha Boom! Sauce","Ketchup","Shredded Cheddar Cheese","Dinner Roll","Ketchup","Cilantro Brown Rice","Shredded Cheddar & Cilantro",null,{"$f":"\"\"","v":""},"Breakfast Potato with Peppers","Ketchup","Shredded Lettuce & Cheddar","Mashed Potatoes & Dinner Roll","Ketchup","Cilantro Brown Rice","Shredded Cheddar",null,{"$f":"\"\"","v":""},"Rancha Boom! Sauce","Ketchup","Shredded Cheddar Cheese","Dinner Roll","Ketchup","Cilantro Brown Rice","Shredded Cheddar & Cilantro",null,{"$f":"\"\"","v":""},"Breakfast Potato with Peppers","Ketchup","Shredded Lettuce & Cheddar","Dinner Roll","Ketchup","Cilantro Brown Rice","Shredded Cheddar & Cilantro",null,{"$f":"\"\"","v":""},"Rancha Boom! Sauce","Ketchup","Shredded Cheddar Cheese","Dinner Roll","Ketchup","Cilantro Brown Rice","Shredded Cheddar & Cilantro",null,{"$f":"\"\"","v":""},"Breakfast Potato with Peppers","Ketchup","Shredded Lettuce & Cheddar","Mashed Potatoes & Dinner Roll","Ketchup","Cilantro Brown Rice","Shredded Cheddar & Cilantro",null,{"$f":"\"\"","v":""},"Rancha Boom! Sauce","Ketchup","Assorted Chips","Dinner Roll","Assorted Chips","Cilantro Brown Rice","Shredded Cheddar & Cilantro",null,{"$f":"\"\"","v":""},"Breakfast Potato with Peppers","Ketchup","Shredded Lettuce & Cheddar","Mashed Potatoes & Dinner Roll","Ketchup","Cilantro Brown Rice","Shredded Cheddar & Cilantro",null,{"$f":"\"\"","v":""},"Rancha Boom! Sauce","Ketchup","Assorted Chips","Garlic Brown Rice","Assorted Chips","Cilantro Brown Rice","Shredded Cheddar & Cilantro"]
[null,{"$f":"\"\"","v":""},"Rancha Boom! Sauce","Coleslaw","Assorted Fruit","Carrots & Dressing","Side Salad & Tomatoes","Broccoli & Dressing","Side Salad & Dressing",null,{"$f":"\"\"","v":""},"Salad Bar","Salad Bar","Salad Bar","Salad Bar","Salad Bar","Salad Bar","Salad Bar",null,{"$f":"\"\"","v":""},"Rancha Boom! Sauce","Coleslaw","RanchaBoom! Sauce","Carrots & Dressing","Side Salad & Tomatoes","Broccoli & Dressing","Side Salad & Dressing",null,{"$f":"\"\"","v":""},"Salad Bar","Salad Bar","Salad Bar","Salad Bar","Salad Bar","Salad Bar","Salad Bar",null,{"$f":"\"\"","v":""},"Rancha Boom! Sauce","Coleslaw","Assorted Fruit","Carrots & Dressing","Side Salad & Tomatoes","Broccoli & Dressing","Side Salad & Dressing",null,{"$f":"\"\"","v":""},"Salad Bar","Salad Bar","Salad Bar","Salad Bar","Salad Bar","Salad Bar","Salad Bar",null,{"$f":"\"\"","v":""},"Rancha Boom! Sauce","Baked Beans & Coleslaw","Tomatoes","Carrots & Dressing","Assorted Chips","Broccoli & Dressing","Side Salad & Dressing",null,{"$f":"\"\"","v":""},"Salad Bar","Salad Bar","Shredded Cheddar & Ranchaboom! Sauce","Salad Bar","Ketchup","Salad Bar","Salad Bar",null,{"$f":"\"\"","v":""},"Rancha Boom! Sauce","Baked Beans & Coleslaw","Tomatoes","Carrots & Dressing","Assorted Chips","Broccoli & Dressing","Side Salad & Dressing",null,{"$f":"\"\"","v":""},"Salad Bar","Salad Bar","Shredded Cheddar & Ranchaboom! Sauce","Dinner Roll","Ketchup","Dinner Roll","Salad Bar"]
[null,{"$f":"\"\"","v":""},"Assorted Fruit","Assorted Fruit",{"$f":"\"\"","v":""},"Assorted Fruit","Assorted Fruit","Assorted Fruit","Assorted Fruit",null,{"$f":"\"\"","v":""},"Assorted Fruit","Assorted Fruit","Assorted Fruit","Assorted Fruit","Assorted Fruit","Assorted Fruit","Assorted Fruit",null,{"$f":"\"\"","v":""},"Assorted Fruit","Assorted Fruit","Assorted Fruit","Assorted Fruit","Assorted Fruit","Assorted Fruit","Assorted Fruit",null,{"$f":"\"\"","v":""},"Assorted Fruit","Assorted Fruit","Assorted Fruit","Assorted Fruit","Assorted Fruit","Assorted Fruit","Assorted Fruit",null,{"$f":"\"\"","v":""},"Assorted Fruit","Assorted Fruit",{"$f":"\"\"","v":""},"Assorted Fruit","Assorted Fruit","Assorted Fruit","Assorted Fruit",null,{"$f":"\"\"","v":""},"Assorted Fruit","Assorted Fruit","Assorted Fruit","Assorted Fruit","Assorted Fruit","Assorted Fruit","Assorted Fruit",null,{"$f":"\"\"","v":""},"Assorted Fruit","Assorted Fruit","Assorted Fruit","Assorted Fruit","Side Salad & Tomatoes","Assorted Fruit","Assorted Fruit",null,{"$f":"\"\"","v":""},"Assorted Fruit","Assorted Fruit","Salad Bar","Assorted Fruit","Salad Bar","Assorted Fruit","Assorted Fruit",null,{"$f":"\"\"","v":""},"Assorted Fruit","Assorted Fruit","Assorted Fruit","Assorted Fruit","Side Salad & Tomatoes","Assorted Fruit","Assorted Fruit",null,{"$f":"\"\"","v":""},"Assorted Fruit","Assorted Fruit","Salad Bar","Salad Bar","Salad Bar","Salad Bar","Assorted Fruit"]
[null,{"$f":"\"\"","v":""},{"$f":"\"\"","v":""},{"$f":"\"\"","v":""},{"$f":"\"\"","v":""},{"$f":"\"\"","v":""},{"$f":"\"\"","v":""},{"$f":"\"\"","v":""},{"$f":"\"\"","v":""},null,{"$f":"\"\"","v":""},{"$f":"\"\"","v":""},{"$f":"\"\"","v":""},{"$f":"\"\"","v":""},{"$f":"\"\"","v":""},{"$f":"\"\"","v":""},{"$f":"\"\"","v":""},{"$f":"\"\"","v":""},null,{"$f":"\"\"","v":""},{"$f":"\"\"","v":""},{"$f":"\"\"","v":""},{"$f":"\"\"","v":""},{"$f":"\"\"","v":""},{"$f":"\"\"","v":""},{"$f":"\"\"","v":""},{"$f":"\"\"","v":""},null,{"$f":"\"\"","v":""},{"$f":"\"\"","v":""},{"$f":"\"\"","v":""},{"$f":"\"\"","v":""},{"$f":"\"\"","v":""},{"$f":"\"\"","v":""},{"$f":"\"\"","v":""},{"$f":"\"\"","v":""},null,{"$f":"\"\"","v":""},{"$f":"\"\"","v":""},{"$f":"\"\"","v":""},{"$f":"\"\"","v":""},{"$f":"\"\"","v":""},{"$f":"\"\"","v":""},{"$f":"\"\"","v":""},{"$f":"\"\"","v":""},null,{"$f":"\"\"","v":""},{"$f":"\"\"","v":""},{"$f":"\"\"","v":""},{"$f":"\"\"","v":""},{"$f":"\"\"","v":""},{"$f":"\"\"","v":""},{"$f":"\"\"","v":""},{"$f":"\"\"","v":""},null,{"$f":"\"\"","v":""},{"$f":"\"\"","v":""},{"$f":"\"\"","v":""},{"$f":"\"\"","v":""},{"$f":"\"\"","v":""},"Assorted Fruit",{"$f":"\"\"","v":""},{"$f":"\"\"","v":""},null,{"$f":"\"\"","v":""},{"$f":"\"\"","v":""},{"$f":"\"\"","v":""},"Assorted Fruit",{"$f":"\"\"","v":""},"Assorted Fruit",{"$f":"\"\"","v":""},{"$f":"\"\"","v":""},null,{"$f":"\"\"","v":""},{"$f":"\"\"","v":""},{"$f":"\"\"","v":""},{"$f":"\"\"","v":""},{"$f":"\"\"","v":""},"Assorted Fruit",{"$f":"\"\"","v":""},{"$f":"\"\"","v":""},null,{"$f":"\"\"","v":""},{"$f":"\"\"","v":""},{"$f":"\"\"","v":""},"Assorted Fruit","Assorted Fruit","Assorted Fruit","Assorted Fruit",{"$f":"\"\"","v":""}]
[null,"Week 12",{"$f":"\"\"","v":""},{"$f":"\"\"","v":""},{"$f":"\"\"","v":""},{"$f":"\"\"","v":""},{"$f":"\"\"","v":""},{"$f":"\"\"","v":""},{"$f":"\"\"","v":""},null,"Week 12",{"$f":"\"\"","v":""},{"$f":"\"\"","v":""},{"$f":"\"\"","v":""},{"$f":"\"\"","v":""},{"$f":"\"\"","v":""},{"$f":"\"\"","v":""},{"$f":"\"\"","v":""},null,"Week 12",{"$f":"\"\"","v":""},{"$f":"\"\"","v":""},{"$f":"\"\"","v":""},{"$f":"\"\"","v":""},{"$f":"\"\"","v":""},{"$f":"\"\"","v":""},{"$f":"\"\"","v":""},null,"Week 12",{"$f":"\"\"","v":""},{"$f":"\"\"","v":""},{"$f":"\"\"","v":""},{"$f":"\"\"","v":""},{"$f":"\"\"","v":""},{"$f":"\"\"","v":""},{"$f":"\"\"","v":""},null,"Week 12",{"$f":"\"\"","v":""},{"$f":"\"\"","v":""},{"$f":"\"\"","v":""},{"$f":"\"\"","v":""},{"$f":"\"\"","v":""},{"$f":"\"\"","v":""},{"$f":"\"\"","v":""},null,"Week 12",{"$f":"\"\"","v":""},{"$f":"\"\"","v":""},{"$f":"\"\"","v":""},{"$f":"\"\"","v":""},{"$f":"\"\"","v":""},{"$f":"\"\"","v":""},{"$f":"\"\"","v":""},null,"Week 12",{"$f":"\"\"","v":""},{"$f":"\"\"","v":""},{"$f":"\"\"","v":""},{"$f":"\"\"","v":""},{"$f":"\"\"","v":""},{"$f":"\"\"","v":""},{"$f":"\"\"","v":""},null,"Week 12",{"$f":"\"\"","v":""},{"$f":"\"\"","v":""},{"$f":"\"\"","v":""},{"$f":"\"\"","v":""},{"$f":"\"\"","v":""},{"$f":"\"\"","v":""},{"$f":"\"\"","v":""},null,"Week 12",{"$f":"\"\"","v":""},{"$f":"\"\"","v":""},{"$f":"\"\"","v":""},{"$f":"\"\"","v":""},{"$f":"\"\"","v":""},{"$f":"\"\"","v":""},{"$f":"\"\"","v":""},null,"Week 12",{"$f":"\"\"","v":""},{"$f":"\"\"","v":""},{"$f":"\"\"","v":""},{"$f":"\"\"","v":""},{"$f":"\"\"","v":""},{"$f":"\"\"","v":""},{"$f":"\"\"","v":""}]
[null,{"$f":"\"\"","v":""},"Breakfast Fajita","Hamburger","Chicken Chilaquiles","Cheesy Spaghetti","Crunchy Chicken Tender Wrap","French Toast Sticks","Cheese Quesadilla",null,{"$f":"\"\"","v":""},"Breakfast Fajita","Hamburger","Chicken Chilaquiles","Cheesy Spaghetti","Crunchy Chicken Tender Wrap","French Toast Sticks","Cheese Quesadilla",null,{"$f":"\"\"","v":""},"Breakfast Fajita","Hamburger","Chicken Chilaquiles","Cheesy Spaghetti","Crunchy Chicken Tender Wrap","French Toast Sticks","Cheese Quesadilla",null,{"$f":"\"\"","v":""},"Breakfast Fajita","Hamburger","Chicken Chilaquiles","Cheesy Spaghetti","Crunchy Chicken Tender Wrap","French Toast Sticks","Cheese Quesadilla",null,{"$f":"\"\"","v":""},"Breakfast Fajita","Hamburger","Chicken Chilaquiles","Cheesy Spaghetti","Crunchy Chicken Tender Wrap","French Toast Sticks","Cheese Quesadilla",null,{"$f":"\"\"","v":""},"Breakfast Fajita","Hamburger","Chicken Chilaquiles","Cheesy Spaghetti","Crunchy Chicken Tender Wrap","French Toast Sticks","Cheese Quesadilla",null,{"$f":"\"\"","v":""},"Breakfast Fajita","Hamburger","Chicken Chilaquiles","Cheesy Spaghetti","Crunchy Chicken Tender Wrap","French Toast Sticks","Cheese Quesadilla",null,{"$f":"\"\"","v":""},"Breakfast Fajita","Hamburger","Chicken Chilaquiles","Cheesy Spaghetti","Crunchy Chicken Tender Wrap","French Toast Sticks","Cheese Quesadilla",null,{"$f":"\"\"","v":""},"Breakfast Fajita","Hamburger","Chicken Chilaquiles","Cheesy Spaghetti","Crunchy Chicken Tender Wrap","French Toast Sticks","Cheese Quesadilla",null,{"$f":"\"\"","v":""},"Breakfast Fajita","Hamburger","Chicken Chilaquiles","Cheesy Spaghetti","Crunchy Chicken Tender Wrap","French Toast Sticks","Cheese Quesadilla"]
[null,{"$f":"\"\"","v":""},"Shredded Cheddar","Ketchup","Shredded Cheddar Cheese","Shredded Mozzarella","Shredded Cheddar Cheese","Syrup & Margarine","ChickaBoom! Sauce",null,{"$f":"\"\"","v":""},"Shredded Cheddar","Pickles & Ketchup","Shredded Cheddar Cheese","Shredded Mozzarella","Shredded Cheddar Cheese","Syrup & Margarine","ChickaBoom! Sauce",null,{"$f":"\"\"","v":""},"Shredded Cheddar","Ketchup","Shredded Cheddar Cheese","Shredded Mozzarella","Shredded Cheddar & Taco Sauce","Syrup & Margarine","ChickaBoom! Sauce",null,{"$f":"\"\"","v":""},"Shredded Cheddar","Pickles & Ketchup","Shredded Cheddar Cheese","Shredded Mozzarella","Shredded Cheddar Cheese","Syrup & Margarine","ChickaBoom! Sauce",null,{"$f":"\"\"","v":""},"Shredded Cheddar","Ketchup","Shredded Cheddar Cheese","Shredded Mozzarella","Shredded Cheddar Cheese","Syrup & Margarine","ChickaBoom! Sauce",null,{"$f":"\"\"","v":""},"Shredded Cheddar","Pickles & Ketchup","Shredded Cheddar Cheese","Shredded Mozzarella","Shredded Cheddar Cheese","Syrup & Margarine","ChickaBoom! Sauce",null,{"$f":"\"\"","v":""},"Shredded Cheddar","Potato Wedges & Ketchup","Shredded Lettuce & Cheddar","Broccoli & Dressing","Shredded Cheddar & Taco Sauce","Syrup & Margarine","ChickaBoom! Sauce",null,{"$f":"\"\"","v":""},"Shredded Cheddar","Pickles & Ketchup","Assorted Chips","Salad Bar","Shredded Cheddar & Taco Sauce","Syrup & Margarine","ChickaBoom! Sauce",null,{"$f":"\"\"","v":""},"Shredded Cheddar","Potato Wedges & Ketchup","Shredded Lettuce & Cheddar","Dinner Roll","Shredded Cheddar & Taco Sauce","Syrup & Margarine","ChickaBoom! Sauce",null,{"$f":"\"\"","v":""},"Shredded Cheddar","Pickles & Ketchup","Assorted Chips","Dinner Roll","Shredded Cheddar & Taco Sauce","Syrup & Margarine","ChickaBoom! Sauce"]
[null,{"$f":"\"\"","v":""},"Red Peppers","Pickles & Coleslaw","Tomatoes","Assorted Fruit","Side Salad & Dressing","Crispy Cubes & Ketchup","Garden Salad & Dressing",null,{"$f":"\"\"","v":""},"Salad Bar","Salad Bar","Assorted Chips","Salad Bar","Salad Bar","Salad Bar","Salad Bar",null,{"$f":"\"\"","v":""},"Breakfast Potatoes & Red Peppers","Pickles & Coleslaw","Assorted Chips","Assorted Fruit","Side Salad & Dressing","Crispy Cubes","Garden Salad & Dressing",null,{"$f":"\"\"","v":""},"Salad Bar","Salad Bar","Assorted Chips","Salad Bar","Salad Bar","Salad Bar","Salad Bar",null,{"$f":"\"\"","v":""},"Red Peppers","Pickles & Coleslaw","Tomatoes","Assorted Fruit","Side Salad & Dressing","Crispy Cubes & Ketchup","Garden Salad & Dressing",null,{"$f":"\"\"","v":""},"Salad Bar","Salad Bar","Assorted Chips","Salad Bar","Salad Bar","Salad Bar","Salad Bar",null,{"$f":"\"\"","v":""},"Red Peppers & Tomatoes","Pickles & Coleslaw","Tomatoes & RanchaBoom! Sauce","Assorted Fruit","Baked Beans","Crispy Cubes & Ketchup","Garden Salad & Dressing",null,{"$f":"\"\"","v":""},"Salad Bar","Salad Bar","Shredded Cheddar & Ranchaboom! Sauce","Assorted Fruit","Salad Bar","Salad Bar","Salad Bar",null,{"$f":"\"\"","v":""},"Crispy Cubes","Pickles & Coleslaw","Tomatoes & RanchaBoom! Sauce","Broccoli & Dressing","Baked Beans","Crispy Cubes & Ketchup","Garden Salad & Dressing",null,{"$f":"\"\"","v":""},"Salad Bar","Salad Bar","Shredded Cheddar & Ranchaboom! Sauce","Salad Bar","Salad Bar","Salad Bar","Salad Bar"]
[null,{"$f":"\"\"","v":""},"Assorted Fruit","Assorted Fruit","Assorted Chips",{"$f":"\"\"","v":""},"Assorted Fruit","Assorted Fruit","Assorted Fruit",null,{"$f":"\"\"","v":""},"Assorted Fruit","Assorted Fruit","Salad Bar","Assorted Fruit","Assorted Fruit","Assorted Fruit","Assorted Fruit",null,{"$f":"\"\"","v":""},"Assorted Fruit","Assorted Fruit","Tomatoes & RanchaBoom! Sauce",{"$f":"\"\"","v":""},"Assorted Fruit","Assorted Fruit","Assorted Fruit",null,{"$f":"\"\"","v":""},"Assorted Fruit","Assorted Fruit","Salad Bar","Assorted Fruit","Assorted Fruit","Assorted Fruit","Assorted Fruit",null,{"$f":"\"\"","v":""},"Assorted Fruit","Assorted Fruit","Assorted Chips",{"$f":"\"\"","v":""},"Assorted Fruit","Assorted Fruit","Assorted Fruit",null,{"$f":"\"\"","v":""},"Assorted Fruit","Assorted Fruit","Salad Bar","Assorted Fruit","Assorted Fruit","Assorted Fruit","Assorted Fruit",null,{"$f":"\"\"","v":""},"Assorted Fruit","Assorted Fruit","Assorted Chips",{"$f":"\"\"","v":""},"Side Salad & Dressing","Cucumber & Dressing","Assorted Fruit",null,{"$f":"\"\"","v":""},"Assorted Fruit","Assorted Fruit","Salad Bar",{"$f":"\"\"","v":""},"Assorted Fruit","Assorted Fruit","Assorted Fruit",null,{"$f":"\"\"","v":""},"Red Peppers & Tomatoes","Assorted Fruit","Assorted Chips","Assorted Fruit","Side Salad & Dressing","Cucumber & Dressing","Assorted Fruit",null,{"$f":"\"\"","v":""},"Assorted Fruit","Assorted Fruit","Salad Bar","Assorted Fruit","Assorted Fruit","Assorted Fruit","Assorted Fruit"]
[null,{"$f":"\"\"","v":""},{"$f":"\"\"","v":""},{"$f":"\"\"","v":""},"Assorted Fruit",{"$f":"\"\"","v":""},{"$f":"\"\"","v":""},{"$f":"\"\"","v":""},{"$f":"\"\"","v":""},null,{"$f":"\"\"","v":""},{"$f":"\"\"","v":""},{"$f":"\"\"","v":""},"Assorted Fruit",{"$f":"\"\"","v":""},{"$f":"\"\"","v":""},{"$f":"\"\"","v":""},{"$f":"\"\"","v":""},null,{"$f":"\"\"","v":""},{"$f":"\"\"","v":""},{"$f":"\"\"","v":""},"Assorted Fruit",{"$f":"\"\"","v":""},{"$f":"\"\"","v":""},{"$f":"\"\"","v":""},{"$f":"\"\"","v":""},null,{"$f":"\"\"","v":""},{"$f":"\"\"","v":""},{"$f":"\"\"","v":""},"Assorted Fruit",{"$f":"\"\"","v":""},{"$f":"\"\"","v":""},{"$f":"\"\"","v":""},{"$f":"\"\"","v":""},null,{"$f":"\"\"","v":""},{"$f":"\"\"","v":""},{"$f":"\"\"","v":""},"Assorted Fruit",{"$f":"\"\"","v":""},{"$f":"\"\"","v":""},{"$f":"\"\"","v":""},{"$f":"\"\"","v":""},null,{"$f":"\"\"","v":""},{"$f":"\"\"","v":""},{"$f":"\"\"","v":""},"Assorted Fruit",{"$f":"\"\"","v":""},{"$f":"\"\"","v":""},{"$f":"\"\"","v":""},{"$f":"\"\"","v":""},null,{"$f":"\"\"","v":""},{"$f":"\"\"","v":""},{"$f":"\"\"","v":""},"Assorted Fruit",{"$f":"\"\"","v":""},"Assorted Fruit","Assorted Fruit",{"$f":"\"\"","v":""},null,{"$f":"\"\"","v":""},{"$f":"\"\"","v":""},{"$f":"\"\"","v":""},"Assorted Fruit",{"$f":"\"\"","v":""},{"$f":"\"\"","v":""},{"$f":"\"\"","v":""},{"$f":"\"\"","v":""},null,{"$f":"\"\"","v":""},"Assorted Fruit",{"$f":"\"\"","v":""},"Assorted Fruit",{"$f":"\"\"","v":""},"Assorted Fruit","Assorted Fruit",{"$f":"\"\"","v":""},null,{"$f":"\"\"","v":""},{"$f":"\"\"","v":""},{"$f":"\"\"","v":""},"Assorted Fruit",{"$f":"\"\"","v":""},{"$f":"\"\"","v":""},{"$f":"\"\"","v":""},{"$f":"\"\"","v":""}]
[null,"Week 13",{"$f":"\"\"","v":""},{"$f":"\"\"","v":""},{"$f":"\"\"","v":""},{"$f":"\"\"","v":""},{"$f":"\"\"","v":""},{"$f":"\"\"","v":""},{"$f":"\"\"","v":""},null,"Week 13",{"$f":"\"\"","v":""},{"$f":"\"\"","v":""},{"$f":"\"\"","v":""},{"$f":"\"\"","v":""},{"$f":"\"\"","v":""},{"$f":"\"\"","v":""},{"$f":"\"\"","v":""},null,"Week 13",{"$f":"\"\"","v":""},{"$f":"\"\"","v":""},{"$f":"\"\"","v":""},{"$f":"\"\"","v":""},{"$f":"\"\"","v":""},{"$f":"\"\"","v":""},{"$f":"\"\"","v":""},null,"Week 13",{"$f":"\"\"","v":""},{"$f":"\"\"","v":""},{"$f":"\"\"","v":""},{"$f":"\"\"","v":""},{"$f":"\"\"","v":""},{"$f":"\"\"","v":""},{"$f":"\"\"","v":""},null,"Week 13",{"$f":"\"\"","v":""},{"$f":"\"\"","v":""},{"$f":"\"\"","v":""},{"$f":"\"\"","v":""},{"$f":"\"\"","v":""},{"$f":"\"\"","v":""},{"$f":"\"\"","v":""},null,"Week 13",{"$f":"\"\"","v":""},{"$f":"\"\"","v":""},{"$f":"\"\"","v":""},{"$f":"\"\"","v":""},{"$f":"\"\"","v":""},{"$f":"\"\"","v":""},{"$f":"\"\"","v":""},null,"Week 13",{"$f":"\"\"","v":""},{"$f":"\"\"","v":""},{"$f":"\"\"","v":""},{"$f":"\"\"","v":""},{"$f":"\"\"","v":""},{"$f":"\"\"","v":""},{"$f":"\"\"","v":""},null,"Week 13",{"$f":"\"\"","v":""},{"$f":"\"\"","v":""},{"$f":"\"\"","v":""},{"$f":"\"\"","v":""},{"$f":"\"\"","v":""},{"$f":"\"\"","v":""},{"$f":"\"\"","v":""},null,"Week 13",{"$f":"\"\"","v":""},{"$f":"\"\"","v":""},{"$f":"\"\"","v":""},{"$f":"\"\"","v":""},{"$f":"\"\"","v":""},{"$f":"\"\"","v":""},{"$f":"\"\"","v":""},null,"Week 13",{"$f":"\"\"","v":""},{"$f":"\"\"","v":""},{"$f":"\"\"","v":""},{"$f":"\"\"","v":""},{"$f":"\"\"","v":""},{"$f":"\"\"","v":""},{"$f":"\"\"","v":""}]
[null,{"$f":"\"\"","v":""},"Beef Breakfast Skillet","Sloppy Joe","Orange Chicken","Cheesy Ravioli","Beef & Potato Wrap","Turkey Meatballs with Gravy","Cuban Sandwich",null,{"$f":"\"\"","v":""},"Beef Breakfast Skillet","Sloppy Joe","Orange Chicken","Cheesy Ravioli","Beef & Potato Wrap","Turkey Meatballs with Gravy","Cuban Sandwich",null,{"$f":"\"\"","v":""},"Beef Breakfast Skillet","Sloppy Joe","Orange Chicken","Cheesy Ravioli","Beef & Potato Wrap","Turkey Meatballs with Gravy","Cuban Sandwich",null,{"$f":"\"\"","v":""},"Beef Breakfast Skillet","Sloppy Joe","Orange Chicken","Cheesy Ravioli","Beef & Potato Wrap","Turkey Meatballs with Gravy","Cuban Sandwich",null,{"$f":"\"\"","v":""},"Beef Breakfast Skillet","Sloppy Joe","Orange Chicken","Cheesy Ravioli","Beef & Potato Wrap","Turkey Meatballs with Gravy","Cuban Sandwich",null,{"$f":"\"\"","v":""},"Beef Breakfast Skillet","Sloppy Joe","Orange Chicken","Cheesy Ravioli","Beef & Potato Wrap","Turkey Meatballs with Gravy","Cuban Sandwich",null,{"$f":"\"\"","v":""},"Beef Breakfast Skillet","Sloppy Joe","Orange Chicken","Cheesy Ravioli","Beef & Potato Wrap","Turkey Meatballs with Gravy","Cuban Sandwich",null,{"$f":"\"\"","v":""},"Beef Breakfast Skillet","Sloppy Joe","Orange Chicken","Cheesy Ravioli","Beef & Potato Wrap","Turkey Meatballs with Gravy","Cuban Sandwich",null,{"$f":"\"\"","v":""},"Beef Breakfast Skillet","Sloppy Joe","Orange Chicken","Cheesy Ravioli","Beef & Potato Wrap","Turkey Meatballs with Gravy","Cuban Sandwich",null,{"$f":"\"\"","v":""},"Beef Breakfast Skillet","Sloppy Joe","Orange Chicken","Cheesy Ravioli","Beef & Potato Wrap","Turkey Meatballs with Gravy","Cuban Sandwich"]
[null,{"$f":"\"\"","v":""},"Taco Sauce & Sour Cream","Side Salad & Dressing","Cilantro Brown Rice","Dinner Roll","Shredded Cheddar Cheese","Mashed Potatoes & Dinner Roll","Pickle Slices & Mustard",null,{"$f":"\"\"","v":""},"Taco Sauce & Sour Cream","Salad Bar","Cilantro Brown Rice","Dinner Roll","Shredded Cheddar Cheese","Dinner Roll","Pickle Slices & Mustard",null,{"$f":"\"\"","v":""},"Taco Sauce & Sour Cream","Cheese Slice","Cilantro Brown Rice","Shredded Mozzarella","Shredded Cheddar Cheese","Mashed Potatoes & Dinner Roll","Swiss Cheese Slice",null,{"$f":"\"\"","v":""},"Taco Sauce & Sour Cream","Salad Bar","Cilantro Brown Rice","Dinner Roll","Shredded Cheddar Cheese","Dinner Roll","Pickle Slices & Mustard",null,{"$f":"\"\"","v":""},"Taco Sauce & Sour Cream","Side Salad & Dressing","Cilantro Brown Rice","Dinner Roll","Shredded Cheddar Cheese","Mashed Potatoes & Dinner Roll","Pickle Slices & Mustard",null,{"$f":"\"\"","v":""},"Taco Sauce & Sour Cream","Salad Bar","Cilantro Brown Rice","Dinner Roll","Shredded Cheddar Cheese","Dinner Roll","Pickle Slices & Mustard",null,{"$f":"\"\"","v":""},"Taco Sauce & Sour Cream","Cheese Slice","Cilantro Brown Rice","Dinner Roll","Refried Beans & Shredded Cheddar","Mashed Potatoes & Dinner Roll","Pickle Slices & Mustard",null,{"$f":"\"\"","v":""},"Taco Sauce & Sour Cream","Cheese Slice","Cilantro Brown Rice","Dinner Roll","Shredded Cheddar","Assorted Chips & Dinner Roll","Pickle Slices & Mustard",null,{"$f":"\"\"","v":""},"Taco Sauce & Sour Cream","Cheese Slice","Cilantro Brown Rice","Dinner Roll","Refried Beans & Shredded Cheddar","Mashed Potatoes & Dinner Roll","Pickle Slices & Mustard",null,{"$f":"\"\"","v":""},"Shredded Mozzarella & Sour Cream","Cheese Slice","Cilantro Brown Rice","Dinner Roll","Shredded Cheddar","Assorted Chips & Dinner Roll","Pickle Slices & Mustard"]
[null,{"$f":"\"\"","v":""},"Shredded Mozzarella","Assorted Fruit","Broccoli","Shredded Mozzarella","Tomatoes","Assorted Fruit","Cucumbers & Dressing",null,{"$f":"\"\"","v":""},"Shredded Mozzarella","Assorted Fruit","Salad Bar","Shredded Mozzarella","Salad Bar","Salad Bar","Salad Bar",null,{"$f":"\"\"","v":""},"Shredded Mozzarella","Side Salad & Dressing","Broccoli","Carrots & Dressing","RanchaBoom! Sauce","Assorted Fruit","Pickle Slices & Mustard",null,{"$f":"\"\"","v":""},"Shredded Mozzarella","Assorted Fruit","Salad Bar","Shredded Mozzarella","Salad Bar","Salad Bar","Salad Bar",null,{"$f":"\"\"","v":""},"Shredded Mozzarella","Assorted Fruit","Broccoli","Shredded Mozzarella","Tomatoes","Assorted Fruit","Cucumbers & Dressing",null,{"$f":"\"\"","v":""},"Shredded Mozzarella","Assorted Fruit","Salad Bar","Shredded Mozzarella","Salad Bar","Salad Bar","Salad Bar",null,{"$f":"\"\"","v":""},"Shredded Mozzarella","Side Salad & Dressing","Broccoli & Cauliflower","Shredded Mozzarella","Tomatoes & RanchaBoom! Sauce","Assorted Chips","Cucumbers & Dressing",null,{"$f":"\"\"","v":""},"Shredded Mozzarella","Salad Bar","Salad Bar","Shredded Mozzarella","RanchaBoom! Sauce","Salad Bar","Salad Bar",null,{"$f":"\"\"","v":""},"Shredded Mozzarella","Side Salad & Dressing","Broccoli & Cauliflower","Shredded Mozzarella","Tomatoes","Assorted Chips","Cucumbers & Dressing",null,{"$f":"\"\"","v":""},"Salad Bar","Assorted Chips","Salad Bar","Shredded Mozzarella","RanchaBoom! Sauce","Salad Bar","Salad Bar"]
[null,{"$f":"\"\"","v":""},"Crispy Cubes",{"$f":"\"\"","v":""},"Assorted Fruit","Carrots & Dressing","Assorted Fruit",{"$f":"\"\"","v":""},"Assorted Fruit",null,{"$f":"\"\"","v":""},"Salad Bar",{"$f":"\"\"","v":""},"Assorted Fruit","Salad Bar","Assorted Fruit","Assorted Fruit","Assorted Fruit",null,{"$f":"\"\"","v":""},"Crispy Cubes","Assorted Fruit","Assorted Fruit","Assorted Fruit","Tomatoes & Refried Beans",{"$f":"\"\"","v":""},"Cucumbers & Dressing",null,{"$f":"\"\"","v":""},"Salad Bar",{"$f":"\"\"","v":""},"Assorted Fruit","Salad Bar","Assorted Fruit","Assorted Fruit","Assorted Fruit",null,{"$f":"\"\"","v":""},"Crispy Cubes",{"$f":"\"\"","v":""},"Assorted Fruit","Carrots & Dressing","Assorted Fruit",{"$f":"\"\"","v":""},"Assorted Fruit",null,{"$f":"\"\"","v":""},"Salad Bar",{"$f":"\"\"","v":""},"Assorted Fruit","Salad Bar","Assorted Fruit","Assorted Fruit","Assorted Fruit",null,{"$f":"\"\"","v":""},"Crispy Cubes, Red Pepper & Tomatoes","Corn","Assorted Fruit","Carrots & Dressing","Assorted Fruit","Carrots & Dressing","Assorted Fruit",null,{"$f":"\"\"","v":""},"Salad Bar","Assorted Fruit","Assorted Fruit","Salad Bar","Salad Bar","Assorted Fruit","Assorted Fruit",null,{"$f":"\"\"","v":""},"Crispy Cubes, Red Pepper & Tomatoes","Corn","Assorted Fruit","Carrots & Dressing","Assorted Fruit","Carrots & Dressing","Assorted Fruit",null,{"$f":"\"\"","v":""},"Assorted Fruit","Salad Bar","Assorted Fruit","Salad Bar","Salad Bar","Assorted Fruit","Assorted Fruit"]
[null,{"$f":"\"\"","v":""},"Assorted Fruit",{"$f":"\"\"","v":""},{"$f":"\"\"","v":""},"Assorted Fruit",{"$f":"\"\"","v":""},{"$f":"\"\"","v":""},{"$f":"\"\"","v":""},null,{"$f":"\"\"","v":""},"Assorted Fruit",{"$f":"\"\"","v":""},{"$f":"\"\"","v":""},"Assorted Fruit",{"$f":"\"\"","v":""},{"$f":"\"\"","v":""},{"$f":"\"\"","v":""},null,{"$f":"\"\"","v":""},"Assorted Fruit",{"$f":"\"\"","v":""},{"$f":"\"\"","v":""},null,"Assorted Fruit",{"$f":"\"\"","v":""},"Assorted Fruit",null,{"$f":"\"\"","v":""},"Assorted Fruit",{"$f":"\"\"","v":""},{"$f":"\"\"","v":""},"Assorted Fruit",{"$f":"\"\"","v":""},{"$f":"\"\"","v":""},{"$f":"\"\"","v":""},null,{"$f":"\"\"","v":""},"Assorted Fruit",{"$f":"\"\"","v":""},{"$f":"\"\"","v":""},"Assorted Fruit",{"$f":"\"\"","v":""},{"$f":"\"\"","v":""},{"$f":"\"\"","v":""},null,{"$f":"\"\"","v":""},"Assorted Fruit",{"$f":"\"\"","v":""},{"$f":"\"\"","v":""},"Assorted Fruit",{"$f":"\"\"","v":""},{"$f":"\"\"","v":""},{"$f":"\"\"","v":""},null,{"$f":"\"\"","v":""},"Assorted Fruit","Assorted Fruit",{"$f":"\"\"","v":""},"Assorted Fruit",{"$f":"\"\"","v":""},"Assorted Fruit",{"$f":"\"\"","v":""},null,{"$f":"\"\"","v":""},"Assorted Fruit",{"$f":"\"\"","v":""},{"$f":"\"\"","v":""},"Assorted Fruit","Assorted Fruit",{"$f":"\"\"","v":""},{"$f":"\"\"","v":""},null,{"$f":"\"\"","v":""},"Assorted Fruit","Assorted Fruit",{"$f":"\"\"","v":""},"Assorted Fruit",{"$f":"\"\"","v":""},"Assorted Fruit",{"$f":"\"\"","v":""},null,{"$f":"\"\"","v":""},{"$f":"\"\"","v":""},"Assorted Fruit",{"$f":"\"\"","v":""},"Assorted Fruit","Assorted Fruit",{"$f":"\"\"","v":""},{"$f":"\"\"","v":""}]
[null,"Week 14",{"$f":"\"\"","v":""},{"$f":"\"\"","v":""},{"$f":"\"\"","v":""},{"$f":"\"\"","v":""},{"$f":"\"\"","v":""},{"$f":"\"\"","v":""},{"$f":"\"\"","v":""},null,"Week 14",{"$f":"\"\"","v":""},{"$f":"\"\"","v":""},{"$f":"\"\"","v":""},{"$f":"\"\"","v":""},{"$f":"\"\"","v":""},{"$f":"\"\"","v":""},{"$f":"\"\"","v":""},null,"Week 14",{"$f":"\"\"","v":""},{"$f":"\"\"","v":""},{"$f":"\"\"","v":""},{"$f":"\"\"","v":""},{"$f":"\"\"","v":""},{"$f":"\"\"","v":""},{"$f":"\"\"","v":""},null,"Week 14",{"$f":"\"\"","v":""},{"$f":"\"\"","v":""},{"$f":"\"\"","v":""},{"$f":"\"\"","v":""},{"$f":"\"\"","v":""},{"$f":"\"\"","v":""},{"$f":"\"\"","v":""},null,"Week 14",{"$f":"\"\"","v":""},{"$f":"\"\"","v":""},{"$f":"\"\"","v":""},{"$f":"\"\"","v":""},{"$f":"\"\"","v":""},{"$f":"\"\"","v":""},{"$f":"\"\"","v":""},null,"Week 14",{"$f":"\"\"","v":""},{"$f":"\"\"","v":""},{"$f":"\"\"","v":""},{"$f":"\"\"","v":""},{"$f":"\"\"","v":""},{"$f":"\"\"","v":""},{"$f":"\"\"","v":""},null,"Week 14",{"$f":"\"\"","v":""},{"$f":"\"\"","v":""},{"$f":"\"\"","v":""},{"$f":"\"\"","v":""},{"$f":"\"\"","v":""},{"$f":"\"\"","v":""},{"$f":"\"\"","v":""},null,"Week 14",{"$f":"\"\"","v":""},{"$f":"\"\"","v":""},{"$f":"\"\"","v":""},{"$f":"\"\"","v":""},{"$f":"\"\"","v":""},{"$f":"\"\"","v":""},{"$f":"\"\"","v":""},null,"Week 14",{"$f":"\"\"","v":""},{"$f":"\"\"","v":""},{"$f":"\"\"","v":""},{"$f":"\"\"","v":""},{"$f":"\"\"","v":""},{"$f":"\"\"","v":""},{"$f":"\"\"","v":""},null,"Week 14",{"$f":"\"\"","v":""},{"$f":"\"\"","v":""},{"$f":"\"\"","v":""},{"$f":"\"\"","v":""},{"$f":"\"\"","v":""},{"$f":"\"\"","v":""},{"$f":"\"\"","v":""}]
[null,{"$f":"\"\"","v":""},"Chicken and Cheese Biscuit","Chicken Nachos","Beef Hot Dog","Chicken Fajita Spaghetti","Crunchy Chicken Tenders","Cheeseburger","Rosy Chicken Penne",null,{"$f":"\"\"","v":""},"Chicken and Cheese Biscuit","Chicken Nachos","Beef Hot Dog","Chicken Fajita Spaghetti","Crunchy Chicken Tenders","Cheeseburger","Rosy Chicken Penne",null,{"$f":"\"\"","v":""},"Chicken and Cheese Biscuit","Chicken Nachos","Beef Hot Dog","Chicken Fajita Spaghetti","Crunchy Chicken Tenders","Cheeseburger","Rosy Chicken Penne",null,{"$f":"\"\"","v":""},"Chicken and Cheese Biscuit","Chicken Nachos","Beef Hot Dog","Chicken Fajita Spaghetti","Crunchy Chicken Tenders","Cheeseburger","Rosy Chicken Penne",null,{"$f":"\"\"","v":""},"Chicken and Cheese Biscuit","Chicken Nachos","Beef Hot Dog","Chicken Fajita Spaghetti","Crunchy Chicken Tenders","Cheeseburger","Rosy Chicken Penne",null,{"$f":"\"\"","v":""},"Chicken and Cheese Biscuit","Chicken Nachos","Beef Hot Dog","Chicken Fajita Spaghetti","Crunchy Chicken Tenders","Cheeseburger","Rosy Chicken Penne",null,{"$f":"\"\"","v":""},"Chicken and Cheese Biscuit","Chicken Nachos","Beef Hot Dog","Chicken Fajita Spaghetti","Chicken Drumsticks","Cheeseburger","Rosy Chicken Penne",null,{"$f":"\"\"","v":""},"Chicken and Cheese Biscuit","Chicken Nachos","Beef Hot Dog","Chicken Fajita Spaghetti","Chicken Drumsticks","Cheeseburger","Rosy Chicken Penne",null,{"$f":"\"\"","v":""},"Chicken and Cheese Biscuit","Chicken Nachos","Beef Hot Dog","Chicken Fajita Spaghetti","Chicken Drumsticks","Cheeseburger","Rosy Chicken Penne",null,{"$f":"\"\"","v":""},"Chicken and Cheese Biscuit","Chicken Nachos","Beef Hot Dog","Chicken Fajita Spaghetti","Chicken Drumsticks","Cheeseburger","Rosy Chicken Penne"]
[null,{"$f":"\"\"","v":""},"Breakfast Potato with Peppers","Shredded Cheddar Cheese","Ketchup","Shredded Mozzarella","Ketchup","Ketchup","Green Beans",null,{"$f":"\"\"","v":""},"Salad Bar","Shredded Cheddar Cheese","Ketchup","Shredded Mozzarella","Ketchup","Ketchup","Salad Bar",null,{"$f":"\"\"","v":""},"Breakfast Potato with Peppers","Shredded Lettuce & Cheddar","Ketchup","Shredded Mozzarella","Ketchup","Ketchup","Green Beans",null,{"$f":"\"\"","v":""},"Salad Bar","Shredded Cheddar Cheese","Ketchup","Shredded Mozzarella","Ketchup","Ketchup","Salad Bar",null,{"$f":"\"\"","v":""},"Breakfast Potato with Peppers","Shredded Cheddar Cheese","Ketchup","Shredded Mozzarella","Ketchup","Ketchup","Green Beans",null,{"$f":"\"\"","v":""},"Salad Bar","Shredded Cheddar Cheese","Ketchup","Shredded Mozzarella","Ketchup","Ketchup","Salad Bar",null,{"$f":"\"\"","v":""},"Breakfast Potato with Peppers","Shredded Lettuce & Cheddar","Ketchup","Shredded Mozzarella","Garlic Brown Rice","Ketchup","Dinner Roll",null,{"$f":"\"\"","v":""},"Salad Bar","Garlic Brown Rice","Assorted Chips","Shredded Mozzarella","Garlic Brown Rice","Ketchup","Dinner Roll",null,{"$f":"\"\"","v":""},"Breakfast Potato with Peppers","Shredded Lettuce & Cheddar","Ketchup","Dinner Roll","Garlic Brown Rice","Ketchup","Dinner Roll",null,{"$f":"\"\"","v":""},"Salad Bar","Garlic Brown Rice","Assorted Chips","Shredded Mozzarella","Garlic Brown Rice","Assorted Chips","Dinner Roll"]
[null,{"$f":"\"\"","v":""},"Assorted Fruit","Corn","Side Salad & Dressing","Tomatoes & Dressing","Carrots & Dressing","Garden Salad & Dressing","Assorted Fruit",null,{"$f":"\"\"","v":""},"Assorted Fruit","Salad Bar","Salad Bar","Salad Bar","Salad Bar","Salad Bar","Assorted Fruit",null,{"$f":"\"\"","v":""},"Assorted Fruit","Assorted Chips","Side Salad & Dressing","Side Salad & Dressing","Dinner Roll","Garden Salad & Dressing","Assorted Fruit",null,{"$f":"\"\"","v":""},"Assorted Fruit","Salad Bar","Salad Bar","Salad Bar","Salad Bar","Salad Bar","Assorted Fruit",null,{"$f":"\"\"","v":""},"Assorted Fruit","Corn","Side Salad & Dressing","Tomatoes & Dressing","Carrots & Dressing","Garden Salad & Dressing","Assorted Fruit",null,{"$f":"\"\"","v":""},"Assorted Fruit","Salad Bar","Salad Bar","Salad Bar","Salad Bar","Salad Bar","Assorted Fruit",null,{"$f":"\"\"","v":""},"Assorted Fruit","Corn","Baked Beans & Asst. Chips","Side Salad & Dressing","Dinner Roll","Garden Salad & Dressing","Green Beans",null,{"$f":"\"\"","v":""},"Assorted Fruit","Assorted Chips & Shredded Cheddar","Ketchup","Salad Bar","Dinner Roll","Salad Bar","Salad Bar",null,{"$f":"\"\"","v":""},"Assorted Fruit","Corn","Baked Beans & Asst. Chips","Side Salad & Dressing","Dinner Roll","Assorted Chips","Green Beans",null,{"$f":"\"\"","v":""},"Assorted Fruit","Assorted Chips & Shredded Cheddar","Ketchup","Dinner Roll","Dinner Roll","Ketchup","Salad Bar"]
[null,{"$f":"\"\"","v":""},{"$f":"\"\"","v":""},"Assorted Fruit","Assorted Fruit","Assorted Fruit","Assorted Fruit","Assorted Fruit",{"$f":"\"\"","v":""},null,{"$f":"\"\"","v":""},{"$f":"\"\"","v":""},"Assorted Fruit","Assorted Fruit","Assorted Fruit","Assorted Fruit","Assorted Fruit",{"$f":"\"\"","v":""},null,{"$f":"\"\"","v":""},{"$f":"\"\"","v":""},"Corn","Assorted Fruit","Tomatoes","Carrots & Dressing","Assorted Fruit",{"$f":"\"\"","v":""},null,{"$f":"\"\"","v":""},{"$f":"\"\"","v":""},"Assorted Fruit","Assorted Fruit","Assorted Fruit","Assorted Fruit","Assorted Fruit",{"$f":"\"\"","v":""},null,{"$f":"\"\"","v":""},{"$f":"\"\"","v":""},"Assorted Fruit","Assorted Fruit","Assorted Fruit","Assorted Fruit","Assorted Fruit",{"$f":"\"\"","v":""},null,{"$f":"\"\"","v":""},{"$f":"\"\"","v":""},"Assorted Fruit","Assorted Fruit","Assorted Fruit","Assorted Fruit","Assorted Fruit",{"$f":"\"\"","v":""},null,{"$f":"\"\"","v":""},{"$f":"\"\"","v":""},"Assorted Fruit","Side Salad & Dressing","Tomatoes","Carrots & Dressing","Assorted Fruit","Assorted Fruit",null,{"$f":"\"\"","v":""},{"$f":"\"\"","v":""},"Salad Bar","Salad Bar","Assorted Fruit","Salad Bar","Assorted Fruit","Assorted Fruit",null,{"$f":"\"\"","v":""},{"$f":"\"\"","v":""},"Assorted Fruit","Side Salad & Dressing","Tomatoes","Carrots & Dressing","Garden Salad & Dressing","Assorted Fruit",null,{"$f":"\"\"","v":""},{"$f":"\"\"","v":""},"Salad Bar","Salad Bar","Salad Bar","Salad Bar","Salad Bar","Assorted Fruit"]
[null,{"$f":"\"\"","v":""},{"$f":"\"\"","v":""},{"$f":"\"\"","v":""},{"$f":"\"\"","v":""},{"$f":"\"\"","v":""},{"$f":"\"\"","v":""},{"$f":"\"\"","v":""},{"$f":"\"\"","v":""},null,{"$f":"\"\"","v":""},{"$f":"\"\"","v":""},{"$f":"\"\"","v":""},{"$f":"\"\"","v":""},{"$f":"\"\"","v":""},{"$f":"\"\"","v":""},{"$f":"\"\"","v":""},{"$f":"\"\"","v":""},null,{"$f":"\"\"","v":""},{"$f":"\"\"","v":""},"Assorted Fruit",{"$f":"\"\"","v":""},"Assorted Fruit","Assorted Fruit",{"$f":"\"\"","v":""},{"$f":"\"\"","v":""},null,{"$f":"\"\"","v":""},{"$f":"\"\"","v":""},{"$f":"\"\"","v":""},{"$f":"\"\"","v":""},{"$f":"\"\"","v":""},{"$f":"\"\"","v":""},{"$f":"\"\"","v":""},{"$f":"\"\"","v":""},null,{"$f":"\"\"","v":""},{"$f":"\"\"","v":""},{"$f":"\"\"","v":""},{"$f":"\"\"","v":""},{"$f":"\"\"","v":""},{"$f":"\"\"","v":""},{"$f":"\"\"","v":""},{"$f":"\"\"","v":""},null,{"$f":"\"\"","v":""},{"$f":"\"\"","v":""},{"$f":"\"\"","v":""},{"$f":"\"\"","v":""},{"$f":"\"\"","v":""},{"$f":"\"\"","v":""},{"$f":"\"\"","v":""},{"$f":"\"\"","v":""},null,{"$f":"\"\"","v":""},{"$f":"\"\"","v":""},{"$f":"\"\"","v":""},"Assorted Fruit","Assorted Fruit","Assorted Fruit",{"$f":"\"\"","v":""},{"$f":"\"\"","v":""},null,{"$f":"\"\"","v":""},{"$f":"\"\"","v":""},"Assorted Fruit","Assorted Fruit",{"$f":"\"\"","v":""},"Assorted Fruit",{"$f":"\"\"","v":""},{"$f":"\"\"","v":""},null,{"$f":"\"\"","v":""},{"$f":"\"\"","v":""},{"$f":"\"\"","v":""},"Assorted Fruit","Assorted Fruit","Assorted Fruit","Assorted Fruit",{"$f":"\"\"","v":""},null,{"$f":"\"\"","v":""},{"$f":"\"\"","v":""},"Assorted Fruit","Assorted Fruit","Assorted Fruit","Assorted Fruit","Assorted Fruit",{"$f":"\"\"","v":""}]
[null,"Week 15",{"$f":"\"\"","v":""},{"$f":"\"\"","v":""},{"$f":"\"\"","v":""},{"$f":"\"\"","v":""},{"$f":"\"\"","v":""},{"$f":"\"\"","v":""},{"$f":"\"\"","v":""},null,"Week 15",{"$f":"\"\"","v":""},{"$f":"\"\"","v":""},{"$f":"\"\"","v":""},{"$f":"\"\"","v":""},{"$f":"\"\"","v":""},{"$f":"\"\"","v":""},{"$f":"\"\"","v":""},null,"Week 15",{"$f":"\"\"","v":""},{"$f":"\"\"","v":""},{"$f":"\"\"","v":""},{"$f":"\"\"","v":""},{"$f":"\"\"","v":""},{"$f":"\"\"","v":""},{"$f":"\"\"","v":""},null,"Week 15",{"$f":"\"\"","v":""},{"$f":"\"\"","v":""},{"$f":"\"\"","v":""},{"$f":"\"\"","v":""},{"$f":"\"\"","v":""},{"$f":"\"\"","v":""},{"$f":"\"\"","v":""},null,"Week 15",{"$f":"\"\"","v":""},{"$f":"\"\"","v":""},{"$f":"\"\"","v":""},{"$f":"\"\"","v":""},{"$f":"\"\"","v":""},{"$f":"\"\"","v":""},{"$f":"\"\"","v":""},null,"Week 15",{"$f":"\"\"","v":""},{"$f":"\"\"","v":""},{"$f":"\"\"","v":""},{"$f":"\"\"","v":""},{"$f":"\"\"","v":""},{"$f":"\"\"","v":""},{"$f":"\"\"","v":""},null,"Week 15",{"$f":"\"\"","v":""},{"$f":"\"\"","v":""},{"$f":"\"\"","v":""},{"$f":"\"\"","v":""},{"$f":"\"\"","v":""},{"$f":"\"\"","v":""},{"$f":"\"\"","v":""},null,"Week 15",{"$f":"\"\"","v":""},{"$f":"\"\"","v":""},{"$f":"\"\"","v":""},{"$f":"\"\"","v":""},{"$f":"\"\"","v":""},{"$f":"\"\"","v":""},{"$f":"\"\"","v":""},null,"Week 15",{"$f":"\"\"","v":""},{"$f":"\"\"","v":""},{"$f":"\"\"","v":""},{"$f":"\"\"","v":""},{"$f":"\"\"","v":""},{"$f":"\"\"","v":""},{"$f":"\"\"","v":""},null,"Week 15",{"$f":"\"\"","v":""},{"$f":"\"\"","v":""},{"$f":"\"\"","v":""},{"$f":"\"\"","v":""},{"$f":"\"\"","v":""},{"$f":"\"\"","v":""},{"$f":"\"\"","v":""}]
[null,{"$f":"\"\"","v":""},"Brunch Fried Rice","Chicken Nuggets","Grilled Lime Chicken Sandwich","Lasagna Roll-up","Sweet & Sour Chicken","Cheeseburger Meatloaf","BBQ Baked Pork",null,{"$f":"\"\"","v":""},"Brunch Fried Rice","Chicken Nuggets","Grilled Lime Chicken Sandwich","Lasagna Roll-up","Sweet & Sour Chicken","Cheeseburger Meatloaf","BBQ Baked Pork",null,{"$f":"\"\"","v":""},"Brunch Fried Rice","Chicken Nuggets","Grilled Lime Chicken Sandwich","Lasagna Roll-up","Sweet & Sour Chicken","Cheeseburger Meatloaf","BBQ Baked Pork",null,{"$f":"\"\"","v":""},"Brunch Fried Rice","Chicken Nuggets","Grilled Lime Chicken Sandwich","Lasagna Roll-up","Sweet & Sour Chicken","Cheeseburger Meatloaf","BBQ Baked Pork",null,{"$f":"\"\"","v":""},"Brunch Fried Rice","Chicken Nuggets","Grilled Lime Chicken Sandwich","Lasagna Roll-up","Sweet & Sour Chicken","Cheeseburger Meatloaf","BBQ Baked Pork",null,{"$f":"\"\"","v":""},"Brunch Fried Rice","Chicken Nuggets","Grilled Lime Chicken Sandwich","Lasagna Roll-up","Sweet & Sour Chicken","Cheeseburger Meatloaf","BBQ Baked Pork",null,{"$f":"\"\"","v":""},"Brunch Fried Rice","Chicken Nuggets","Grilled Lime Chicken Sandwich","Lasagna Roll-up","Sweet & Sour Chicken","Cheeseburger Meatloaf","BBQ Baked Pork",null,{"$f":"\"\"","v":""},"Brunch Fried Rice","Chicken Nuggets","Grilled Lime Chicken Sandwich","Lasagna Roll-up","Sweet & Sour Chicken","Cheeseburger Meatloaf","BBQ Baked Pork",null,{"$f":"\"\"","v":""},"Brunch Fried Rice","Chicken Nuggets","Grilled Lime Chicken Sandwich","Lasagna Roll-up","Sweet & Sour Chicken","Cheeseburger Meatloaf","BBQ Baked Pork",null,{"$f":"\"\"","v":""},"Brunch Fried Rice","Chicken Nuggets","Grilled Lime Chicken Sandwich","Lasagna Roll-up","Sweet & Sour Chicken","Cheeseburger Meatloaf","BBQ Baked Pork"]
[null,{"$f":"\"\"","v":""},"Green Beans & Margarine","Carrots & Dressing","RanchaBoom! Sauce","Garden Salad & Dressing","Garlic Brown Rice","Mashed Potatoes & Dinner Roll","Dinner Roll",null,{"$f":"\"\"","v":""},"Salad Bar","Salad Bar","RanchaBoom! Sauce","Salad Bar","Garlic Brown Rice","Dinner Roll","Dinner Roll",null,{"$f":"\"\"","v":""},"Green Beans","Carrots & Dressing","ChickaBoom! Sauce","Garden Salad & Dressing","Garlic Brown Rice","Mashed Potatoes & Dinner Roll","Dinner Roll",null,{"$f":"\"\"","v":""},"Salad Bar","Salad Bar","RanchaBoom! Sauce","Salad Bar","Garlic Brown Rice","Dinner Roll","Dinner Roll",null,{"$f":"\"\"","v":""},"Green Beans & Margarine","Carrots & Dressing","RanchaBoom! Sauce","Garden Salad & Dressing","Garlic Brown Rice","Mashed Potatoes & Dinner Roll","Dinner Roll",null,{"$f":"\"\"","v":""},"Salad Bar","Salad Bar","RanchaBoom! Sauce","Salad Bar","Garlic Brown Rice","Dinner Roll","Dinner Roll",null,{"$f":"\"\"","v":""},"Dinner Roll & Margarine","Assorted Chips","Mashed Potatoes","Dinner Roll","Garlic Brown Rice","Mashed Potatoes & Dinner Roll","Dinner Roll",null,{"$f":"\"\"","v":""},"Dinner Roll","Assorted Chips","ChickaBoom! Sauce","Dinner Roll","Garlic Brown Rice","Dinner Roll","Dinner Roll",null,{"$f":"\"\"","v":""},"Dinner Roll & Margarine","Assorted Chips","Mashed Potatoes","Dinner Roll","Garlic Brown Rice","Mashed Potatoes & Dinner Roll","Dinner Roll",null,{"$f":"\"\"","v":""},"Dinner Roll & Margarine","Assorted Chips","Assorted Chips","Dinner Roll","Garlic Brown Rice","Assorted Chips & Dinner Roll","Dinner Roll"]
[null,{"$f":"\"\"","v":""},"Assorted Fruit","Assorted Fruit","Green Beans","Assorted Fruit","Broccoli & Dressing","Assorted Fruit","Cucumbers & Dressing",null,{"$f":"\"\"","v":""},"Assorted Fruit","Assorted Fruit","Salad Bar","Assorted Fruit","Salad Bar","Salad Bar","Salad Bar",null,{"$f":"\"\"","v":""},"Assorted Fruit","Assorted Fruit","Green Beans","Assorted Fruit","Broccoli & Dressing","Assorted Fruit","Cucumbers & Dressing",null,{"$f":"\"\"","v":""},"Assorted Fruit","Assorted Fruit","Salad Bar","Assorted Fruit","Salad Bar","Salad Bar","Salad Bar",null,{"$f":"\"\"","v":""},"Assorted Fruit","Assorted Fruit","Green Beans","Assorted Fruit","Broccoli & Dressing","Assorted Fruit","Cucumbers & Dressing",null,{"$f":"\"\"","v":""},"Assorted Fruit","Assorted Fruit","Salad Bar","Assorted Fruit","Salad Bar","Salad Bar","Salad Bar",null,{"$f":"\"\"","v":""},"Green Beans","Baked Beans","RanchaBoom! Sauce","Garden Salad & Dressing","Carrots & Dressing","Assorted Fruit","Cucumbers & Dressing",null,{"$f":"\"\"","v":""},"Salad Bar","Salad Bar","Salad Bar","Salad Bar","Salad Bar","Salad Bar","Salad Bar",null,{"$f":"\"\"","v":""},"Green Beans","Baked Beans","RanchaBoom! Sauce","Garden Salad & Dressing","Carrots & Dressing","Assorted Chips","Assorted Chips",null,{"$f":"\"\"","v":""},"Salad Bar","Salad Bar","ChickaBoom! Sauce","Salad Bar","Salad Bar","Salad Bar","Assorted Chips"]
[null,{"$f":"\"\"","v":""},{"$f":"\"\"","v":""},{"$f":"\"\"","v":""},"Assorted Fruit",{"$f":"\"\"","v":""},"Assorted Fruit",{"$f":"\"\"","v":""},"Assorted Fruit",null,{"$f":"\"\"","v":""},{"$f":"\"\"","v":""},{"$f":"\"\"","v":""},"Assorted Fruit",{"$f":"\"\"","v":""},"Assorted Fruit","Assorted Fruit","Assorted Fruit",null,{"$f":"\"\"","v":""},{"$f":"\"\"","v":""},{"$f":"\"\"","v":""},"Assorted Fruit",{"$f":"\"\"","v":""},"Assorted Fruit",{"$f":"\"\"","v":""},"Assorted Fruit",null,{"$f":"\"\"","v":""},{"$f":"\"\"","v":""},{"$f":"\"\"","v":""},"Assorted Fruit",{"$f":"\"\"","v":""},"Assorted Fruit","Assorted Fruit","Assorted Fruit",null,{"$f":"\"\"","v":""},{"$f":"\"\"","v":""},{"$f":"\"\"","v":""},"Assorted Fruit",{"$f":"\"\"","v":""},"Assorted Fruit",{"$f":"\"\"","v":""},"Assorted Fruit",null,{"$f":"\"\"","v":""},{"$f":"\"\"","v":""},{"$f":"\"\"","v":""},"Assorted Fruit",{"$f":"\"\"","v":""},"Assorted Fruit","Assorted Fruit","Assorted Fruit",null,{"$f":"\"\"","v":""},"Assorted Fruit","Carrots & Dressing","Green Beans","Assorted Fruit","Assorted Fruit",{"$f":"\"\"","v":""},"Assorted Fruit",null,{"$f":"\"\"","v":""},"Assorted Fruit","Assorted Fruit","Assorted Fruit","Assorted Fruit","Assorted Fruit","Assorted Fruit","Assorted Fruit",null,{"$f":"\"\"","v":""},"Assorted Fruit","Carrots & Dressing","Green Beans","Assorted Fruit","Assorted Fruit","Assorted Fruit","Cucumbers & Dressing",null,{"$f":"\"\"","v":""},"Assorted Fruit","Assorted Fruit","Salad Bar","Assorted Fruit","Assorted Fruit","Assorted Fruit","Salad Bar"]
[null,{"$f":"\"\"","v":""},{"$f":"\"\"","v":""},{"$f":"\"\"","v":""},{"$f":"\"\"","v":""},{"$f":"\"\"","v":""},{"$f":"\"\"","v":""},{"$f":"\"\"","v":""},{"$f":"\"\"","v":""},null,{"$f":"\"\"","v":""},{"$f":"\"\"","v":""},{"$f":"\"\"","v":""},{"$f":"\"\"","v":""},{"$f":"\"\"","v":""},{"$f":"\"\"","v":""},{"$f":"\"\"","v":""},{"$f":"\"\"","v":""},null,{"$f":"\"\"","v":""},{"$f":"\"\"","v":""},{"$f":"\"\"","v":""},{"$f":"\"\"","v":""},{"$f":"\"\"","v":""},{"$f":"\"\"","v":""},{"$f":"\"\"","v":""},{"$f":"\"\"","v":""},null,{"$f":"\"\"","v":""},{"$f":"\"\"","v":""},{"$f":"\"\"","v":""},{"$f":"\"\"","v":""},{"$f":"\"\"","v":""},{"$f":"\"\"","v":""},{"$f":"\"\"","v":""},{"$f":"\"\"","v":""},null,{"$f":"\"\"","v":""},{"$f":"\"\"","v":""},{"$f":"\"\"","v":""},{"$f":"\"\"","v":""},{"$f":"\"\"","v":""},{"$f":"\"\"","v":""},{"$f":"\"\"","v":""},{"$f":"\"\"","v":""},null,{"$f":"\"\"","v":""},{"$f":"\"\"","v":""},{"$f":"\"\"","v":""},{"$f":"\"\"","v":""},{"$f":"\"\"","v":""},{"$f":"\"\"","v":""},{"$f":"\"\"","v":""},{"$f":"\"\"","v":""},null,{"$f":"\"\"","v":""},{"$f":"\"\"","v":""},"Assorted Fruit","Assorted Fruit",{"$f":"\"\"","v":""},{"$f":"\"\"","v":""},{"$f":"\"\"","v":""},{"$f":"\"\"","v":""},null,{"$f":"\"\"","v":""},{"$f":"\"\"","v":""},{"$f":"\"\"","v":""},{"$f":"\"\"","v":""},{"$f":"\"\"","v":""},{"$f":"\"\"","v":""},{"$f":"\"\"","v":""},{"$f":"\"\"","v":""},null,{"$f":"\"\"","v":""},{"$f":"\"\"","v":""},"Assorted Fruit","Assorted Fruit",{"$f":"\"\"","v":""},{"$f":"\"\"","v":""},{"$f":"\"\"","v":""},"Assorted Fruit",null,{"$f":"\"\"","v":""},{"$f":"\"\"","v":""},{"$f":"\"\"","v":""},"Assorted Fruit",{"$f":"\"\"","v":""},{"$f":"\"\"","v":""},{"$f":"\"\"","v":""},"Assorted Fruit"]
[null,"Week 16",{"$f":"\"\"","v":""},{"$f":"\"\"","v":""},{"$f":"\"\"","v":""},{"$f":"\"\"","v":""},{"$f":"\"\"","v":""},{"$f":"\"\"","v":""},{"$f":"\"\"","v":""},null,"Week 16",{"$f":"\"\"","v":""},{"$f":"\"\"","v":""},{"$f":"\"\"","v":""},{"$f":"\"\"","v":""},{"$f":"\"\"","v":""},{"$f":"\"\"","v":""},{"$f":"\"\"","v":""},null,"Week 16",{"$f":"\"\"","v":""},{"$f":"\"\"","v":""},{"$f":"\"\"","v":""},{"$f":"\"\"","v":""},{"$f":"\"\"","v":""},{"$f":"\"\"","v":""},{"$f":"\"\"","v":""},null,"Week 16",{"$f":"\"\"","v":""},{"$f":"\"\"","v":""},{"$f":"\"\"","v":""},{"$f":"\"\"","v":""},{"$f":"\"\"","v":""},{"$f":"\"\"","v":""},{"$f":"\"\"","v":""},null,"Week 16",{"$f":"\"\"","v":""},{"$f":"\"\"","v":""},{"$f":"\"\"","v":""},{"$f":"\"\"","v":""},{"$f":"\"\"","v":""},{"$f":"\"\"","v":""},{"$f":"\"\"","v":""},null,"Week 16",{"$f":"\"\"","v":""},{"$f":"\"\"","v":""},{"$f":"\"\"","v":""},{"$f":"\"\"","v":""},{"$f":"\"\"","v":""},{"$f":"\"\"","v":""},{"$f":"\"\"","v":""},null,"Week 16",{"$f":"\"\"","v":""},{"$f":"\"\"","v":""},{"$f":"\"\"","v":""},{"$f":"\"\"","v":""},{"$f":"\"\"","v":""},{"$f":"\"\"","v":""},{"$f":"\"\"","v":""},null,"Week 16",{"$f":"\"\"","v":""},{"$f":"\"\"","v":""},{"$f":"\"\"","v":""},{"$f":"\"\"","v":""},{"$f":"\"\"","v":""},{"$f":"\"\"","v":""},{"$f":"\"\"","v":""},null,"Week 16",{"$f":"\"\"","v":""},{"$f":"\"\"","v":""},{"$f":"\"\"","v":""},{"$f":"\"\"","v":""},{"$f":"\"\"","v":""},{"$f":"\"\"","v":""},{"$f":"\"\"","v":""},null,"Week 16",{"$f":"\"\"","v":""},{"$f":"\"\"","v":""},{"$f":"\"\"","v":""},{"$f":"\"\"","v":""},{"$f":"\"\"","v":""},{"$f":"\"\"","v":""},{"$f":"\"\"","v":""}]
[null,{"$f":"\"\"","v":""},"Sausage, Egg & Cheese Sandwich","Tejas Meatballs","Creamy Chicken Sabzi","Beef Hot Dog","BBQ Chicken Carnitas Sandwich","Beef Pho","Chicken Penne Alfredo",null,{"$f":"\"\"","v":""},"Sausage, Egg & Cheese Sandwich","Tejas Meatballs","Creamy Chicken Sabzi","Beef Hot Dog","BBQ Chicken Carnitas Sandwich","Beef Pho","Chicken Penne Alfredo",null,{"$f":"\"\"","v":""},"Sausage, Egg & Cheese Sandwich","Tejas Meatballs","Creamy Chicken Sabzi","Beef Hot Dog","BBQ Chicken Carnitas Sandwich","Beef Pho","Chicken Penne Alfredo",null,{"$f":"\"\"","v":""},"Sausage, Egg & Cheese Sandwich","Tejas Meatballs","Creamy Chicken Sabzi","Beef Hot Dog","BBQ Chicken Carnitas Sandwich","Beef Pho","Chicken Penne Alfredo",null,{"$f":"\"\"","v":""},"Sausage, Egg & Cheese Sandwich","Tejas Meatballs","Creamy Chicken Sabzi","Beef Hot Dog","BBQ Chicken Carnitas Sandwich","Beef Pho","Chicken Penne Alfredo",null,{"$f":"\"\"","v":""},"Sausage, Egg & Cheese Sandwich","Tejas Meatballs","Creamy Chicken Sabzi","Beef Hot Dog","BBQ Chicken Carnitas Sandwich","Beef Pho","Chicken Penne Alfredo",null,{"$f":"\"\"","v":""},"Sausage, Egg & Cheese Sandwich","Tejas Meatballs","Creamy Chicken Sabzi","Beef Hot Dog","BBQ Chicken Carnitas Sandwich","Beef Pho","Chicken Penne Alfredo",null,{"$f":"\"\"","v":""},"Sausage, Egg & Cheese Sandwich","Tejas Meatballs","Creamy Chicken Sabzi","Beef Hot Dog","BBQ Chicken Carnitas Sandwich","Beef Pho","Chicken Penne Alfredo",null,{"$f":"\"\"","v":""},"Sausage, Egg & Cheese Sandwich","Tejas Meatballs","Creamy Chicken Sabzi","Beef Hot Dog","BBQ Chicken Carnitas Sandwich","Beef Pho","Chicken Penne Alfredo",null,{"$f":"\"\"","v":""},"Sausage, Egg & Cheese Sandwich","Tejas Meatballs","Creamy Chicken Sabzi","Beef Hot Dog","BBQ Chicken Carnitas Sandwich","Beef Pho","Chicken Penne Alfredo"]
[null,{"$f":"\"\"","v":""},"Crispy Cubes & Ketchup","Mashed Potatoes & Dinner Roll","Cilantro Brown Rice","Ketchup","Garden Salad & Dressing","Broccoli & Dressing","Side Salad & Dressing",null,{"$f":"\"\"","v":""},"Salad Bar","Dinner Roll","Cilantro Brown Rice","Ketchup","Salad Bar","Salad Bar","Salad Bar",null,{"$f":"\"\"","v":""},"Crispy Cubes & Ketchup","Mashed Potatoes & Dinner Roll","Cilantro Brown Rice","Ketchup","Garden Salad & Dressing","Broccoli","Side Salad & Dressing",null,{"$f":"\"\"","v":""},"Salad Bar","Dinner Roll","Cilantro Brown Rice","Ketchup","Salad Bar","Salad Bar","Salad Bar",null,{"$f":"\"\"","v":""},"Crispy Cubes & Ketchup","Mashed Potatoes & Dinner Roll","Cilantro Brown Rice","Ketchup","Garden Salad & Dressing","Broccoli & Dressing","Side Salad & Dressing",null,{"$f":"\"\"","v":""},"Salad Bar","Dinner Roll","Cilantro Brown Rice","Ketchup","Salad Bar","Salad Bar","Salad Bar",null,{"$f":"\"\"","v":""},"Crispy Cubes & Ketchup","Mashed Potatoes & Dinner Roll","Cilantro Brown Rice","Ketchup","Assorted Chips","Broccoli & Dressing","Dinner Roll",null,{"$f":"\"\"","v":""},"Salad Bar","Dinner Roll","Cilantro Brown Rice","Ketchup","Assorted Chips","Salad Bar","Dinner Roll",null,{"$f":"\"\"","v":""},"Crispy Cubes & Ketchup","Mashed Potatoes & Dinner Roll","Cilantro Brown Rice","Ketchup","Assorted Chips","Dinner Roll","Dinner Roll",null,{"$f":"\"\"","v":""},"Salad Bar","Assorted Chips & Dinner Roll","Cilantro Brown Rice","Ketchup","Assorted Chips","Dinner Roll","Dinner Roll"]
[null,{"$f":"\"\"","v":""},"Assorted Fruit","Shredded Cheddar Cheese","Carrots","Coleslaw","Assorted Fruit","Assorted Fruit","Assorted Fruit",null,{"$f":"\"\"","v":""},"Assorted Fruit","Shredded Cheddar Cheese","Salad Bar","Salad Bar","Assorted Fruit","Assorted Fruit","Assorted Fruit",null,{"$f":"\"\"","v":""},"Assorted Fruit","Shredded Cheddar Cheese","Carrots","Coleslaw","Assorted Fruit","Assorted Fruit","Assorted Fruit",null,{"$f":"\"\"","v":""},"Assorted Fruit","Shredded Cheddar Cheese","Salad Bar","Salad Bar","Assorted Fruit","Assorted Fruit","Assorted Fruit",null,{"$f":"\"\"","v":""},"Assorted Fruit","Shredded Cheddar Cheese","Carrots","Coleslaw","Assorted Fruit","Assorted Fruit","Assorted Fruit",null,{"$f":"\"\"","v":""},"Assorted Fruit","Shredded Cheddar Cheese","Salad Bar","Salad Bar","Assorted Fruit","Assorted Fruit","Assorted Fruit",null,{"$f":"\"\"","v":""},"Side Salad & Dressing","Assorted Chips & Shredded Cheddar","Carrots","Assorted Chips","Red Peppers","Assorted Fruit","Side Salad & Dressing",null,{"$f":"\"\"","v":""},"Assorted Fruit","Shredded Cheddar Cheese","Dinner Roll","Assorted Chips","Salad Bar","Assorted Fruit","Salad Bar",null,{"$f":"\"\"","v":""},"Side Salad & Dressing","Assorted Chips & Shredded Cheddar","Dinner Roll","Assorted Chips","Red Peppers","Broccoli & Dressing","Side Salad & Dressing",null,{"$f":"\"\"","v":""},"Assorted Fruit","Shredded Cheddar Cheese","Dinner Roll","Assorted Chips","Salad Bar","Salad Bar","Salad Bar"]
[null,{"$f":"\"\"","v":""},{"$f":"\"\"","v":""},"Assorted Fruit","Assorted Fruit","Assorted Fruit",{"$f":"\"\"","v":""},{"$f":"\"\"","v":""},{"$f":"\"\"","v":""},null,{"$f":"\"\"","v":""},{"$f":"\"\"","v":""},"Salad Bar","Assorted Fruit","Assorted Fruit",{"$f":"\"\"","v":""},{"$f":"\"\"","v":""},{"$f":"\"\"","v":""},null,{"$f":"\"\"","v":""},{"$f":"\"\"","v":""},"Assorted Fruit","Assorted Fruit","Assorted Fruit",{"$f":"\"\"","v":""},{"$f":"\"\"","v":""},{"$f":"\"\"","v":""},null,{"$f":"\"\"","v":""},{"$f":"\"\"","v":""},"Salad Bar","Assorted Fruit","Assorted Fruit",{"$f":"\"\"","v":""},{"$f":"\"\"","v":""},{"$f":"\"\"","v":""},null,{"$f":"\"\"","v":""},{"$f":"\"\"","v":""},"Assorted Fruit","Assorted Fruit","Assorted Fruit",{"$f":"\"\"","v":""},{"$f":"\"\"","v":""},{"$f":"\"\"","v":""},null,{"$f":"\"\"","v":""},{"$f":"\"\"","v":""},"Salad Bar","Assorted Fruit","Assorted Fruit",{"$f":"\"\"","v":""},{"$f":"\"\"","v":""},{"$f":"\"\"","v":""},null,{"$f":"\"\"","v":""},"Assorted Fruit","Green Beans","Assorted Fruit","Baked Beans & Coleslaw","Garden Salad & Dressing",{"$f":"\"\"","v":""},"Assorted Fruit",null,{"$f":"\"\"","v":""},{"$f":"\"\"","v":""},"Salad Bar","Salad Bar","Salad Bar","Assorted Fruit",{"$f":"\"\"","v":""},"Assorted Fruit",null,{"$f":"\"\"","v":""},"Assorted Fruit","Green Beans","Carrots","Baked Beans & Coleslaw","Garden Salad & Dressing","Assorted Fruit","Assorted Fruit",null,{"$f":"\"\"","v":""},{"$f":"\"\"","v":""},"Salad Bar","Salad Bar","Salad Bar","Assorted Fruit","Assorted Fruit","Assorted Fruit"]
[null,{"$f":"\"\"","v":""},{"$f":"\"\"","v":""},{"$f":"\"\"","v":""},{"$f":"\"\"","v":""},{"$f":"\"\"","v":""},{"$f":"\"\"","v":""},{"$f":"\"\"","v":""},{"$f":"\"\"","v":""},null,{"$f":"\"\"","v":""},{"$f":"\"\"","v":""},"Assorted Fruit",{"$f":"\"\"","v":""},{"$f":"\"\"","v":""},{"$f":"\"\"","v":""},{"$f":"\"\"","v":""},{"$f":"\"\"","v":""},null,{"$f":"\"\"","v":""},{"$f":"\"\"","v":""},{"$f":"\"\"","v":""},{"$f":"\"\"","v":""},{"$f":"\"\"","v":""},{"$f":"\"\"","v":""},{"$f":"\"\"","v":""},{"$f":"\"\"","v":""},null,{"$f":"\"\"","v":""},{"$f":"\"\"","v":""},"Assorted Fruit",{"$f":"\"\"","v":""},{"$f":"\"\"","v":""},{"$f":"\"\"","v":""},{"$f":"\"\"","v":""},{"$f":"\"\"","v":""},null,{"$f":"\"\"","v":""},{"$f":"\"\"","v":""},{"$f":"\"\"","v":""},{"$f":"\"\"","v":""},{"$f":"\"\"","v":""},{"$f":"\"\"","v":""},{"$f":"\"\"","v":""},{"$f":"\"\"","v":""},null,{"$f":"\"\"","v":""},{"$f":"\"\"","v":""},"Assorted Fruit",{"$f":"\"\"","v":""},{"$f":"\"\"","v":""},{"$f":"\"\"","v":""},{"$f":"\"\"","v":""},{"$f":"\"\"","v":""},null,{"$f":"\"\"","v":""},{"$f":"\"\"","v":""},"Assorted Fruit",{"$f":"\"\"","v":""},"Assorted Fruit","Assorted Fruit",{"$f":"\"\"","v":""},{"$f":"\"\"","v":""},null,{"$f":"\"\"","v":""},{"$f":"\"\"","v":""},"Assorted Fruit","Assorted Fruit","Assorted Fruit",{"$f":"\"\"","v":""},{"$f":"\"\"","v":""},{"$f":"\"\"","v":""},null,{"$f":"\"\"","v":""},{"$f":"\"\"","v":""},"Assorted Fruit","Assorted Fruit","Assorted Fruit","Assorted Fruit",{"$f":"\"\"","v":""},{"$f":"\"\"","v":""},null,{"$f":"\"\"","v":""},{"$f":"\"\"","v":""},"Assorted Fruit","Assorted Fruit","Assorted Fruit",{"$f":"\"\"","v":""},{"$f":"\"\"","v":""},{"$f":"\"\"","v":""}]
[null,"Week 17",{"$f":"\"\"","v":""},{"$f":"\"\"","v":""},{"$f":"\"\"","v":""},{"$f":"\"\"","v":""},{"$f":"\"\"","v":""},{"$f":"\"\"","v":""},{"$f":"\"\"","v":""},null,"Week 17",{"$f":"\"\"","v":""},{"$f":"\"\"","v":""},{"$f":"\"\"","v":""},{"$f":"\"\"","v":""},{"$f":"\"\"","v":""},{"$f":"\"\"","v":""},{"$f":"\"\"","v":""},null,"Week 17",{"$f":"\"\"","v":""},{"$f":"\"\"","v":""},{"$f":"\"\"","v":""},{"$f":"\"\"","v":""},{"$f":"\"\"","v":""},{"$f":"\"\"","v":""},{"$f":"\"\"","v":""},null,"Week 17",{"$f":"\"\"","v":""},{"$f":"\"\"","v":""},{"$f":"\"\"","v":""},{"$f":"\"\"","v":""},{"$f":"\"\"","v":""},{"$f":"\"\"","v":""},{"$f":"\"\"","v":""},null,"Week 17",{"$f":"\"\"","v":""},{"$f":"\"\"","v":""},{"$f":"\"\"","v":""},{"$f":"\"\"","v":""},{"$f":"\"\"","v":""},{"$f":"\"\"","v":""},{"$f":"\"\"","v":""},null,"Week 17",{"$f":"\"\"","v":""},{"$f":"\"\"","v":""},{"$f":"\"\"","v":""},{"$f":"\"\"","v":""},{"$f":"\"\"","v":""},{"$f":"\"\"","v":""},{"$f":"\"\"","v":""},null,"Week 17",{"$f":"\"\"","v":""},{"$f":"\"\"","v":""},{"$f":"\"\"","v":""},{"$f":"\"\"","v":""},{"$f":"\"\"","v":""},{"$f":"\"\"","v":""},{"$f":"\"\"","v":""},null,"Week 17",{"$f":"\"\"","v":""},{"$f":"\"\"","v":""},{"$f":"\"\"","v":""},{"$f":"\"\"","v":""},{"$f":"\"\"","v":""},{"$f":"\"\"","v":""},{"$f":"\"\"","v":""},null,"Week 17",{"$f":"\"\"","v":""},{"$f":"\"\"","v":""},{"$f":"\"\"","v":""},{"$f":"\"\"","v":""},{"$f":"\"\"","v":""},{"$f":"\"\"","v":""},{"$f":"\"\"","v":""},null,"Week 17",{"$f":"\"\"","v":""},{"$f":"\"\"","v":""},{"$f":"\"\"","v":""},{"$f":"\"\"","v":""},{"$f":"\"\"","v":""},{"$f":"\"\"","v":""},{"$f":"\"\"","v":""}]
[null,{"$f":"\"\"","v":""},"Turkey Sausage Pancake on a Stick","Pollo de la Playa","Taj Mahal Meatballs","Chicken Fried Rice","Baja Fish Taco","Crunchy Chicken Tenders","Walking Beef Taco",null,{"$f":"\"\"","v":""},"Turkey Sausage Pancake on a Stick","Pollo de la Playa","Taj Mahal Meatballs","Chicken Fried Rice","Baja Fish Taco","Crunchy Chicken Tenders","Walking Beef Taco",null,{"$f":"\"\"","v":""},"Turkey Sausage Pancake on a Stick","Pollo de la Playa","Taj Mahal Meatballs","Chicken Fried Rice","Baja Fish Taco","Crunchy Chicken Tenders","Walking Beef Taco",null,{"$f":"\"\"","v":""},"Turkey Sausage Pancake on a Stick","Pollo de la Playa","Taj Mahal Meatballs","Chicken Fried Rice","Baja Fish Taco","Crunchy Chicken Tenders","Walking Beef Taco",null,{"$f":"\"\"","v":""},"Turkey Sausage Pancake on a Stick","Pollo de la Playa","Taj Mahal Meatballs","Chicken Fried Rice","Baja Fish Taco","Crunchy Chicken Tenders","Walking Beef Taco",null,{"$f":"\"\"","v":""},"Turkey Sausage Pancake on a Stick","Pollo de la Playa","Taj Mahal Meatballs","Chicken Fried Rice","Baja Fish Taco","Crunchy Chicken Tenders","Walking Beef Taco",null,{"$f":"\"\"","v":""},"Turkey Sausage Pancake on a Stick","Pollo de la Playa","Taj Mahal Meatballs","Chicken Fried Rice","Baja Fish Taco","Chicken Drumstick","Walking Beef Taco",null,{"$f":"\"\"","v":""},"Turkey Sausage Pancake on a Stick","Pollo de la Playa","Taj Mahal Meatballs","Chicken Fried Rice","Baja Fish Taco","Chicken Drumstick","Walking Beef Taco",null,{"$f":"\"\"","v":""},"Turkey Sausage Pancake on a Stick","Pollo de la Playa","Taj Mahal Meatballs","Chicken Fried Rice","Baja Fish Taco","Chicken Drumstick","Walking Beef Taco",null,{"$f":"\"\"","v":""},"Turkey Sausage Pancake on a Stick","Pollo de la Playa","Taj Mahal Meatballs","Chicken Fried Rice","Baja Fish Taco","Chicken Drumstick","Walking Beef Taco"]
[null,{"$f":"\"\"","v":""},"Maple Syrup","Taco Sauce & Shredded Mozzarella","Cilantro Brown Rice","Broccoli & Dressing","Shredded Cabbage & Cheddar","Mashed Potatoes","ChickaBoom! Sauce",null,{"$f":"\"\"","v":""},"Maple Syrup","Taco Sauce & Shredded Mozzarella","Cilantro Brown Rice","Salad Bar","Shredded Cheddar Cheese","Salad Bar","Shredded Cheddar",null,{"$f":"\"\"","v":""},"Maple Syrup","Taco Sauce & Shredded Mozzarella","Dinner Roll","Broccoli & Dressing","Salsa Ranch","Mashed Potatoes","ChickaBoom! Sauce",null,{"$f":"\"\"","v":""},"Maple Syrup","Taco Sauce & Shredded Mozzarella","Cilantro Brown Rice","Salad Bar","Shredded Cheddar Cheese","Salad Bar","Shredded Cheddar",null,{"$f":"\"\"","v":""},"Maple Syrup","Taco Sauce & Shredded Mozzarella","Cilantro Brown Rice","Broccoli & Dressing","Shredded Cabbage & Cheddar","Mashed Potatoes","ChickaBoom! Sauce",null,{"$f":"\"\"","v":""},"Maple Syrup","Taco Sauce & Shredded Mozzarella","Cilantro Brown Rice","Salad Bar","Shredded Cheddar Cheese","Salad Bar","Shredded Cheddar",null,{"$f":"\"\"","v":""},"Breakfast Potato with Peppers","Taco Sauce & Shredded Mozzarella","Cilantro Brown Rice","Dinner Roll","Shredded Cabbage & Cheddar","Mashed Potatoes & Dinner Roll","Shredded Lettuce & Cheddar",null,{"$f":"\"\"","v":""},"Salad Bar","Assorted Chips & Taco Sauce","Cilantro Brown Rice","Dinner Roll","Shredded Cheddar","Dinner Roll","Tortilla Chips & ChickaBoom! Sauce",null,{"$f":"\"\"","v":""},"Maple Syrup","Taco Sauce & Shredded Mozzarella","Cilantro Brown Rice","Dinner Roll","Shredded Cabbage & Cheddar","Mashed Potatoes & Dinner Roll","Shredded Lettuce & Cheddar",null,{"$f":"\"\"","v":""},"Maple Syrup","Taco Sauce & Shredded Mozzarella","Cilantro Brown Rice","Dinner Roll","Shredded Cheddar","Dinner Roll","Tortilla Chips & ChickaBoom! Sauce"]
[null,{"$f":"\"\"","v":""},"Breakfast Potato with Peppers","Coleslaw","Side Salad & Dressing","Assorted Fruit","Assorted Fruit","Assorted Fruit","Shredded Cheddar",null,{"$f":"\"\"","v":""},"Salad Bar","Salad Bar","Salad Bar","Assorted Fruit","Salad Bar","Assorted Fruit","ChickaBoom! Sauce",null,{"$f":"\"\"","v":""},"Breakfast Potato with Peppers","Coleslaw","Carrots & Dressing","Assorted Fruit","Shredded Cabbage & Cheddar","Assorted Chips","Shredded Cheddar",null,{"$f":"\"\"","v":""},"Salad Bar","Salad Bar","Salad Bar","Assorted Fruit","Salad Bar","Assorted Fruit","ChickaBoom! Sauce",null,{"$f":"\"\"","v":""},"Breakfast Potato with Peppers","Coleslaw","Side Salad & Dressing","Assorted Fruit","Assorted Fruit","Assorted Fruit","Shredded Cheddar",null,{"$f":"\"\"","v":""},"Salad Bar","Salad Bar","Salad Bar","Assorted Fruit","Salad Bar","Assorted Fruit","ChickaBoom! Sauce",null,{"$f":"\"\"","v":""},"Assorted Fruit","Assorted Chips","Carrots","Broccoli & Dressing","ChickaBean! Salad","Side Salad & Dressing","ChickaBoom! Sauce",null,{"$f":"\"\"","v":""},"Assorted Fruit","Salad Bar","Salad Bar","Salad Bar","Salad Bar","Salad Bar","Shredded Cheddar",null,{"$f":"\"\"","v":""},"Breakfast Potato with Peppers","Assorted Chips","Dinner Roll & Carrots","Broccoli & Dressing","ChickaBean! Salad","Assorted Chips","ChickaBoom! Sauce",null,{"$f":"\"\"","v":""},"Salad Bar","Assorted Chips","Dinner Roll","Salad Bar","Salad Bar","Assorted Chips","Assorted Chips & Cheddar"]
[null,{"$f":"\"\"","v":""},"Assorted Fruit","Assorted Fruit","Assorted Fruit",{"$f":"\"\"","v":""},{"$f":"\"\"","v":""},{"$f":"\"\"","v":""},"Cucumbers & Dressing",null,{"$f":"\"\"","v":""},"Assorted Fruit","Assorted Fruit","Assorted Fruit",{"$f":"\"\"","v":""},"Assorted Fruit",{"$f":"\"\"","v":""},"Salad Bar",null,{"$f":"\"\"","v":""},"Assorted Fruit","Assorted Fruit","Assorted Fruit",{"$f":"\"\"","v":""},"Assorted Fruit","Assorted Fruit","Cucumbers & Dressing",null,{"$f":"\"\"","v":""},"Assorted Fruit","Assorted Fruit","Assorted Fruit",{"$f":"\"\"","v":""},"Assorted Fruit",{"$f":"\"\"","v":""},"Salad Bar",null,{"$f":"\"\"","v":""},"Assorted Fruit","Assorted Fruit","Assorted Fruit",{"$f":"\"\"","v":""},{"$f":"\"\"","v":""},{"$f":"\"\"","v":""},"Cucumbers & Dressing",null,{"$f":"\"\"","v":""},"Assorted Fruit","Assorted Fruit","Assorted Fruit",{"$f":"\"\"","v":""},"Assorted Fruit",{"$f":"\"\"","v":""},"Salad Bar",null,{"$f":"\"\"","v":""},{"$f":"\"\"","v":""},"Corn & Coleslaw","Side Salad & Dressing","Red Peppers","Assorted Fruit","Assorted Fruit","Cucumbers & Dressing",null,{"$f":"\"\"","v":""},{"$f":"\"\"","v":""},"Assorted Fruit","Assorted Fruit","Assorted Fruit","Assorted Fruit","Assorted Fruit","Salad Bar",null,{"$f":"\"\"","v":""},"Assorted Fruit","Corn & Coleslaw","Side Salad & Dressing","Red Peppers","Assorted Fruit","Side Salad & Dressing","Cucumbers & Dressing",null,{"$f":"\"\"","v":""},"Assorted Fruit","Salad Bar","Salad Bar","Assorted Fruit","Assorted Fruit","Salad Bar","Salad Bar"]
[null,{"$f":"\"\"","v":""},{"$f":"\"\"","v":""},{"$f":"\"\"","v":""},{"$f":"\"\"","v":""},{"$f":"\"\"","v":""},{"$f":"\"\"","v":""},{"$f":"\"\"","v":""},"Assorted Fruit",null,{"$f":"\"\"","v":""},{"$f":"\"\"","v":""},{"$f":"\"\"","v":""},{"$f":"\"\"","v":""},{"$f":"\"\"","v":""},{"$f":"\"\"","v":""},{"$f":"\"\"","v":""},"Assorted Fruit",null,{"$f":"\"\"","v":""},{"$f":"\"\"","v":""},{"$f":"\"\"","v":""},{"$f":"\"\"","v":""},{"$f":"\"\"","v":""},{"$f":"\"\"","v":""},{"$f":"\"\"","v":""},"Assorted Fruit",null,{"$f":"\"\"","v":""},{"$f":"\"\"","v":""},{"$f":"\"\"","v":""},{"$f":"\"\"","v":""},{"$f":"\"\"","v":""},{"$f":"\"\"","v":""},{"$f":"\"\"","v":""},"Assorted Fruit",null,{"$f":"\"\"","v":""},{"$f":"\"\"","v":""},{"$f":"\"\"","v":""},{"$f":"\"\"","v":""},{"$f":"\"\"","v":""},{"$f":"\"\"","v":""},{"$f":"\"\"","v":""},"Assorted Fruit",null,{"$f":"\"\"","v":""},{"$f":"\"\"","v":""},{"$f":"\"\"","v":""},{"$f":"\"\"","v":""},{"$f":"\"\"","v":""},{"$f":"\"\"","v":""},{"$f":"\"\"","v":""},"Assorted Fruit",null,{"$f":"\"\"","v":""},{"$f":"\"\"","v":""},"Assorted Fruit","Assorted Fruit","Assorted Fruit",{"$f":"\"\"","v":""},{"$f":"\"\"","v":""},"Assorted Fruit",null,{"$f":"\"\"","v":""},{"$f":"\"\"","v":""},{"$f":"\"\"","v":""},{"$f":"\"\"","v":""},{"$f":"\"\"","v":""},{"$f":"\"\"","v":""},{"$f":"\"\"","v":""},"Assorted Fruit",null,{"$f":"\"\"","v":""},{"$f":"\"\"","v":""},"Assorted Fruit","Assorted Fruit","Assorted Fruit",{"$f":"\"\"","v":""},"Assorted Fruit","Assorted Fruit",null,{"$f":"\"\"","v":""},{"$f":"\"\"","v":""},"Assorted Fruit","Assorted Fruit",{"$f":"\"\"","v":""},{"$f":"\"\"","v":""},"Assorted Fruit","Assorted Fruit"]
[null,"Week 18",{"$f":"\"\"","v":""},{"$f":"\"\"","v":""},{"$f":"\"\"","v":""},{"$f":"\"\"","v":""},{"$f":"\"\"","v":""},{"$f":"\"\"","v":""},{"$f":"\"\"","v":""},null,"Week 18",{"$f":"\"\"","v":""},{"$f":"\"\"","v":""},{"$f":"\"\"","v":""},{"$f":"\"\"","v":""},{"$f":"\"\"","v":""},{"$f":"\"\"","v":""},{"$f":"\"\"","v":""},null,"Week 18",{"$f":"\"\"","v":""},{"$f":"\"\"","v":""},{"$f":"\"\"","v":""},{"$f":"\"\"","v":""},{"$f":"\"\"","v":""},{"$f":"\"\"","v":""},{"$f":"\"\"","v":""},null,"Week 18",{"$f":"\"\"","v":""},{"$f":"\"\"","v":""},{"$f":"\"\"","v":""},{"$f":"\"\"","v":""},{"$f":"\"\"","v":""},{"$f":"\"\"","v":""},{"$f":"\"\"","v":""},null,"Week 18",{"$f":"\"\"","v":""},{"$f":"\"\"","v":""},{"$f":"\"\"","v":""},{"$f":"\"\"","v":""},{"$f":"\"\"","v":""},{"$f":"\"\"","v":""},{"$f":"\"\"","v":""},null,"Week 18",{"$f":"\"\"","v":""},{"$f":"\"\"","v":""},{"$f":"\"\"","v":""},{"$f":"\"\"","v":""},{"$f":"\"\"","v":""},{"$f":"\"\"","v":""},{"$f":"\"\"","v":""},null,"Week 18",{"$f":"\"\"","v":""},{"$f":"\"\"","v":""},{"$f":"\"\"","v":""},{"$f":"\"\"","v":""},{"$f":"\"\"","v":""},{"$f":"\"\"","v":""},{"$f":"\"\"","v":""},null,"Week 18",{"$f":"\"\"","v":""},{"$f":"\"\"","v":""},{"$f":"\"\"","v":""},{"$f":"\"\"","v":""},{"$f":"\"\"","v":""},{"$f":"\"\"","v":""},{"$f":"\"\"","v":""},null,"Week 18",{"$f":"\"\"","v":""},{"$f":"\"\"","v":""},{"$f":"\"\"","v":""},{"$f":"\"\"","v":""},{"$f":"\"\"","v":""},{"$f":"\"\"","v":""},{"$f":"\"\"","v":""},null,"Week 18",{"$f":"\"\"","v":""},{"$f":"\"\"","v":""},{"$f":"\"\"","v":""},{"$f":"\"\"","v":""},{"$f":"\"\"","v":""},{"$f":"\"\"","v":""},{"$f":"\"\"","v":""}]
[null,{"$f":"\"\"","v":""},"Turkey Sausage with Gravy","Chicken Nuggets","Cheese Quesadilla","Sweet & Sour Chicken","Tuscan Chicken Sandwich","Beef Corn Bread Casserole","Beef Rib Sandwich",null,{"$f":"\"\"","v":""},"Turkey Sausage with Gravy","Chicken Nuggets","Cheese Quesadilla","Sweet & Sour Chicken","Tuscan Chicken Sandwich","Beef Corn Bread Casserole","Beef Rib Sandwich",null,{"$f":"\"\"","v":""},"Turkey Sausage with Gravy","Chicken Nuggets","Cheese Quesadilla","Sweet & Sour Chicken","Tuscan Chicken Sandwich","Beef Corn Bread Casserole","Beef Rib Sandwich",null,{"$f":"\"\"","v":""},"Turkey Sausage with Gravy","Chicken Nuggets","Cheese Quesadilla","Sweet & Sour Chicken","Tuscan Chicken Sandwich","Beef Corn Bread Casserole","Beef Rib Sandwich",null,{"$f":"\"\"","v":""},"Turkey Sausage with Gravy","Chicken Nuggets","Cheese Quesadilla","Sweet & Sour Chicken","Tuscan Chicken Sandwich","Beef Corn Bread Casserole","Beef Rib Sandwich",null,{"$f":"\"\"","v":""},"Turkey Sausage with Gravy","Chicken Nuggets","Cheese Quesadilla","Sweet & Sour Chicken","Tuscan Chicken Sandwich","Beef Corn Bread Casserole","Beef Rib Sandwich",null,{"$f":"\"\"","v":""},"Turkey Sausage with Gravy","Chicken Nuggets","Cheese Quesadilla","Sweet & Sour Chicken","Tuscan Chicken Sandwich","Beef Corn Bread Casserole","Beef Rib Sandwich",null,{"$f":"\"\"","v":""},"Turkey Sausage with Gravy","Chicken Nuggets","Cheese Quesadilla","Sweet & Sour Chicken","Tuscan Chicken Sandwich","Beef Corn Bread Casserole","Beef Rib Sandwich",null,{"$f":"\"\"","v":""},"Turkey Sausage with Gravy","Chicken Nuggets","Cheese Quesadilla","Sweet & Sour Chicken","Tuscan Chicken Sandwich","Beef Corn Bread Casserole","Beef Rib Sandwich",null,{"$f":"\"\"","v":""},"Turkey Sausage with Gravy","Chicken Nuggets","Cheese Quesadilla","Sweet & Sour Chicken","Tuscan Chicken Sandwich","Beef Corn Bread Casserole","Beef Rib Sandwich"]
[null,{"$f":"\"\"","v":""},"Biscuit","Carrots & Dressing","Shredded Mozzarella","Garlic Brown Rice","Carrots & Dressing","Shredded Cheddar & Assorted Chips","Cucumbers & Dressing",null,{"$f":"\"\"","v":""},"Biscuit","Salad Bar","Shredded Mozzarella","Garlic Brown Rice","Salad Bar","Shredded Cheddar & Assorted Chips","Salad Bar",null,{"$f":"\"\"","v":""},"Biscuit","Carrots & Dressing","Shredded Mozzarella","Garlic Brown Rice","Carrots & Dressing","Shredded Cheddar & Assorted Chips","Cucumbers & Dressing",null,{"$f":"\"\"","v":""},"Biscuit","Salad Bar","Shredded Mozzarella","Garlic Brown Rice","Salad Bar","Shredded Cheddar & Assorted Chips","Salad Bar",null,{"$f":"\"\"","v":""},"Biscuit","Carrots & Dressing","Shredded Mozzarella","Garlic Brown Rice","Carrots & Dressing","Shredded Cheddar & Assorted Chips","Cucumbers & Dressing",null,{"$f":"\"\"","v":""},"Biscuit","Salad Bar","Shredded Mozzarella","Garlic Brown Rice","Salad Bar","Shredded Cheddar & Assorted Chips","Salad Bar",null,{"$f":"\"\"","v":""},"Biscuit","Assorted Chips","Shredded Lettuce & Mozzarella","Garlic Brown Rice","Carrots & Dressing","Mashed Potatoes","Cucumbers & Dressing",null,{"$f":"\"\"","v":""},"Biscuit","Ranch Dressing","Shredded Mozzarella","Garlic Brown Rice","Assorted Chips","Shredded Cheddar","Salad Bar",null,{"$f":"\"\"","v":""},"Biscuit","Assorted Chips","Shredded Lettuce & Mozzarella","Garlic Brown Rice","Carrots & Dressing","Mashed Potatoes & Dinner Roll","Cucumbers & Dressing",null,{"$f":"\"\"","v":""},"Biscuit","Ranch Dressing","Shredded Mozzarella","Garlic Brown Rice","Assorted Chips","Shredded Cheddar & Dinner Roll","Salad Bar"]
[null,{"$f":"\"\"","v":""},"Crispy Cubes","Assorted Fruit","ChickaBoom! Sauce","Broccoli","Assorted Fruit","Green Beans","Assorted Fruit",null,{"$f":"\"\"","v":""},"Salad Bar","Assorted Fruit","ChickaBoom! Sauce","Salad Bar","Assorted Fruit","Salad Bar","Assorted Fruit",null,{"$f":"\"\"","v":""},"Crispy Cubes & Corn","Assorted Fruit","ChickaBoom! Sauce","Broccoli","Assorted Fruit","Mashed Potatoes","Assorted Fruit",null,{"$f":"\"\"","v":""},"Salad Bar","Assorted Fruit","ChickaBoom! Sauce","Salad Bar","Assorted Fruit","Salad Bar","Assorted Fruit",null,{"$f":"\"\"","v":""},"Crispy Cubes","Assorted Fruit","ChickaBoom! Sauce","Broccoli","Assorted Fruit","Green Beans","Assorted Fruit",null,{"$f":"\"\"","v":""},"Salad Bar","Assorted Fruit","ChickaBoom! Sauce","Salad Bar","Assorted Fruit","Salad Bar","Assorted Fruit",null,{"$f":"\"\"","v":""},"Crispy Cubes","Baked Beans","ChickaBoom! Sauce","Broccoli & Cauliflower","Assorted Fruit","Shredded Cheddar & Assorted Chips","Assorted Fruit",null,{"$f":"\"\"","v":""},"Salad Bar","Assorted Chips","ChickaBoom! Sauce","Salad Bar","Salad Bar","Salad Bar","Assorted Fruit",null,{"$f":"\"\"","v":""},"Crispy Cubes & Corn","Baked Beans","ChickaBoom! Sauce","Broccoli & Cauliflower","Assorted Fruit","Shredded Cheddar & Assorted Chips","Assorted Fruit",null,{"$f":"\"\"","v":""},"Salad Bar","Assorted Chips","ChickaBoom! Sauce","Salad Bar","Salad Bar","Salad Bar","Assorted Fruit"]
[null,{"$f":"\"\"","v":""},"Assorted Fruit",{"$f":"\"\"","v":""},"Corn","Assorted Fruit",{"$f":"\"\"","v":""},"Assorted Fruit",{"$f":"\"\"","v":""},null,{"$f":"\"\"","v":""},"Assorted Fruit",{"$f":"\"\"","v":""},"Salad Bar","Assorted Fruit",{"$f":"\"\"","v":""},"Assorted Fruit",{"$f":"\"\"","v":""},null,{"$f":"\"\"","v":""},"Assorted Fruit",{"$f":"\"\"","v":""},"Side Salad & Corn","Assorted Fruit",{"$f":"\"\"","v":""},"Green Beans",{"$f":"\"\"","v":""},null,{"$f":"\"\"","v":""},"Assorted Fruit",{"$f":"\"\"","v":""},"Salad Bar","Assorted Fruit",{"$f":"\"\"","v":""},"Assorted Fruit",{"$f":"\"\"","v":""},null,{"$f":"\"\"","v":""},"Assorted Fruit",{"$f":"\"\"","v":""},"Corn","Assorted Fruit",{"$f":"\"\"","v":""},"Assorted Fruit",{"$f":"\"\"","v":""},null,{"$f":"\"\"","v":""},"Assorted Fruit",{"$f":"\"\"","v":""},"Salad Bar","Assorted Fruit",{"$f":"\"\"","v":""},"Assorted Fruit",{"$f":"\"\"","v":""},null,{"$f":"\"\"","v":""},"Assorted Fruit","Carrots & Dressing","Corn","Assorted Fruit",{"$f":"\"\"","v":""},"Green Beans",{"$f":"\"\"","v":""},null,{"$f":"\"\"","v":""},"Assorted Fruit","Salad Bar","Salad Bar","Assorted Fruit","Assorted Fruit","Assorted Fruit",{"$f":"\"\"","v":""},null,{"$f":"\"\"","v":""},"Assorted Fruit","Carrots & Dressing","Corn","Assorted Fruit",{"$f":"\"\"","v":""},"Green Beans",{"$f":"\"\"","v":""},null,{"$f":"\"\"","v":""},"Assorted Fruit","Salad Bar","Salad Bar","Assorted Fruit","Assorted Fruit","Assorted Fruit",{"$f":"\"\"","v":""}]
[null,{"$f":"\"\"","v":""},{"$f":"\"\"","v":""},{"$f":"\"\"","v":""},"Assorted Fruit",{"$f":"\"\"","v":""},{"$f":"\"\"","v":""},{"$f":"\"\"","v":""},{"$f":"\"\"","v":""},null,{"$f":"\"\"","v":""},{"$f":"\"\"","v":""},{"$f":"\"\"","v":""},"Assorted Fruit",{"$f":"\"\"","v":""},{"$f":"\"\"","v":""},{"$f":"\"\"","v":""},{"$f":"\"\"","v":""},null,{"$f":"\"\"","v":""},{"$f":"\"\"","v":""},{"$f":"\"\"","v":""},"Assorted Fruit",{"$f":"\"\"","v":""},{"$f":"\"\"","v":""},"Assorted Fruit",{"$f":"\"\"","v":""},null,{"$f":"\"\"","v":""},{"$f":"\"\"","v":""},{"$f":"\"\"","v":""},"Assorted Fruit",{"$f":"\"\"","v":""},{"$f":"\"\"","v":""},{"$f":"\"\"","v":""},{"$f":"\"\"","v":""},null,{"$f":"\"\"","v":""},{"$f":"\"\"","v":""},{"$f":"\"\"","v":""},"Assorted Fruit",{"$f":"\"\"","v":""},{"$f":"\"\"","v":""},{"$f":"\"\"","v":""},{"$f":"\"\"","v":""},null,{"$f":"\"\"","v":""},{"$f":"\"\"","v":""},{"$f":"\"\"","v":""},"Assorted Fruit",{"$f":"\"\"","v":""},{"$f":"\"\"","v":""},{"$f":"\"\"","v":""},{"$f":"\"\"","v":""},null,{"$f":"\"\"","v":""},{"$f":"\"\"","v":""},"Assorted Fruit","Assorted Fruit",{"$f":"\"\"","v":""},{"$f":"\"\"","v":""},"Assorted Fruit",{"$f":"\"\"","v":""},null,{"$f":"\"\"","v":""},{"$f":"\"\"","v":""},"Assorted Fruit","Assorted Fruit",{"$f":"\"\"","v":""},{"$f":"\"\"","v":""},{"$f":"\"\"","v":""},{"$f":"\"\"","v":""},null,{"$f":"\"\"","v":""},{"$f":"\"\"","v":""},"Assorted Fruit","Assorted Fruit",{"$f":"\"\"","v":""},{"$f":"\"\"","v":""},"Assorted Fruit",{"$f":"\"\"","v":""},null,{"$f":"\"\"","v":""},{"$f":"\"\"","v":""},"Assorted Fruit","Assorted Fruit",{"$f":"\"\"","v":""},{"$f":"\"\"","v":""},{"$f":"\"\"","v":""},{"$f":"\"\"","v":""}]
[null,"Week 19",{"$f":"\"\"","v":""},{"$f":"\"\"","v":""},{"$f":"\"\"","v":""},{"$f":"\"\"","v":""},{"$f":"\"\"","v":""},{"$f":"\"\"","v":""},{"$f":"\"\"","v":""},null,"Week 19",{"$f":"\"\"","v":""},{"$f":"\"\"","v":""},{"$f":"\"\"","v":""},{"$f":"\"\"","v":""},{"$f":"\"\"","v":""},{"$f":"\"\"","v":""},{"$f":"\"\"","v":""},null,"Week 19",{"$f":"\"\"","v":""},{"$f":"\"\"","v":""},{"$f":"\"\"","v":""},{"$f":"\"\"","v":""},{"$f":"\"\"","v":""},{"$f":"\"\"","v":""},{"$f":"\"\"","v":""},null,"Week 19",{"$f":"\"\"","v":""},{"$f":"\"\"","v":""},{"$f":"\"\"","v":""},{"$f":"\"\"","v":""},{"$f":"\"\"","v":""},{"$f":"\"\"","v":""},{"$f":"\"\"","v":""},null,"Week 19",{"$f":"\"\"","v":""},{"$f":"\"\"","v":""},{"$f":"\"\"","v":""},{"$f":"\"\"","v":""},{"$f":"\"\"","v":""},{"$f":"\"\"","v":""},{"$f":"\"\"","v":""},null,"Week 19",{"$f":"\"\"","v":""},{"$f":"\"\"","v":""},{"$f":"\"\"","v":""},{"$f":"\"\"","v":""},{"$f":"\"\"","v":""},{"$f":"\"\"","v":""},{"$f":"\"\"","v":""},null,"Week 19",{"$f":"\"\"","v":""},{"$f":"\"\"","v":""},{"$f":"\"\"","v":""},{"$f":"\"\"","v":""},{"$f":"\"\"","v":""},{"$f":"\"\"","v":""},{"$f":"\"\"","v":""},null,"Week 19",{"$f":"\"\"","v":""},{"$f":"\"\"","v":""},{"$f":"\"\"","v":""},{"$f":"\"\"","v":""},{"$f":"\"\"","v":""},{"$f":"\"\"","v":""},{"$f":"\"\"","v":""},null,"Week 19",{"$f":"\"\"","v":""},{"$f":"\"\"","v":""},{"$f":"\"\"","v":""},{"$f":"\"\"","v":""},{"$f":"\"\"","v":""},{"$f":"\"\"","v":""},{"$f":"\"\"","v":""},null,"Week 19",{"$f":"\"\"","v":""},{"$f":"\"\"","v":""},{"$f":"\"\"","v":""},{"$f":"\"\"","v":""},{"$f":"\"\"","v":""},{"$f":"\"\"","v":""},{"$f":"\"\"","v":""}]
[null,{"$f":"\"\"","v":""},"Breakfast Pizza","Cowboy Cheddar Burger","Chicken Fajita Spaghetti","Beef Tater Tot Nachos","Curry Gravy Meatballs","Asian Baked Pork","Bean and Cheese Burrito",null,{"$f":"\"\"","v":""},"Breakfast Pizza","Cowboy Cheddar Burger","Chicken Fajita Spaghetti","Beef Tater Tot Nachos","Curry Gravy Meatballs","Asian Baked Pork","Bean and Cheese Burrito",null,{"$f":"\"\"","v":""},"Breakfast Pizza","Cowboy Cheddar Burger","Chicken Fajita Spaghetti","Beef Tater Tot Nachos","Curry Gravy Meatballs","Asian Baked Pork","Bean and Cheese Burrito",null,{"$f":"\"\"","v":""},"Breakfast Pizza","Cowboy Cheddar Burger","Chicken Fajita Spaghetti","Beef Tater Tot Nachos","Curry Gravy Meatballs","Asian Baked Pork","Bean and Cheese Burrito",null,{"$f":"\"\"","v":""},"Breakfast Pizza","Cowboy Cheddar Burger","Chicken Fajita Spaghetti","Beef Tater Tot Nachos","Curry Gravy Meatballs","Asian Baked Pork","Bean and Cheese Burrito",null,{"$f":"\"\"","v":""},"Breakfast Pizza","Cowboy Cheddar Burger","Chicken Fajita Spaghetti","Beef Tater Tot Nachos","Curry Gravy Meatballs","Asian Baked Pork","Bean and Cheese Burrito",null,{"$f":"\"\"","v":""},"Breakfast Pizza","Cowboy Cheddar Burger","Chicken Fajita Spaghetti","Beef Tater Tot Nachos","Curry Gravy Meatballs","Asian Baked Pork","Bean and Cheese Burrito",null,{"$f":"\"\"","v":""},"Breakfast Pizza","Cowboy Cheddar Burger","Chicken Fajita Spaghetti","Beef Tater Tot Nachos","Curry Gravy Meatballs","Asian Baked Pork","Bean and Cheese Burrito",null,{"$f":"\"\"","v":""},"Breakfast Pizza","Cowboy Cheddar Burger","Chicken Fajita Spaghetti","Beef Tater Tot Nachos","Curry Gravy Meatballs","Asian Baked Pork","Bean and Cheese Burrito",null,{"$f":"\"\"","v":""},"Breakfast Pizza","Cowboy Cheddar Burger","Chicken Fajita Spaghetti","Beef Tater Tot Nachos","Curry Gravy Meatballs","Asian Baked Pork","Bean and Cheese Burrito"]
[null,{"$f":"\"\"","v":""},"Spinach Salad & Dressing","Side Salad & Dressing","Side Salad & Dressing","Dinner Roll","Cilantro Brown Rice","Dinner Roll","ChicaBoom! Sauce",null,{"$f":"\"\"","v":""},"Salad Bar","Salad Bar","Salad Bar","Dinner Roll","Cilantro Brown Rice","Dinner Roll","ChicaBoom! Sauce",null,{"$f":"\"\"","v":""},"Spinach Salad & Dressing","Side Salad & Dressing","Side Salad & Dressing","Dinner Roll","Cilantro Brown Rice","Dinner Roll","ChicaBoom! Sauce",null,{"$f":"\"\"","v":""},"Salad Bar","Salad Bar","Salad Bar","Dinner Roll","Cilantro Brown Rice","Dinner Roll","ChicaBoom! Sauce",null,{"$f":"\"\"","v":""},"Spinach Salad & Dressing","Side Salad & Dressing","Side Salad & Dressing","Dinner Roll","Cilantro Brown Rice","Dinner Roll","ChicaBoom! Sauce",null,{"$f":"\"\"","v":""},"Salad Bar","Salad Bar","Salad Bar","Dinner Roll","Cilantro Brown Rice","Dinner Roll","ChicaBoom! Sauce",null,{"$f":"\"\"","v":""},"Spinach Salad & Dressing","Baked Beans","Dinner Roll","Dinner Roll","Cilantro Brown Rice","Dinner Roll","ChicaBoom! Sauce",null,{"$f":"\"\"","v":""},"Salad Bar","Shredded Cheddar","Dinner Roll","Dinner Roll","Cilantro Brown Rice","Dinner Roll","ChicaBoom! Sauce",null,{"$f":"\"\"","v":""},"Spinach Salad & Dressing","Baked Beans","Dinner Roll","Dinner Roll","Cilantro Brown Rice","Cilantro Brown Rice","ChicaBoom! Sauce",null,{"$f":"\"\"","v":""},"Salad Bar","Assorted Chips","Dinner Roll","Dinner Roll","Cilantro Brown Rice","Cilantro Brown Rice","ChicaBoom! Sauce"]
[null,{"$f":"\"\"","v":""},"Assorted Fruit","Assorted Fruit","Assorted Fruit","Green Beans","Carrots & Dressing","Broccoli & Dressing","Garden Salad & Dressing",null,{"$f":"\"\"","v":""},"Assorted Fruit","Assorted Fruit","Assorted Fruit","Salad Bar","Salad Bar","Salad Bar","Salad Bar",null,{"$f":"\"\"","v":""},"Assorted Fruit","Assorted Fruit","Assorted Fruit","Tomatoes & Green Beans","Carrots & Dressing","Broccoli & Dressing","Garden Salad & Dressing",null,{"$f":"\"\"","v":""},"Assorted Fruit","Assorted Fruit","Assorted Fruit","Salad Bar","Salad Bar","Salad Bar","Salad Bar",null,{"$f":"\"\"","v":""},"Assorted Fruit","Assorted Fruit","Assorted Fruit","Green Beans","Carrots & Dressing","Broccoli & Dressing","Garden Salad & Dressing",null,{"$f":"\"\"","v":""},"Assorted Fruit","Assorted Fruit","Assorted Fruit","Salad Bar","Salad Bar","Salad Bar","Salad Bar",null,{"$f":"\"\"","v":""},"Assorted Fruit","Side Salad & Dressing","Tomatoes","Green Beans & Corn","Dinner Roll","Broccoli & Dressing","Garden Salad & Dressing",null,{"$f":"\"\"","v":""},"Assorted Fruit","Salad Bar","Salad Bar","Salad Bar","Dinner Roll","Salad Bar","Salad Bar",null,{"$f":"\"\"","v":""},"Assorted Fruit","Side Salad & Dressing","Tomatoes","Assorted Chips","Dinner Roll","Dinner Roll","Garden Salad, Red Peppers",null,{"$f":"\"\"","v":""},"Assorted Fruit","Shredded Cheddar","Salad Bar","Assorted Chips","Dinner Roll","Dinner Roll","Salad Bar"]
[null,{"$f":"\"\"","v":""},{"$f":"\"\"","v":""},{"$f":"\"\"","v":""},{"$f":"\"\"","v":""},"Assorted Fruit","Assorted Fruit","Assorted Fruit","Assorted Fruit",null,{"$f":"\"\"","v":""},{"$f":"\"\"","v":""},{"$f":"\"\"","v":""},{"$f":"\"\"","v":""},"Assorted Fruit","Assorted Fruit","Assorted Fruit","Assorted Fruit",null,{"$f":"\"\"","v":""},{"$f":"\"\"","v":""},{"$f":"\"\"","v":""},{"$f":"\"\"","v":""},"Assorted Fruit","Assorted Fruit","Assorted Fruit","Assorted Fruit",null,{"$f":"\"\"","v":""},{"$f":"\"\"","v":""},{"$f":"\"\"","v":""},{"$f":"\"\"","v":""},"Assorted Fruit","Assorted Fruit","Assorted Fruit","Assorted Fruit",null,{"$f":"\"\"","v":""},{"$f":"\"\"","v":""},{"$f":"\"\"","v":""},{"$f":"\"\"","v":""},"Assorted Fruit","Assorted Fruit","Assorted Fruit","Assorted Fruit",null,{"$f":"\"\"","v":""},{"$f":"\"\"","v":""},{"$f":"\"\"","v":""},{"$f":"\"\"","v":""},"Assorted Fruit","Assorted Fruit","Assorted Fruit","Assorted Fruit",null,{"$f":"\"\"","v":""},{"$f":"\"\"","v":""},"Assorted Fruit","Side Salad & Dressing","Assorted Fruit","Carrots & Dressing","Assorted Fruit","Assorted Fruit",null,{"$f":"\"\"","v":""},{"$f":"\"\"","v":""},"Assorted Fruit","Assorted Fruit","Assorted Fruit","Salad Bar","Assorted Fruit","Assorted Fruit",null,{"$f":"\"\"","v":""},{"$f":"\"\"","v":""},"Assorted Fruit","Side Salad & Dressing","Green Beans & Corn","Carrots & Dressing","Broccoli & Dressing","& Salad Dressing",null,{"$f":"\"\"","v":""},{"$f":"\"\"","v":""},"Salad Bar","Assorted Fruit","Salad Bar","Salad Bar","Salad Bar","Assorted Fruit"]
[null,{"$f":"\"\"","v":""},{"$f":"\"\"","v":""},{"$f":"\"\"","v":""},{"$f":"\"\"","v":""},{"$f":"\"\"","v":""},{"$f":"\"\"","v":""},{"$f":"\"\"","v":""},{"$f":"\"\"","v":""},null,{"$f":"\"\"","v":""},{"$f":"\"\"","v":""},{"$f":"\"\"","v":""},{"$f":"\"\"","v":""},{"$f":"\"\"","v":""},{"$f":"\"\"","v":""},{"$f":"\"\"","v":""},{"$f":"\"\"","v":""},null,{"$f":"\"\"","v":""},{"$f":"\"\"","v":""},{"$f":"\"\"","v":""},{"$f":"\"\"","v":""},{"$f":"\"\"","v":""},{"$f":"\"\"","v":""},{"$f":"\"\"","v":""},{"$f":"\"\"","v":""},null,{"$f":"\"\"","v":""},{"$f":"\"\"","v":""},{"$f":"\"\"","v":""},{"$f":"\"\"","v":""},{"$f":"\"\"","v":""},{"$f":"\"\"","v":""},{"$f":"\"\"","v":""},{"$f":"\"\"","v":""},null,{"$f":"\"\"","v":""},{"$f":"\"\"","v":""},{"$f":"\"\"","v":""},{"$f":"\"\"","v":""},{"$f":"\"\"","v":""},{"$f":"\"\"","v":""},{"$f":"\"\"","v":""},{"$f":"\"\"","v":""},null,{"$f":"\"\"","v":""},{"$f":"\"\"","v":""},{"$f":"\"\"","v":""},{"$f":"\"\"","v":""},{"$f":"\"\"","v":""},{"$f":"\"\"","v":""},{"$f":"\"\"","v":""},{"$f":"\"\"","v":""},null,{"$f":"\"\"","v":""},{"$f":"\"\"","v":""},{"$f":"\"\"","v":""},"Assorted Fruit",{"$f":"\"\"","v":""},"Assorted Fruit",{"$f":"\"\"","v":""},{"$f":"\"\"","v":""},null,{"$f":"\"\"","v":""},{"$f":"\"\"","v":""},{"$f":"\"\"","v":""},{"$f":"\"\"","v":""},{"$f":"\"\"","v":""},"Assorted Fruit",{"$f":"\"\"","v":""},{"$f":"\"\"","v":""},null,{"$f":"\"\"","v":""},{"$f":"\"\"","v":""},{"$f":"\"\"","v":""},"Assorted Fruit","Assorted Fruit","Assorted Fruit","Assorted Fruit","Assorted Fruit",null,{"$f":"\"\"","v":""},{"$f":"\"\"","v":""},"Assorted Fruit",{"$f":"\"\"","v":""},"Assorted Fruit","Assorted Fruit","Assorted Fruit",{"$f":"\"\"","v":""}]
[null,"Week 20",{"$f":"\"\"","v":""},{"$f":"\"\"","v":""},{"$f":"\"\"","v":""},{"$f":"\"\"","v":""},{"$f":"\"\"","v":""},{"$f":"\"\"","v":""},{"$f":"\"\"","v":""},null,"Week 20",{"$f":"\"\"","v":""},{"$f":"\"\"","v":""},{"$f":"\"\"","v":""},{"$f":"\"\"","v":""},{"$f":"\"\"","v":""},{"$f":"\"\"","v":""},{"$f":"\"\"","v":""},null,"Week 20",{"$f":"\"\"","v":""},{"$f":"\"\"","v":""},{"$f":"\"\"","v":""},{"$f":"\"\"","v":""},{"$f":"\"\"","v":""},{"$f":"\"\"","v":""},{"$f":"\"\"","v":""},null,"Week 20",{"$f":"\"\"","v":""},{"$f":"\"\"","v":""},{"$f":"\"\"","v":""},{"$f":"\"\"","v":""},{"$f":"\"\"","v":""},{"$f":"\"\"","v":""},{"$f":"\"\"","v":""},null,"Week 20",{"$f":"\"\"","v":""},{"$f":"\"\"","v":""},{"$f":"\"\"","v":""},{"$f":"\"\"","v":""},{"$f":"\"\"","v":""},{"$f":"\"\"","v":""},{"$f":"\"\"","v":""},null,"Week 20",{"$f":"\"\"","v":""},{"$f":"\"\"","v":""},{"$f":"\"\"","v":""},{"$f":"\"\"","v":""},{"$f":"\"\"","v":""},{"$f":"\"\"","v":""},{"$f":"\"\"","v":""},null,"Week 20",{"$f":"\"\"","v":""},{"$f":"\"\"","v":""},{"$f":"\"\"","v":""},{"$f":"\"\"","v":""},{"$f":"\"\"","v":""},{"$f":"\"\"","v":""},{"$f":"\"\"","v":""},null,"Week 20",{"$f":"\"\"","v":""},{"$f":"\"\"","v":""},{"$f":"\"\"","v":""},{"$f":"\"\"","v":""},{"$f":"\"\"","v":""},{"$f":"\"\"","v":""},{"$f":"\"\"","v":""},null,"Week 20",{"$f":"\"\"","v":""},{"$f":"\"\"","v":""},{"$f":"\"\"","v":""},{"$f":"\"\"","v":""},{"$f":"\"\"","v":""},{"$f":"\"\"","v":""},{"$f":"\"\"","v":""},null,"Week 20",{"$f":"\"\"","v":""},{"$f":"\"\"","v":""},{"$f":"\"\"","v":""},{"$f":"\"\"","v":""},{"$f":"\"\"","v":""},{"$f":"\"\"","v":""},{"$f":"\"\"","v":""}]
[null,{"$f":"\"\"","v":""},"Queso Omelet","Garden Burger","Southwest Queso Chicken","Sloppy Joe Mac","Chicken & Potato Pilaf","Ranch Mozzarella Burger","Popcorn Chicken Nachos",null,{"$f":"\"\"","v":""},"Queso Omelet","Garden Burger","Southwest Queso Chicken","Sloppy Joe Mac","Chicken & Potato Pilaf","Ranch Mozzarella Burger","Popcorn Chicken Nachos",null,{"$f":"\"\"","v":""},"Queso Omelet","Garden Burger","Southwest Queso Chicken","Sloppy Joe Mac","Chicken & Potato Pilaf","Ranch Mozzarella Burger","Popcorn Chicken Nachos",null,{"$f":"\"\"","v":""},"Queso Omelet","Garden Burger","Southwest Queso Chicken","Sloppy Joe Mac","Chicken & Potato Pilaf","Ranch Mozzarella Burger","Popcorn Chicken Nachos",null,{"$f":"\"\"","v":""},"Queso Omelet","Garden Burger","Southwest Queso Chicken","Sloppy Joe Mac","Chicken & Potato Pilaf","Ranch Mozzarella Burger","Popcorn Chicken Nachos",null,{"$f":"\"\"","v":""},"Queso Omelet","Garden Burger","Southwest Queso Chicken","Sloppy Joe Mac","Chicken & Potato Pilaf","Ranch Mozzarella Burger","Popcorn Chicken Nachos",null,{"$f":"\"\"","v":""},"Queso Omelet","Garden Burger","Southwest Queso Chicken","Sloppy Joe Mac","Chicken & Potato Pilaf","Ranch Mozzarella Burger","Popcorn Chicken Nachos",null,{"$f":"\"\"","v":""},"Queso Omelet","Garden Burger","Southwest Queso Chicken","Sloppy Joe Mac","Chicken & Potato Pilaf","Ranch Mozzarella Burger","Popcorn Chicken Nachos",null,{"$f":"\"\"","v":""},"Queso Omelet","Garden Burger","Southwest Queso Chicken","Sloppy Joe Mac","Chicken & Potato Pilaf","Ranch Mozzarella Burger","Popcorn Chicken Nachos",null,{"$f":"\"\"","v":""},"Queso Omelet","Garden Burger","Southwest Queso Chicken","Sloppy Joe Mac","Chicken & Potato Pilaf","Ranch Mozzarella Burger","Popcorn Chicken Nachos"]
[null,{"$f":"\"\"","v":""},"Dinner Roll","Ketchup & Pickles","Refried Beans & Sour Cream","Coleslaw","Carrots & Dressing","Cucumber & Dressing","RanchaBoom! Sauce",null,{"$f":"\"\"","v":""},"Dinner Roll","Ketchup & Pickles","Assorted Chips & Sour Cream","Salad Bar","Salad Bar","Salad Bar","Shredded Cheddar",null,{"$f":"\"\"","v":""},"Dinner Roll","Ketchup & Pickles","Refried Beans & Sour Cream","Coleslaw","Carrots & Dressing","Cucumber & Dressing","RanchaBoom! Sauce",null,{"$f":"\"\"","v":""},"Dinner Roll","Ketchup & Pickles","Assorted Chips & Sour Cream","Salad Bar","Salad Bar","Salad Bar","Shredded Cheddar",null,{"$f":"\"\"","v":""},"Dinner Roll","Ketchup & Pickles","Refried Beans & Sour Cream","Coleslaw","Carrots & Dressing","Cucumber & Dressing","RanchaBoom! Sauce",null,{"$f":"\"\"","v":""},"Dinner Roll","Ketchup & Pickles","Assorted Chips & Sour Cream","Salad Bar","Salad Bar","Salad Bar","Shredded Cheddar",null,{"$f":"\"\"","v":""},"Dinner Roll","Ketchup & Pickles","Tomatoes &  Sour Cream","Corn & Coleslaw","Carrots & Dressing","Cucumber & Dressing","Shredded Lettuce & Cheddar",null,{"$f":"\"\"","v":""},"Dinner Roll","Ketchup","Sour Cream & RanchaBoom! Sauce","Salad Bar","Salad Bar","Salad Bar","Shredded Cheddar",null,{"$f":"\"\"","v":""},"Dinner Roll","Ketchup & Pickles","Tomatoes &  Sour Cream","Dinner Roll","Carrots & Dressing","Assorted Chips","Tortilla Chips & RanchaBoom! Sauce",null,{"$f":"\"\"","v":""},"Dinner Roll","Assorted Chips","Assorted Chips","Dinner Roll","Salad Bar","Assorted Chips","Shredded Cheddar"]
[null,{"$f":"\"\"","v":""},"Cucumbers & Dressing","Garden Salad & Dressing","Assorted Chips","Assorted Fruit","Assorted Fruit","Assorted Fruit","Shredded Cheddar",null,{"$f":"\"\"","v":""},"Salad Bar","Salad Bar","RanchaBoom! Sauce","Assorted Fruit","Assorted Fruit","Assorted Fruit","RanchaBoom! Sauce",null,{"$f":"\"\"","v":""},"Cucumbers & Dressing","Garden Salad & Dressing","Assorted Chips","Assorted Fruit","Assorted Fruit","Assorted Fruit","Shredded Cheddar",null,{"$f":"\"\"","v":""},"Salad Bar","Salad Bar","RanchaBoom! Sauce","Assorted Fruit","Assorted Fruit","Assorted Fruit","RanchaBoom! Sauce",null,{"$f":"\"\"","v":""},"Cucumbers & Dressing","Garden Salad & Dressing","Assorted Chips","Assorted Fruit","Assorted Fruit","Assorted Fruit","Shredded Cheddar",null,{"$f":"\"\"","v":""},"Salad Bar","Salad Bar","RanchaBoom! Sauce","Assorted Fruit","Assorted Fruit","Assorted Fruit","RanchaBoom! Sauce",null,{"$f":"\"\"","v":""},"Cucumbers & Dressing","Garden Salad & Dressing","Refried Beans","Assorted Fruit","Assorted Fruit","Assorted Fruit","RanchaBoom! Sauce",null,{"$f":"\"\"","v":""},"Salad Bar","Salad Bar","Salad Bar","Assorted Fruit","Assorted Fruit","Assorted Fruit","RanchaBoom! Sauce",null,{"$f":"\"\"","v":""},"Assorted Chips","Garden Salad & Dressing","Refried Beans","Corn & Coleslaw","Assorted Fruit","Cucumber & Dressing","Shredded Lettuce & Cheddar",null,{"$f":"\"\"","v":""},"Salad Bar","Ketchup","Sour Cream & RanchaBoom! Sauce","Salad Bar","Assorted Fruit","Salad Bar","RanchaBoom! Sauce"]
[null,{"$f":"\"\"","v":""},"Assorted Fruit","Assorted Fruit","RanchaBoom! Sauce",{"$f":"\"\"","v":""},{"$f":"\"\"","v":""},{"$f":"\"\"","v":""},"Crispy Cubes",null,{"$f":"\"\"","v":""},"Assorted Fruit","Assorted Fruit","Salad Bar",{"$f":"\"\"","v":""},{"$f":"\"\"","v":""},{"$f":"\"\"","v":""},"Salad Bar",null,{"$f":"\"\"","v":""},"Assorted Fruit","Assorted Fruit","RanchaBoom! Sauce",{"$f":"\"\"","v":""},{"$f":"\"\"","v":""},{"$f":"\"\"","v":""},"Crispy Cubes",null,{"$f":"\"\"","v":""},"Assorted Fruit","Assorted Fruit","Salad Bar",{"$f":"\"\"","v":""},{"$f":"\"\"","v":""},{"$f":"\"\"","v":""},"Salad Bar",null,{"$f":"\"\"","v":""},"Assorted Fruit","Assorted Fruit","RanchaBoom! Sauce",{"$f":"\"\"","v":""},{"$f":"\"\"","v":""},{"$f":"\"\"","v":""},"Crispy Cubes",null,{"$f":"\"\"","v":""},"Assorted Fruit","Assorted Fruit","Salad Bar",{"$f":"\"\"","v":""},{"$f":"\"\"","v":""},{"$f":"\"\"","v":""},"Salad Bar",null,{"$f":"\"\"","v":""},"Assorted Fruit","Assorted Fruit","RanchaBoom! Sauce",{"$f":"\"\"","v":""},{"$f":"\"\"","v":""},{"$f":"\"\"","v":""},"Crispy Cubes",null,{"$f":"\"\"","v":""},"Assorted Fruit","Assorted Fruit","Assorted Fruit",{"$f":"\"\"","v":""},{"$f":"\"\"","v":""},{"$f":"\"\"","v":""},"Salad Bar",null,{"$f":"\"\"","v":""},"Cucumbers & Dressing","Assorted Fruit","RanchaBoom! Sauce","Assorted Fruit",{"$f":"\"\"","v":""},"Assorted Fruit","Crispy Cubes",null,{"$f":"\"\"","v":""},"Assorted Fruit","Salad Bar","Salad Bar","Assorted Fruit",{"$f":"\"\"","v":""},"Assorted Fruit","Salad Bar"]
[null,{"$f":"\"\"","v":""},{"$f":"\"\"","v":""},{"$f":"\"\"","v":""},"Assorted Fruit",{"$f":"\"\"","v":""},{"$f":"\"\"","v":""},{"$f":"\"\"","v":""},"Assorted Fruit",null,{"$f":"\"\"","v":""},{"$f":"\"\"","v":""},{"$f":"\"\"","v":""},"Assorted Fruit",{"$f":"\"\"","v":""},{"$f":"\"\"","v":""},{"$f":"\"\"","v":""},"Assorted Fruit",null,{"$f":"\"\"","v":""},{"$f":"\"\"","v":""},{"$f":"\"\"","v":""},"Assorted Fruit",{"$f":"\"\"","v":""},{"$f":"\"\"","v":""},{"$f":"\"\"","v":""},"Assorted Fruit",null,{"$f":"\"\"","v":""},{"$f":"\"\"","v":""},{"$f":"\"\"","v":""},"Assorted Fruit",{"$f":"\"\"","v":""},{"$f":"\"\"","v":""},{"$f":"\"\"","v":""},"Assorted Fruit",null,{"$f":"\"\"","v":""},{"$f":"\"\"","v":""},{"$f":"\"\"","v":""},"Assorted Fruit",{"$f":"\"\"","v":""},{"$f":"\"\"","v":""},{"$f":"\"\"","v":""},"Assorted Fruit",null,{"$f":"\"\"","v":""},{"$f":"\"\"","v":""},{"$f":"\"\"","v":""},"Assorted Fruit",{"$f":"\"\"","v":""},{"$f":"\"\"","v":""},{"$f":"\"\"","v":""},"Assorted Fruit",null,{"$f":"\"\"","v":""},{"$f":"\"\"","v":""},{"$f":"\"\"","v":""},"Assorted Fruit",{"$f":"\"\"","v":""},{"$f":"\"\"","v":""},{"$f":"\"\"","v":""},"Assorted Fruit",null,{"$f":"\"\"","v":""},{"$f":"\"\"","v":""},{"$f":"\"\"","v":""},{"$f":"\"\"","v":""},{"$f":"\"\"","v":""},{"$f":"\"\"","v":""},{"$f":"\"\"","v":""},"Assorted Fruit",null,{"$f":"\"\"","v":""},"Assorted Fruit",{"$f":"\"\"","v":""},"Assorted Fruit",{"$f":"\"\"","v":""},{"$f":"\"\"","v":""},{"$f":"\"\"","v":""},"Assorted Fruit",null,{"$f":"\"\"","v":""},{"$f":"\"\"","v":""},"Assorted Fruit","Assorted Fruit",{"$f":"\"\"","v":""},{"$f":"\"\"","v":""},{"$f":"\"\"","v":""},"Assorted Fruit"]
[null,"Week 21",{"$f":"\"\"","v":""},{"$f":"\"\"","v":""},{"$f":"\"\"","v":""},{"$f":"\"\"","v":""},{"$f":"\"\"","v":""},{"$f":"\"\"","v":""},{"$f":"\"\"","v":""},null,"Week 21",{"$f":"\"\"","v":""},{"$f":"\"\"","v":""},{"$f":"\"\"","v":""},{"$f":"\"\"","v":""},{"$f":"\"\"","v":""},{"$f":"\"\"","v":""},{"$f":"\"\"","v":""},null,"Week 21",{"$f":"\"\"","v":""},{"$f":"\"\"","v":""},{"$f":"\"\"","v":""},{"$f":"\"\"","v":""},{"$f":"\"\"","v":""},{"$f":"\"\"","v":""},{"$f":"\"\"","v":""},null,"Week 21",{"$f":"\"\"","v":""},{"$f":"\"\"","v":""},{"$f":"\"\"","v":""},{"$f":"\"\"","v":""},{"$f":"\"\"","v":""},{"$f":"\"\"","v":""},{"$f":"\"\"","v":""},null,"Week 21",{"$f":"\"\"","v":""},{"$f":"\"\"","v":""},{"$f":"\"\"","v":""},{"$f":"\"\"","v":""},{"$f":"\"\"","v":""},{"$f":"\"\"","v":""},{"$f":"\"\"","v":""},null,"Week 21",{"$f":"\"\"","v":""},{"$f":"\"\"","v":""},{"$f":"\"\"","v":""},{"$f":"\"\"","v":""},{"$f":"\"\"","v":""},{"$f":"\"\"","v":""},{"$f":"\"\"","v":""},null,"Week 21",{"$f":"\"\"","v":""},{"$f":"\"\"","v":""},{"$f":"\"\"","v":""},{"$f":"\"\"","v":""},{"$f":"\"\"","v":""},{"$f":"\"\"","v":""},{"$f":"\"\"","v":""},null,"Week 21",{"$f":"\"\"","v":""},{"$f":"\"\"","v":""},{"$f":"\"\"","v":""},{"$f":"\"\"","v":""},{"$f":"\"\"","v":""},{"$f":"\"\"","v":""},{"$f":"\"\"","v":""},null,"Week 21",{"$f":"\"\"","v":""},{"$f":"\"\"","v":""},{"$f":"\"\"","v":""},{"$f":"\"\"","v":""},{"$f":"\"\"","v":""},{"$f":"\"\"","v":""},{"$f":"\"\"","v":""},null,"Week 21",{"$f":"\"\"","v":""},{"$f":"\"\"","v":""},{"$f":"\"\"","v":""},{"$f":"\"\"","v":""},{"$f":"\"\"","v":""},{"$f":"\"\"","v":""},{"$f":"\"\"","v":""}]
[null,{"$f":"\"\"","v":""},"French Toast Sticks","Hamburger","Chicken Enchilada Nachos","Turkey Meatballs w/ Gravy","Rosy Chicken Pasta","Beef Chili","Fish Sandwich",null,{"$f":"\"\"","v":""},"French Toast Sticks","Hamburger","Chicken Enchilada Nachos","Turkey Meatballs w/ Gravy","Rosy Chicken Pasta","Beef Chili","Fish Sandwich",null,{"$f":"\"\"","v":""},"French Toast Sticks","Hamburger","Chicken Enchilada Nachos","Turkey Meatballs w/ Gravy","Rosy Chicken Pasta","Beef Chili","Fish Sandwich",null,{"$f":"\"\"","v":""},"French Toast Sticks","Hamburger","Chicken Enchilada Nachos","Turkey Meatballs w/ Gravy","Rosy Chicken Pasta","Beef Chili","Fish Sandwich",null,{"$f":"\"\"","v":""},"French Toast Sticks","Hamburger","Chicken Enchilada Nachos","Turkey Meatballs w/ Gravy","Rosy Chicken Pasta","Beef Chili","Fish Sandwich",null,{"$f":"\"\"","v":""},"French Toast Sticks","Hamburger","Chicken Enchilada Nachos","Turkey Meatballs w/ Gravy","Rosy Chicken Pasta","Beef Chili","Fish Sandwich",null,{"$f":"\"\"","v":""},"French Toast Sticks","Hamburger","Chicken Enchilada Nachos","Turkey Meatballs w/ Gravy","Rosy Chicken Pasta","Beef Chili","Fish Sandwich",null,{"$f":"\"\"","v":""},"French Toast Sticks","Hamburger","Chicken Enchilada Nachos","Turkey Meatballs w/ Gravy","Rosy Chicken Pasta","Beef Chili","Fish Sandwich",null,{"$f":"\"\"","v":""},"French Toast Sticks","Hamburger","Chicken Enchilada Nachos","Turkey Meatballs w/ Gravy","Rosy Chicken Pasta","Beef Chili","Fish Sandwich",null,{"$f":"\"\"","v":""},"French Toast Sticks","Hamburger","Chicken Enchilada Nachos","Turkey Meatballs w/ Gravy","Rosy Chicken Pasta","Beef Chili","Fish Sandwich"]
[null,{"$f":"\"\"","v":""},"Maple Syrup","Ketchup","Shredded Cheddar Cheese","Mashed Potatoes & Dinner Roll","Carrots & Dressing","Assorted Chips & Sour Cream","Baja Sauce",null,{"$f":"\"\"","v":""},"Maple Syrup","Ketchup","Shredded Cheddar Cheese","Dinner Roll","Salad Bar","Assorted Chips & Sour Cream","Baja Sauce",null,{"$f":"\"\"","v":""},"Maple Syrup","Ketchup","Shredded Cheddar Cheese","Mashed Potatoes & Dinner Roll","Carrots & Dressing","Assorted Chips & Sour Cream","Baja Sauce",null,{"$f":"\"\"","v":""},"Maple Syrup","Ketchup","Shredded Cheddar Cheese","Dinner Roll","Salad Bar","Assorted Chips & Sour Cream","Baja Sauce",null,{"$f":"\"\"","v":""},"Maple Syrup","Ketchup","Shredded Cheddar Cheese","Mashed Potatoes & Dinner Roll","Carrots & Dressing","Assorted Chips & Sour Cream","Baja Sauce",null,{"$f":"\"\"","v":""},"Maple Syrup","Ketchup","Shredded Cheddar Cheese","Dinner Roll","Salad Bar","Assorted Chips & Sour Cream","Baja Sauce",null,{"$f":"\"\"","v":""},"Maple Syrup","Ketchup","Shredded Lettuce & Cheddar","Mashed Potatoes & Dinner Roll","Dinner Roll","Assorted Chips & Sour Cream","Baja Sauce",null,{"$f":"\"\"","v":""},"Maple Syrup","Ketchup","Assorted Chips","Dinner Roll","Dinner Roll","Shredded Cheddar & Sour Cream","Baja Sauce",null,{"$f":"\"\"","v":""},"Maple Syrup","Ketchup","Shredded Lettuce & Cheddar","Mashed Potatoes & Dinner Roll","Dinner Roll","Cilantro Brown Rice","Baja Sauce",null,{"$f":"\"\"","v":""},"Maple Syrup","Assorted Chips","Assorted Chips","Dinner Roll","Dinner Roll","Cilantro Brown Rice","Baja Sauce"]
[null,{"$f":"\"\"","v":""},"Breakfast Potato with Peppers","Carrots & Dressing","Refried Beans","Assorted Fruit","Assorted Fruit","Corn","Coleslaw",null,{"$f":"\"\"","v":""},"Salad Bar","Salad Bar","RanchaBoom! Sauce","Salad Bar","Assorted Fruit","Salad Bar","Salad Bar",null,{"$f":"\"\"","v":""},"Breakfast Potato with Peppers","Carrots & Dressing","Refried Beans","Assorted Fruit","Assorted Fruit","Corn","Coleslaw",null,{"$f":"\"\"","v":""},"Salad Bar","Salad Bar","RanchaBoom! Sauce","Salad Bar","Assorted Fruit","Salad Bar","Salad Bar",null,{"$f":"\"\"","v":""},"Breakfast Potato with Peppers","Carrots & Dressing","Refried Beans","Assorted Fruit","Assorted Fruit","Corn","Coleslaw",null,{"$f":"\"\"","v":""},"Salad Bar","Salad Bar","RanchaBoom! Sauce","Salad Bar","Assorted Fruit","Salad Bar","Salad Bar",null,{"$f":"\"\"","v":""},"Breakfast Potato with Peppers","Side Salad & Carrots","Refried Beans","Green Beans","Carrots & Dressing","Red Pepper & Tomatoes","Coleslaw",null,{"$f":"\"\"","v":""},"Salad Bar","Salad Bar","RanchaBoom! Sauce","Salad Bar","Salad Bar","Salad Bar","Salad Bar",null,{"$f":"\"\"","v":""},"Breakfast Potato with Peppers","Assorted Chips","Refried Beans","Assorted Chips","Carrots & Dressing","Red Pepper, Tomatoes, & Corn","Coleslaw",null,{"$f":"\"\"","v":""},"Salad Bar","Ketchup","RanchaBoom! Sauce","Assorted Chips","Salad Bar","Shredded Cheddar & Sour Cream","Salad Bar"]
[null,{"$f":"\"\"","v":""},"Assorted Fruit","Assorted Fruit","RanchaBoom! Sauce",{"$f":"\"\"","v":""},{"$f":"\"\"","v":""},"Assorted Fruit","Assorted Fruit",null,{"$f":"\"\"","v":""},"Assorted Fruit","Assorted Fruit","Salad Bar","Assorted Fruit",{"$f":"\"\"","v":""},"Assorted Fruit","Assorted Fruit",null,{"$f":"\"\"","v":""},"Assorted Fruit","Assorted Fruit","RanchaBoom! Sauce",{"$f":"\"\"","v":""},{"$f":"\"\"","v":""},"Assorted Fruit","Assorted Fruit",null,{"$f":"\"\"","v":""},"Assorted Fruit","Assorted Fruit","Salad Bar","Assorted Fruit",{"$f":"\"\"","v":""},"Assorted Fruit","Assorted Fruit",null,{"$f":"\"\"","v":""},"Assorted Fruit","Assorted Fruit","RanchaBoom! Sauce",{"$f":"\"\"","v":""},{"$f":"\"\"","v":""},"Assorted Fruit","Assorted Fruit",null,{"$f":"\"\"","v":""},"Assorted Fruit","Assorted Fruit","Salad Bar","Assorted Fruit",{"$f":"\"\"","v":""},"Assorted Fruit","Assorted Fruit",null,{"$f":"\"\"","v":""},"Assorted Fruit","Assorted Fruit","RanchaBoom! Sauce","Assorted Fruit","Assorted Fruit","Corn","Assorted Fruit",null,{"$f":"\"\"","v":""},"Assorted Fruit","Assorted Fruit","Salad Bar","Assorted Fruit","Assorted Fruit","Assorted Fruit","Assorted Fruit",null,{"$f":"\"\"","v":""},"Assorted Fruit","Side Salad & Carrots","RanchaBoom! Sauce","Green Beans","Assorted Fruit","Sour Cream & Chips","Assorted Fruit",null,{"$f":"\"\"","v":""},"Assorted Fruit","Salad Bar","Salad Bar","Salad Bar","Assorted Fruit","Salad Bar","Assorted Fruit"]
[null,{"$f":"\"\"","v":""},{"$f":"\"\"","v":""},{"$f":"\"\"","v":""},"Assorted Fruit",{"$f":"\"\"","v":""},{"$f":"\"\"","v":""},{"$f":"\"\"","v":""},{"$f":"\"\"","v":""},null,{"$f":"\"\"","v":""},{"$f":"\"\"","v":""},{"$f":"\"\"","v":""},"Assorted Fruit",{"$f":"\"\"","v":""},{"$f":"\"\"","v":""},{"$f":"\"\"","v":""},{"$f":"\"\"","v":""},null,{"$f":"\"\"","v":""},{"$f":"\"\"","v":""},{"$f":"\"\"","v":""},"Assorted Fruit",{"$f":"\"\"","v":""},{"$f":"\"\"","v":""},{"$f":"\"\"","v":""},{"$f":"\"\"","v":""},null,{"$f":"\"\"","v":""},{"$f":"\"\"","v":""},{"$f":"\"\"","v":""},"Assorted Fruit",{"$f":"\"\"","v":""},{"$f":"\"\"","v":""},{"$f":"\"\"","v":""},{"$f":"\"\"","v":""},null,{"$f":"\"\"","v":""},{"$f":"\"\"","v":""},{"$f":"\"\"","v":""},"Assorted Fruit",{"$f":"\"\"","v":""},{"$f":"\"\"","v":""},{"$f":"\"\"","v":""},{"$f":"\"\"","v":""},null,{"$f":"\"\"","v":""},{"$f":"\"\"","v":""},{"$f":"\"\"","v":""},"Assorted Fruit",{"$f":"\"\"","v":""},{"$f":"\"\"","v":""},{"$f":"\"\"","v":""},{"$f":"\"\"","v":""},null,{"$f":"\"\"","v":""},{"$f":"\"\"","v":""},{"$f":"\"\"","v":""},"Assorted Fruit",{"$f":"\"\"","v":""},{"$f":"\"\"","v":""},"Assorted Fruit",{"$f":"\"\"","v":""},null,{"$f":"\"\"","v":""},{"$f":"\"\"","v":""},{"$f":"\"\"","v":""},"Assorted Fruit",{"$f":"\"\"","v":""},{"$f":"\"\"","v":""},{"$f":"\"\"","v":""},{"$f":"\"\"","v":""},null,{"$f":"\"\"","v":""},{"$f":"\"\"","v":""},"Assorted Fruit","Assorted Fruit","Assorted Fruit",{"$f":"\"\"","v":""},"Assorted Fruit",{"$f":"\"\"","v":""},null,{"$f":"\"\"","v":""},{"$f":"\"\"","v":""},"Assorted Fruit","Assorted Fruit","Assorted Fruit",{"$f":"\"\"","v":""},"Assorted Fruit",{"$f":"\"\"","v":""}]
[null,"Week 22",{"$f":"\"\"","v":""},{"$f":"\"\"","v":""},{"$f":"\"\"","v":""},{"$f":"\"\"","v":""},{"$f":"\"\"","v":""},{"$f":"\"\"","v":""},{"$f":"\"\"","v":""},null,"Week 22",{"$f":"\"\"","v":""},{"$f":"\"\"","v":""},{"$f":"\"\"","v":""},{"$f":"\"\"","v":""},{"$f":"\"\"","v":""},{"$f":"\"\"","v":""},{"$f":"\"\"","v":""},null,"Week 22",{"$f":"\"\"","v":""},{"$f":"\"\"","v":""},{"$f":"\"\"","v":""},{"$f":"\"\"","v":""},{"$f":"\"\"","v":""},{"$f":"\"\"","v":""},{"$f":"\"\"","v":""},null,"Week 22",{"$f":"\"\"","v":""},{"$f":"\"\"","v":""},{"$f":"\"\"","v":""},{"$f":"\"\"","v":""},{"$f":"\"\"","v":""},{"$f":"\"\"","v":""},{"$f":"\"\"","v":""},null,"Week 22",{"$f":"\"\"","v":""},{"$f":"\"\"","v":""},{"$f":"\"\"","v":""},{"$f":"\"\"","v":""},{"$f":"\"\"","v":""},{"$f":"\"\"","v":""},{"$f":"\"\"","v":""},null,"Week 22",{"$f":"\"\"","v":""},{"$f":"\"\"","v":""},{"$f":"\"\"","v":""},{"$f":"\"\"","v":""},{"$f":"\"\"","v":""},{"$f":"\"\"","v":""},{"$f":"\"\"","v":""},null,"Week 22",{"$f":"\"\"","v":""},{"$f":"\"\"","v":""},{"$f":"\"\"","v":""},{"$f":"\"\"","v":""},{"$f":"\"\"","v":""},{"$f":"\"\"","v":""},{"$f":"\"\"","v":""},null,"Week 22",{"$f":"\"\"","v":""},{"$f":"\"\"","v":""},{"$f":"\"\"","v":""},{"$f":"\"\"","v":""},{"$f":"\"\"","v":""},{"$f":"\"\"","v":""},{"$f":"\"\"","v":""},null,"Week 22",{"$f":"\"\"","v":""},{"$f":"\"\"","v":""},{"$f":"\"\"","v":""},{"$f":"\"\"","v":""},{"$f":"\"\"","v":""},{"$f":"\"\"","v":""},{"$f":"\"\"","v":""},null,"Week 22",{"$f":"\"\"","v":""},{"$f":"\"\"","v":""},{"$f":"\"\"","v":""},{"$f":"\"\"","v":""},{"$f":"\"\"","v":""},{"$f":"\"\"","v":""},{"$f":"\"\"","v":""}]
[null,{"$f":"\"\"","v":""},"Waffle & Breakfast Sausage","Chicken Patty Sandwich","Queso Meatball Nachos","Orange Chicken","Cheeseburger Meatloaf","Pizza Crunchers","Chicken Tortilla Soup",null,{"$f":"\"\"","v":""},"Waffle & Breakfast Sausage","Chicken Patty Sandwich","Queso Meatball Nachos","Orange Chicken","Cheeseburger Meatloaf","Pizza Crunchers","Chicken Tortilla Soup",null,{"$f":"\"\"","v":""},"Waffle & Breakfast Sausage","Chicken Patty Sandwich","Queso Meatball Nachos","Orange Chicken","Cheeseburger Meatloaf","Pizza Crunchers","Chicken Tortilla Soup",null,{"$f":"\"\"","v":""},"Waffle & Breakfast Sausage","Chicken Patty Sandwich","Queso Meatball Nachos","Orange Chicken","Cheeseburger Meatloaf","Pizza Crunchers","Chicken Tortilla Soup",null,{"$f":"\"\"","v":""},"Waffle & Breakfast Sausage","Chicken Patty Sandwich","Queso Meatball Nachos","Orange Chicken","Cheeseburger Meatloaf","Pizza Crunchers","Chicken Tortilla Soup",null,{"$f":"\"\"","v":""},"Waffle & Breakfast Sausage","Chicken Patty Sandwich","Queso Meatball Nachos","Orange Chicken","Cheeseburger Meatloaf","Pizza Crunchers","Chicken Tortilla Soup",null,{"$f":"\"\"","v":""},"Waffle & Breakfast Sausage","Chicken Patty Sandwich","Queso Meatball Nachos","Orange Chicken","Cheeseburger Meatloaf","Pizza Crunchers","Chicken Tortilla Soup",null,{"$f":"\"\"","v":""},"Waffle & Breakfast Sausage","Chicken Patty Sandwich","Queso Meatball Nachos","Orange Chicken","Cheeseburger Meatloaf","Pizza Crunchers","Chicken Tortilla Soup",null,{"$f":"\"\"","v":""},"Waffle & Breakfast Sausage","Chicken Patty Sandwich","Queso Meatball Nachos","Orange Chicken","Cheeseburger Meatloaf","Pizza Crunchers","Chicken Tortilla Soup",null,{"$f":"\"\"","v":""},"Waffle & Breakfast Sausage","Chicken Patty Sandwich","Queso Meatball Nachos","Orange Chicken","Cheeseburger Meatloaf","Pizza Crunchers","Chicken Tortilla Soup"]
[null,{"$f":"\"\"","v":""},"Maple Syrup","Baked Beans","Assorted Chips","Cilantro Brown Rice","Dinner Roll","Marinara Sauce","Tortilla Chips & Lime Wedge",null,{"$f":"\"\"","v":""},"Maple Syrup","Salad Bar","Assorted Chips","Cilantro Brown Rice","Dinner Roll","Marinara Sauce","Tortilla Chips & Lime Wedge",null,{"$f":"\"\"","v":""},"Maple Syrup","Baked Beans","Assorted Chips","Cilantro Brown Rice","Dinner Roll","Marinara Sauce","Tortilla Chips & Lime Wedge",null,{"$f":"\"\"","v":""},"Maple Syrup","Salad Bar","Assorted Chips","Cilantro Brown Rice","Dinner Roll","Marinara Sauce","Tortilla Chips & Lime Wedge",null,{"$f":"\"\"","v":""},"Maple Syrup","Baked Beans","Assorted Chips","Cilantro Brown Rice","Dinner Roll","Marinara Sauce","Tortilla Chips & Lime Wedge",null,{"$f":"\"\"","v":""},"Maple Syrup","Salad Bar","Assorted Chips","Cilantro Brown Rice","Dinner Roll","Marinara Sauce","Tortilla Chips & Lime Wedge",null,{"$f":"\"\"","v":""},"Maple Syrup","Shredded Lettuce","Assorted Chips","Cilantro Brown Rice","Dinner Roll","Side Salad & Dressing","Tortilla Chips & Lime Wedge",null,{"$f":"\"\"","v":""},"Maple Syrup","Assorted Chips","Salad Bar","Cilantro Brown Rice","Dinner Roll","Salad Bar","Tortilla Chips & Lime Wedge",null,{"$f":"\"\"","v":""},"Maple Syrup","Shredded Lettuce","Cilantro Brown Rice","Cilantro Brown Rice","Dinner Roll","Side Salad & Dressing","Tortilla Chips & Lime Wedge",null,{"$f":"\"\"","v":""},"Maple Syrup","Assorted Chips","Cilantro Brown Rice","Cilantro Brown Rice","Dinner Roll","Salad Bar","Tortilla Chips & Lime Wedge"]
[null,{"$f":"\"\"","v":""},"Breakfast Potato with Peppers","Assorted Fruit","Taco Sauce","Broccoli","Cucumber & Dressing","Assorted Fruit","Sour Cream & Cilantro",null,{"$f":"\"\"","v":""},"Salad Bar","Assorted Fruit","Taco Sauce","Salad Bar","Salad Bar","Salad Bar","Sour Cream & Cilantro",null,{"$f":"\"\"","v":""},"Breakfast Potato with Peppers","Assorted Fruit","Taco Sauce","Broccoli","Cucumber & Dressing","Assorted Fruit","Sour Cream & Cilantro",null,{"$f":"\"\"","v":""},"Salad Bar","Assorted Fruit","Taco Sauce","Salad Bar","Salad Bar","Salad Bar","Sour Cream & Cilantro",null,{"$f":"\"\"","v":""},"Breakfast Potato with Peppers","Assorted Fruit","Taco Sauce","Broccoli","Cucumber & Dressing","Assorted Fruit","Sour Cream & Cilantro",null,{"$f":"\"\"","v":""},"Salad Bar","Assorted Fruit","Taco Sauce","Salad Bar","Salad Bar","Salad Bar","Sour Cream & Cilantro",null,{"$f":"\"\"","v":""},"Breakfast Potato with Peppers","Assorted Chips","Taco Sauce","Broccoli & Cauliflower","Carrots & Cucumber","Assorted Fruit","Sour Cream & Cilantro",null,{"$f":"\"\"","v":""},"Salad Bar","Salad Bar","Assorted Fruit","Salad Bar","Salad Bar","Assorted Fruit","Salad Bar",null,{"$f":"\"\"","v":""},"Breakfast Potato with Peppers","Assorted Chips","Taco Sauce","Broccoli & Cauliflower","Carrots & Cucumber","Assorted Fruit","Shredded Cheddar & Sour Cream",null,{"$f":"\"\"","v":""},"Salad Bar","Salad Bar","Salad Bar","Assorted Chips","Assorted Chips","Assorted Fruit","Shredded Cheddar"]
[null,{"$f":"\"\"","v":""},"Assorted Fruit",{"$f":"\"\"","v":""},"Corn","Assorted Fruit","Assorted Fruit",{"$f":"\"\"","v":""},"Spinach Salad & Dressing",null,{"$f":"\"\"","v":""},"Assorted Fruit",{"$f":"\"\"","v":""},"Salad Bar","Assorted Fruit","Assorted Fruit","Assorted Fruit","Salad Bar",null,{"$f":"\"\"","v":""},"Assorted Fruit",{"$f":"\"\"","v":""},"Corn","Assorted Fruit","Assorted Fruit",{"$f":"\"\"","v":""},"Spinach Salad & Dressing",null,{"$f":"\"\"","v":""},"Assorted Fruit",{"$f":"\"\"","v":""},"Salad Bar","Assorted Fruit","Assorted Fruit","Assorted Fruit","Salad Bar",null,{"$f":"\"\"","v":""},"Assorted Fruit",{"$f":"\"\"","v":""},"Corn","Assorted Fruit","Assorted Fruit",{"$f":"\"\"","v":""},"Spinach Salad & Dressing",null,{"$f":"\"\"","v":""},"Assorted Fruit",{"$f":"\"\"","v":""},"Salad Bar","Assorted Fruit","Assorted Fruit","Assorted Fruit","Salad Bar",null,{"$f":"\"\"","v":""},"Assorted Fruit","Baked Beans","Corn","Assorted Fruit","Dressing",{"$f":"\"\"","v":""},"Spinach Salad & Dressing",null,{"$f":"\"\"","v":""},"Assorted Fruit","Assorted Fruit",{"$f":"\"\"","v":""},"Assorted Fruit","Assorted Fruit",{"$f":"\"\"","v":""},"Assorted Fruit",null,{"$f":"\"\"","v":""},"Assorted Fruit","Baked Beans","Corn","Assorted Fruit","Dressing",{"$f":"\"\"","v":""},"Spinach Salad & Dressing",null,{"$f":"\"\"","v":""},"Assorted Fruit","Assorted Fruit","Assorted Fruit","Salad Bar","Salad Bar",{"$f":"\"\"","v":""},"Salad Bar"]
[null,{"$f":"\"\"","v":""},{"$f":"\"\"","v":""},{"$f":"\"\"","v":""},"Assorted Fruit",{"$f":"\"\"","v":""},{"$f":"\"\"","v":""},{"$f":"\"\"","v":""},"Assorted Fruit",null,{"$f":"\"\"","v":""},{"$f":"\"\"","v":""},{"$f":"\"\"","v":""},"Assorted Fruit",{"$f":"\"\"","v":""},{"$f":"\"\"","v":""},{"$f":"\"\"","v":""},"Assorted Fruit",null,{"$f":"\"\"","v":""},{"$f":"\"\"","v":""},{"$f":"\"\"","v":""},"Assorted Fruit",{"$f":"\"\"","v":""},{"$f":"\"\"","v":""},{"$f":"\"\"","v":""},"Assorted Fruit",null,{"$f":"\"\"","v":""},{"$f":"\"\"","v":""},{"$f":"\"\"","v":""},"Assorted Fruit",{"$f":"\"\"","v":""},{"$f":"\"\"","v":""},{"$f":"\"\"","v":""},"Assorted Fruit",null,{"$f":"\"\"","v":""},{"$f":"\"\"","v":""},{"$f":"\"\"","v":""},"Assorted Fruit",{"$f":"\"\"","v":""},{"$f":"\"\"","v":""},{"$f":"\"\"","v":""},"Assorted Fruit",null,{"$f":"\"\"","v":""},{"$f":"\"\"","v":""},{"$f":"\"\"","v":""},"Assorted Fruit",{"$f":"\"\"","v":""},{"$f":"\"\"","v":""},{"$f":"\"\"","v":""},"Assorted Fruit",null,{"$f":"\"\"","v":""},{"$f":"\"\"","v":""},"Assorted Fruit","Assorted Fruit",{"$f":"\"\"","v":""},"Assorted Fruit",{"$f":"\"\"","v":""},"Assorted Fruit",null,{"$f":"\"\"","v":""},{"$f":"\"\"","v":""},{"$f":"\"\"","v":""},{"$f":"\"\"","v":""},{"$f":"\"\"","v":""},{"$f":"\"\"","v":""},{"$f":"\"\"","v":""},{"$f":"\"\"","v":""},null,{"$f":"\"\"","v":""},{"$f":"\"\"","v":""},"Assorted Fruit","Assorted Fruit",{"$f":"\"\"","v":""},"Assorted Fruit",{"$f":"\"\"","v":""},"Assorted Fruit",null,{"$f":"\"\"","v":""},{"$f":"\"\"","v":""},{"$f":"\"\"","v":""},{"$f":"\"\"","v":""},"Assorted Fruit","Assorted Fruit",{"$f":"\"\"","v":""},"Assorted Fruit"]
[null,"Week 23",{"$f":"\"\"","v":""},{"$f":"\"\"","v":""},{"$f":"\"\"","v":""},{"$f":"\"\"","v":""},{"$f":"\"\"","v":""},{"$f":"\"\"","v":""},{"$f":"\"\"","v":""},null,"Week 23",{"$f":"\"\"","v":""},{"$f":"\"\"","v":""},{"$f":"\"\"","v":""},{"$f":"\"\"","v":""},{"$f":"\"\"","v":""},{"$f":"\"\"","v":""},{"$f":"\"\"","v":""},null,"Week 23",{"$f":"\"\"","v":""},{"$f":"\"\"","v":""},{"$f":"\"\"","v":""},{"$f":"\"\"","v":""},{"$f":"\"\"","v":""},{"$f":"\"\"","v":""},{"$f":"\"\"","v":""},null,"Week 23",{"$f":"\"\"","v":""},{"$f":"\"\"","v":""},{"$f":"\"\"","v":""},{"$f":"\"\"","v":""},{"$f":"\"\"","v":""},{"$f":"\"\"","v":""},{"$f":"\"\"","v":""},null,"Week 23",{"$f":"\"\"","v":""},{"$f":"\"\"","v":""},{"$f":"\"\"","v":""},{"$f":"\"\"","v":""},{"$f":"\"\"","v":""},{"$f":"\"\"","v":""},{"$f":"\"\"","v":""},null,"Week 23",{"$f":"\"\"","v":""},{"$f":"\"\"","v":""},{"$f":"\"\"","v":""},{"$f":"\"\"","v":""},{"$f":"\"\"","v":""},{"$f":"\"\"","v":""},{"$f":"\"\"","v":""},null,"Week 23",{"$f":"\"\"","v":""},{"$f":"\"\"","v":""},{"$f":"\"\"","v":""},{"$f":"\"\"","v":""},{"$f":"\"\"","v":""},{"$f":"\"\"","v":""},{"$f":"\"\"","v":""},null,"Week 23",{"$f":"\"\"","v":""},{"$f":"\"\"","v":""},{"$f":"\"\"","v":""},{"$f":"\"\"","v":""},{"$f":"\"\"","v":""},{"$f":"\"\"","v":""},{"$f":"\"\"","v":""},null,"Week 23",{"$f":"\"\"","v":""},{"$f":"\"\"","v":""},{"$f":"\"\"","v":""},{"$f":"\"\"","v":""},{"$f":"\"\"","v":""},{"$f":"\"\"","v":""},{"$f":"\"\"","v":""},null,"Week 23",{"$f":"\"\"","v":""},{"$f":"\"\"","v":""},{"$f":"\"\"","v":""},{"$f":"\"\"","v":""},{"$f":"\"\"","v":""},{"$f":"\"\"","v":""},{"$f":"\"\"","v":""}]
[null,{"$f":"\"\"","v":""},"Cheese Omelet","Corn Dog","Walking Beef Taco","Chicken Pesto Macaroni","Turkey and Gravy","Sloppy Joe","Soft Pretzel with Cheese",null,{"$f":"\"\"","v":""},"Cheese Omelet","Corn Dog","Walking Beef Taco","Chicken Pesto Macaroni","Turkey and Gravy","Sloppy Joe","Soft Pretzel with Cheese",null,{"$f":"\"\"","v":""},"Cheese Omelet","Corn Dog","Walking Beef Taco","Chicken Pesto Macaroni","Turkey and Gravy","Sloppy Joe","Soft Pretzel with Cheese",null,{"$f":"\"\"","v":""},"Cheese Omelet","Corn Dog","Walking Beef Taco","Chicken Pesto Macaroni","Turkey and Gravy","Sloppy Joe","Soft Pretzel with Cheese",null,{"$f":"\"\"","v":""},"Cheese Omelet","Corn Dog","Walking Beef Taco","Chicken Pesto Macaroni","Turkey and Gravy","Sloppy Joe","Soft Pretzel with Cheese",null,{"$f":"\"\"","v":""},"Cheese Omelet","Corn Dog","Walking Beef Taco","Chicken Pesto Macaroni","Turkey and Gravy","Sloppy Joe","Soft Pretzel with Cheese",null,{"$f":"\"\"","v":""},"Cheese Omelet","Corn Dog","Walking Beef Taco","Chicken Pesto Macaroni","Turkey and Gravy","Sloppy Joe","Soft Pretzel with Cheese",null,{"$f":"\"\"","v":""},"Cheese Omelet","Corn Dog","Walking Beef Taco","Chicken Pesto Macaroni","Turkey and Gravy","Sloppy Joe","Soft Pretzel with Cheese",null,{"$f":"\"\"","v":""},"Cheese Omelet","Corn Dog","Walking Beef Taco","Chicken Pesto Macaroni","Turkey and Gravy","Sloppy Joe","Soft Pretzel with Cheese",null,{"$f":"\"\"","v":""},"Cheese Omelet","Corn Dog","Walking Beef Taco","Chicken Pesto Macaroni","Turkey and Gravy","Sloppy Joe","Soft Pretzel with Cheese"]
[null,{"$f":"\"\"","v":""},"Dinner Roll","Ketchup & Mustard","Shredded Cheddar & Sour Cream","Side Salad & Dressing","Dinner Roll","Cucumber & Dressing","Broccoli & Dressing",null,{"$f":"\"\"","v":""},"Dinner Roll","Ketchup & Mustard","Shredded Cheddar & Sour Cream","Salad Bar","Dinner Roll","Salad Bar","Salad Bar",null,{"$f":"\"\"","v":""},"Dinner Roll","Ketchup & Mustard","Shredded Cheddar & Sour Cream","Side Salad & Dressing","Dinner Roll","Cucumber & Dressing","Broccoli & Dressing",null,{"$f":"\"\"","v":""},"Dinner Roll","Ketchup & Mustard","Shredded Cheddar & Sour Cream","Salad Bar","Dinner Roll","Salad Bar","Salad Bar",null,{"$f":"\"\"","v":""},"Dinner Roll","Ketchup & Mustard","Shredded Cheddar & Sour Cream","Side Salad & Dressing","Dinner Roll","Cucumber & Dressing","Broccoli & Dressing",null,{"$f":"\"\"","v":""},"Dinner Roll","Ketchup & Mustard","Shredded Cheddar & Sour Cream","Salad Bar","Dinner Roll","Salad Bar","Salad Bar",null,{"$f":"\"\"","v":""},"Dinner Roll","Ketchup & Mustard","Shredded Cheddar & Sour Cream","Dinner Roll","Dinner Roll","Assorted Chips","Broccoli & Dressing",null,{"$f":"\"\"","v":""},"Dinner Roll","Ketchup & Mustard","Shredded Cheddar Cheese","Dinner Roll","Dinner Roll","Assorted Chips","Salad Bar",null,{"$f":"\"\"","v":""},"Dinner Roll","Ketchup & Mustard","Cilantro Brown Rice","Dinner Roll","Dinner Roll","Assorted Chips","Broccoli & Dressing",null,{"$f":"\"\"","v":""},"Dinner Roll","Ketchup & Mustard","Cilantro Brown Rice","Dinner Roll","Dinner Roll","Assorted Chips","Salad Bar"]
[null,{"$f":"\"\"","v":""},"Spinach Salad & Dressing","Coleslaw","Side Salad & Dressing","Assorted Fruit","Sweet Potatoes","Assorted Fruit","Assorted Fruit",null,{"$f":"\"\"","v":""},"Salad Bar","Salad Bar","Salad Bar","Assorted Fruit","Salad Bar","Assorted Fruit","Assorted Fruit",null,{"$f":"\"\"","v":""},"Spinach Salad & Dressing","Coleslaw","Side Salad & Dressing","Assorted Fruit","Sweet Potatoes","Assorted Fruit","Assorted Fruit",null,{"$f":"\"\"","v":""},"Salad Bar","Salad Bar","Salad Bar","Assorted Fruit","Salad Bar","Assorted Fruit","Assorted Fruit",null,{"$f":"\"\"","v":""},"Spinach Salad & Dressing","Coleslaw","Side Salad & Dressing","Assorted Fruit","Sweet Potatoes","Assorted Fruit","Assorted Fruit",null,{"$f":"\"\"","v":""},"Salad Bar","Salad Bar","Salad Bar","Assorted Fruit","Salad Bar","Assorted Fruit","Assorted Fruit",null,{"$f":"\"\"","v":""},"Spinach Salad & Dressing","Assorted Chips","Red Pepper & Side Salad","Tomatoes","Sweet Potatoes","Cucumber & Dressing","Assorted Fruit",null,{"$f":"\"\"","v":""},"Salad Bar","Assorted Chips","Salad Bar","Salad Bar","Salad Bar","Salad Bar","Assorted Fruit",null,{"$f":"\"\"","v":""},"Assorted Chips","Assorted Chips","Shredded Cheddar Cheese","Tomatoes","Sweet Potatoes","Cucumber & Dressing","Assorted Fruit",null,{"$f":"\"\"","v":""},"Assorted Chips","Assorted Chips","Shredded Cheddar Cheese","Salad Bar","Assorted Chips","Salad Bar","Assorted Fruit"]
[null,{"$f":"\"\"","v":""},"Assorted Fruit","Assorted Fruit","Assorted Fruit",{"$f":"\"\"","v":""},"Assorted Fruit",{"$f":"\"\"","v":""},{"$f":"\"\"","v":""},null,{"$f":"\"\"","v":""},"Assorted Fruit","Assorted Fruit","Assorted Fruit",{"$f":"\"\"","v":""},"Assorted Fruit",{"$f":"\"\"","v":""},{"$f":"\"\"","v":""},null,{"$f":"\"\"","v":""},"Assorted Fruit","Assorted Fruit","Assorted Fruit",{"$f":"\"\"","v":""},"Assorted Fruit",{"$f":"\"\"","v":""},{"$f":"\"\"","v":""},null,{"$f":"\"\"","v":""},"Assorted Fruit","Assorted Fruit","Assorted Fruit",{"$f":"\"\"","v":""},"Assorted Fruit",{"$f":"\"\"","v":""},{"$f":"\"\"","v":""},null,{"$f":"\"\"","v":""},"Assorted Fruit","Assorted Fruit","Assorted Fruit",{"$f":"\"\"","v":""},"Assorted Fruit",{"$f":"\"\"","v":""},{"$f":"\"\"","v":""},null,{"$f":"\"\"","v":""},"Assorted Fruit","Assorted Fruit","Assorted Fruit",{"$f":"\"\"","v":""},"Assorted Fruit",{"$f":"\"\"","v":""},{"$f":"\"\"","v":""},null,{"$f":"\"\"","v":""},"Assorted Fruit","Baked Beans & Coleslaw","Assorted Fruit","Side Salad & Dressing","Corn","Assorted Fruit",{"$f":"\"\"","v":""},null,{"$f":"\"\"","v":""},"Assorted Fruit","Salad Bar","Assorted Fruit","Assorted Fruit","Assorted Fruit","Assorted Fruit",{"$f":"\"\"","v":""},null,{"$f":"\"\"","v":""},"Spinach Salad & Dressing","Baked Beans & Coleslaw","Red Pepper & Side Salad","Side Salad & Dressing","Corn","Assorted Fruit",{"$f":"\"\"","v":""},null,{"$f":"\"\"","v":""},"Salad Bar","Salad Bar","Salad Bar","Assorted Fruit","Salad Bar","Assorted Fruit",{"$f":"\"\"","v":""}]
[null,{"$f":"\"\"","v":""},{"$f":"\"\"","v":""},{"$f":"\"\"","v":""},{"$f":"\"\"","v":""},{"$f":"\"\"","v":""},{"$f":"\"\"","v":""},{"$f":"\"\"","v":""},{"$f":"\"\"","v":""},null,{"$f":"\"\"","v":""},{"$f":"\"\"","v":""},{"$f":"\"\"","v":""},{"$f":"\"\"","v":""},{"$f":"\"\"","v":""},{"$f":"\"\"","v":""},{"$f":"\"\"","v":""},{"$f":"\"\"","v":""},null,{"$f":"\"\"","v":""},{"$f":"\"\"","v":""},{"$f":"\"\"","v":""},{"$f":"\"\"","v":""},{"$f":"\"\"","v":""},{"$f":"\"\"","v":""},{"$f":"\"\"","v":""},{"$f":"\"\"","v":""},null,{"$f":"\"\"","v":""},{"$f":"\"\"","v":""},{"$f":"\"\"","v":""},{"$f":"\"\"","v":""},{"$f":"\"\"","v":""},{"$f":"\"\"","v":""},{"$f":"\"\"","v":""},{"$f":"\"\"","v":""},null,{"$f":"\"\"","v":""},{"$f":"\"\"","v":""},{"$f":"\"\"","v":""},{"$f":"\"\"","v":""},{"$f":"\"\"","v":""},{"$f":"\"\"","v":""},{"$f":"\"\"","v":""},{"$f":"\"\"","v":""},null,{"$f":"\"\"","v":""},{"$f":"\"\"","v":""},{"$f":"\"\"","v":""},{"$f":"\"\"","v":""},{"$f":"\"\"","v":""},{"$f":"\"\"","v":""},{"$f":"\"\"","v":""},{"$f":"\"\"","v":""},null,{"$f":"\"\"","v":""},{"$f":"\"\"","v":""},"Assorted Fruit",{"$f":"\"\"","v":""},"Assorted Fruit","Assorted Fruit",{"$f":"\"\"","v":""},{"$f":"\"\"","v":""},null,{"$f":"\"\"","v":""},{"$f":"\"\"","v":""},"Assorted Fruit",{"$f":"\"\"","v":""},{"$f":"\"\"","v":""},{"$f":"\"\"","v":""},{"$f":"\"\"","v":""},{"$f":"\"\"","v":""},null,{"$f":"\"\"","v":""},"Assorted Fruit","Assorted Fruit","Assorted Fruit","Assorted Fruit","Assorted Fruit",{"$f":"\"\"","v":""},{"$f":"\"\"","v":""},null,{"$f":"\"\"","v":""},"Assorted Fruit","Assorted Fruit","Assorted Fruit",{"$f":"\"\"","v":""},"Assorted Fruit",{"$f":"\"\"","v":""},{"$f":"\"\"","v":""}]
[null,"Week 24",{"$f":"\"\"","v":""},{"$f":"\"\"","v":""},{"$f":"\"\"","v":""},{"$f":"\"\"","v":""},{"$f":"\"\"","v":""},{"$f":"\"\"","v":""},{"$f":"\"\"","v":""},null,"Week 24",{"$f":"\"\"","v":""},{"$f":"\"\"","v":""},{"$f":"\"\"","v":""},{"$f":"\"\"","v":""},{"$f":"\"\"","v":""},{"$f":"\"\"","v":""},{"$f":"\"\"","v":""},null,"Week 24",{"$f":"\"\"","v":""},{"$f":"\"\"","v":""},{"$f":"\"\"","v":""},{"$f":"\"\"","v":""},{"$f":"\"\"","v":""},{"$f":"\"\"","v":""},{"$f":"\"\"","v":""},null,"Week 24",{"$f":"\"\"","v":""},{"$f":"\"\"","v":""},{"$f":"\"\"","v":""},{"$f":"\"\"","v":""},{"$f":"\"\"","v":""},{"$f":"\"\"","v":""},{"$f":"\"\"","v":""},null,"Week 24",{"$f":"\"\"","v":""},{"$f":"\"\"","v":""},{"$f":"\"\"","v":""},{"$f":"\"\"","v":""},{"$f":"\"\"","v":""},{"$f":"\"\"","v":""},{"$f":"\"\"","v":""},null,"Week 24",{"$f":"\"\"","v":""},{"$f":"\"\"","v":""},{"$f":"\"\"","v":""},{"$f":"\"\"","v":""},{"$f":"\"\"","v":""},{"$f":"\"\"","v":""},{"$f":"\"\"","v":""},null,"Week 24",{"$f":"\"\"","v":""},{"$f":"\"\"","v":""},{"$f":"\"\"","v":""},{"$f":"\"\"","v":""},{"$f":"\"\"","v":""},{"$f":"\"\"","v":""},{"$f":"\"\"","v":""},null,"Week 24",{"$f":"\"\"","v":""},{"$f":"\"\"","v":""},{"$f":"\"\"","v":""},{"$f":"\"\"","v":""},{"$f":"\"\"","v":""},{"$f":"\"\"","v":""},{"$f":"\"\"","v":""},null,"Week 24",{"$f":"\"\"","v":""},{"$f":"\"\"","v":""},{"$f":"\"\"","v":""},{"$f":"\"\"","v":""},{"$f":"\"\"","v":""},{"$f":"\"\"","v":""},{"$f":"\"\"","v":""},null,"Week 24",{"$f":"\"\"","v":""},{"$f":"\"\"","v":""},{"$f":"\"\"","v":""},{"$f":"\"\"","v":""},{"$f":"\"\"","v":""},{"$f":"\"\"","v":""},{"$f":"\"\"","v":""}]
[null,{"$f":"\"\"","v":""},"Pancakes","Crunchy Chicken Tender Wrap","Spaghetti Bolognese","Grilled Lime Chicken Sandwich","Zesty Beef Steak","Bosco Sticks","Grilled Cheese Sandwich & Tomato Soup",null,{"$f":"\"\"","v":""},"Pancakes","Crunchy Chicken Tender Wrap","Spaghetti Bolognese","Grilled Lime Chicken Sandwich","Zesty Beef Steak","Bosco Sticks","Grilled Cheese Sandwich & Tomato Soup",null,{"$f":"\"\"","v":""},"Pancakes","Crunchy Chicken Tender Wrap","Spaghetti Bolognese","Grilled Lime Chicken Sandwich","Zesty Beef Steak","Bosco Sticks","Grilled Cheese Sandwich & Tomato Soup",null,{"$f":"\"\"","v":""},"Pancakes","Crunchy Chicken Tender Wrap","Spaghetti Bolognese","Grilled Lime Chicken Sandwich","Zesty Beef Steak","Bosco Sticks","Grilled Cheese Sandwich & Tomato Soup",null,{"$f":"\"\"","v":""},"Pancakes","Crunchy Chicken Tender Wrap","Spaghetti Bolognese","Grilled Lime Chicken Sandwich","Zesty Beef Steak","Bosco Sticks","Grilled Cheese Sandwich & Tomato Soup",null,{"$f":"\"\"","v":""},"Pancakes","Crunchy Chicken Tender Wrap","Spaghetti Bolognese","Grilled Lime Chicken Sandwich","Zesty Beef Steak","Bosco Sticks","Grilled Cheese Sandwich & Tomato Soup",null,{"$f":"\"\"","v":""},"Pancakes","Crunchy Chicken Tender Wrap","Spaghetti Bolognese","Grilled Lime Chicken Sandwich","Zesty Beef Steak","Bosco Sticks","Grilled Cheese Sandwich & Tomato Soup",null,{"$f":"\"\"","v":""},"Pancakes","Crunchy Chicken Tender Wrap","Spaghetti Bolognese","Grilled Lime Chicken Sandwich","Zesty Beef Steak","Bosco Sticks","Grilled Cheese Sandwich & Tomato Soup",null,{"$f":"\"\"","v":""},"Pancakes","Crunchy Chicken Tender Wrap","Spaghetti Bolognese","Grilled Lime Chicken Sandwich","Zesty Beef Steak","Bosco Sticks","Grilled Cheese Sandwich & Tomato Soup",null,{"$f":"\"\"","v":""},"Pancakes","Crunchy Chicken Tender Wrap","Spaghetti Bolognese","Grilled Lime Chicken Sandwich","Zesty Beef Steak","Bosco Sticks","Grilled Cheese Sandwich & Tomato Soup"]
[null,{"$f":"\"\"","v":""},"Maple Syrup","Baked Beans","Garden Salad & Dressing","Mashed Potatoes & Dinner Roll","Cilantro Brown Rice","Marinara Sauce","Green Beans",null,{"$f":"\"\"","v":""},"Maple Syrup","Shredded Cheddar Cheese","Salad Bar","Dinner Roll","Cilantro Brown Rice","Marinara Sauce","Salad Bar",null,{"$f":"\"\"","v":""},"Maple Syrup","Baked Beans","Garden Salad & Dressing","Mashed Potatoes & Dinner Roll","Cilantro Brown Rice","Marinara Sauce","Green Beans",null,{"$f":"\"\"","v":""},"Maple Syrup","Shredded Cheddar Cheese","Salad Bar","Dinner Roll","Cilantro Brown Rice","Marinara Sauce","Salad Bar",null,{"$f":"\"\"","v":""},"Maple Syrup","Baked Beans","Garden Salad & Dressing","Mashed Potatoes & Dinner Roll","Cilantro Brown Rice","Marinara Sauce","Green Beans",null,{"$f":"\"\"","v":""},"Maple Syrup","Shredded Cheddar Cheese","Salad Bar","Dinner Roll","Cilantro Brown Rice","Marinara Sauce","Salad Bar",null,{"$f":"\"\"","v":""},"Turkey Sausage & Maple Syrup","Baked Beans","Dinner Roll","Mashed Potatoes & Dinner Roll","Cilantro Brown Rice","Marinara Sauce","Green Beans",null,{"$f":"\"\"","v":""},"& Turkey Sausage","Shredded Cheddar","Dinner Roll","Dinner Roll","Cilantro Brown Rice","Salad Bar","Salad Bar",null,{"$f":"\"\"","v":""},"Turkey Sausage & Maple Syrup","Baked Beans","Dinner Roll","Mashed Potatoes & Dinner Roll","Cilantro Brown Rice","Marinara Sauce","Green Beans",null,{"$f":"\"\"","v":""},"Maple Syrup & Turkey Sausage","Shredded Cheddar","Dinner Roll","Assorted Chips & Dinner Roll","Cilantro Brown Rice","Marinara Sauce","Salad Bar"]
[null,{"$f":"\"\"","v":""},"Breakfast Potato with Peppers","Shredded Lettuce & Cheddar","Assorted Fruit","RanchaBoom! Sauce","Carrots & Dressing","Assorted Fruit","Assorted Fruit",null,{"$f":"\"\"","v":""},"Salad Bar","RanchaBoom! Sauce","Assorted Fruit","RanchaBoom! Sauce","Salad Bar","Salad Bar","Assorted Fruit",null,{"$f":"\"\"","v":""},"Breakfast Potato with Peppers","Shredded Lettuce & Cheddar","Assorted Fruit","RanchaBoom! Sauce","Carrots & Dressing","Assorted Fruit","Assorted Fruit",null,{"$f":"\"\"","v":""},"Salad Bar","RanchaBoom! Sauce","Assorted Fruit","RanchaBoom! Sauce","Salad Bar","Salad Bar","Assorted Fruit",null,{"$f":"\"\"","v":""},"Breakfast Potato with Peppers","Shredded Lettuce & Cheddar","Assorted Fruit","RanchaBoom! Sauce","Carrots & Dressing","Assorted Fruit","Assorted Fruit",null,{"$f":"\"\"","v":""},"Salad Bar","RanchaBoom! Sauce","Assorted Fruit","RanchaBoom! Sauce","Salad Bar","Salad Bar","Assorted Fruit",null,{"$f":"\"\"","v":""},"Breakfast Potato with Peppers","Shredded Lettuce & Cheddar","Garden Salad & Dressing","RanchaBoom! Sauce","Carrots & Dressing","Side Salad & Dressing","Assorted Fruit",null,{"$f":"\"\"","v":""},"Salad Bar","RanchaBoom! Sauce","Salad Bar","RanchaBoom! Sauce","Salad Bar","Assorted Fruit","Assorted Fruit",null,{"$f":"\"\"","v":""},"Breakfast Potato with Peppers","Shredded Lettuce & Cheddar","Garden Salad & Dressing","RanchaBoom! Sauce","Dinner Roll","Side Salad & Dressing","Assorted Fruit",null,{"$f":"\"\"","v":""},"Salad Bar","RanchaBoom! Sauce","Salad Bar","RanchaBoom! Sauce","Dinner Roll","Salad Bar","Assorted Fruit"]
[null,{"$f":"\"\"","v":""},"Assorted Fruit","RanchaBoom! Sauce",{"$f":"\"\"","v":""},"Assorted Fruit","Assorted Fruit",{"$f":"\"\"","v":""},{"$f":"\"\"","v":""},null,{"$f":"\"\"","v":""},"Assorted Fruit","Salad Bar",{"$f":"\"\"","v":""},"Salad Bar","Assorted Fruit","Assorted Fruit",{"$f":"\"\"","v":""},null,{"$f":"\"\"","v":""},"Assorted Fruit","RanchaBoom! Sauce",{"$f":"\"\"","v":""},"Assorted Fruit","Assorted Fruit",{"$f":"\"\"","v":""},{"$f":"\"\"","v":""},null,{"$f":"\"\"","v":""},"Assorted Fruit","Salad Bar",{"$f":"\"\"","v":""},"Salad Bar","Assorted Fruit","Assorted Fruit",{"$f":"\"\"","v":""},null,{"$f":"\"\"","v":""},"Assorted Fruit","RanchaBoom! Sauce",{"$f":"\"\"","v":""},"Assorted Fruit","Assorted Fruit",{"$f":"\"\"","v":""},{"$f":"\"\"","v":""},null,{"$f":"\"\"","v":""},"Assorted Fruit","Salad Bar",{"$f":"\"\"","v":""},"Salad Bar","Assorted Fruit","Assorted Fruit",{"$f":"\"\"","v":""},null,{"$f":"\"\"","v":""},"Assorted Fruit","RanchaBoom! Sauce","Assorted Fruit","Carrots & Dressing","Assorted Fruit","Assorted Fruit",{"$f":"\"\"","v":""},null,{"$f":"\"\"","v":""},"Assorted Fruit","Salad Bar","Assorted Fruit","Salad Bar","Assorted Fruit",{"$f":"\"\"","v":""},{"$f":"\"\"","v":""},null,{"$f":"\"\"","v":""},"Assorted Fruit","RanchaBoom! Sauce","Assorted Fruit","Carrots & Dressing","Carrots & Dressing","Assorted Fruit",{"$f":"\"\"","v":""},null,{"$f":"\"\"","v":""},"Assorted Fruit","Salad Bar","Assorted Fruit","Salad Bar","Salad Bar","Assorted Fruit",{"$f":"\"\"","v":""}]
[null,{"$f":"\"\"","v":""},{"$f":"\"\"","v":""},"Assorted Fruit",{"$f":"\"\"","v":""},{"$f":"\"\"","v":""},{"$f":"\"\"","v":""},{"$f":"\"\"","v":""},{"$f":"\"\"","v":""},null,{"$f":"\"\"","v":""},{"$f":"\"\"","v":""},"Assorted Fruit",{"$f":"\"\"","v":""},"Assorted Fruit",{"$f":"\"\"","v":""},{"$f":"\"\"","v":""},{"$f":"\"\"","v":""},null,{"$f":"\"\"","v":""},{"$f":"\"\"","v":""},"Assorted Fruit",{"$f":"\"\"","v":""},{"$f":"\"\"","v":""},{"$f":"\"\"","v":""},{"$f":"\"\"","v":""},{"$f":"\"\"","v":""},null,{"$f":"\"\"","v":""},{"$f":"\"\"","v":""},"Assorted Fruit",{"$f":"\"\"","v":""},"Assorted Fruit",{"$f":"\"\"","v":""},{"$f":"\"\"","v":""},{"$f":"\"\"","v":""},null,{"$f":"\"\"","v":""},{"$f":"\"\"","v":""},"Assorted Fruit",{"$f":"\"\"","v":""},{"$f":"\"\"","v":""},{"$f":"\"\"","v":""},{"$f":"\"\"","v":""},{"$f":"\"\"","v":""},null,{"$f":"\"\"","v":""},{"$f":"\"\"","v":""},"Assorted Fruit",{"$f":"\"\"","v":""},"Assorted Fruit",{"$f":"\"\"","v":""},{"$f":"\"\"","v":""},{"$f":"\"\"","v":""},null,{"$f":"\"\"","v":""},{"$f":"\"\"","v":""},"Assorted Fruit",{"$f":"\"\"","v":""},"Assorted Fruit",{"$f":"\"\"","v":""},{"$f":"\"\"","v":""},{"$f":"\"\"","v":""},null,{"$f":"\"\"","v":""},{"$f":"\"\"","v":""},"Assorted Fruit",{"$f":"\"\"","v":""},"Assorted Fruit",{"$f":"\"\"","v":""},{"$f":"\"\"","v":""},{"$f":"\"\"","v":""},null,{"$f":"\"\"","v":""},{"$f":"\"\"","v":""},"Assorted Fruit",{"$f":"\"\"","v":""},"Assorted Fruit","Assorted Fruit",{"$f":"\"\"","v":""},{"$f":"\"\"","v":""},null,{"$f":"\"\"","v":""},{"$f":"\"\"","v":""},"Assorted Fruit",{"$f":"\"\"","v":""},"Assorted Fruit","Assorted Fruit",{"$f":"\"\"","v":""},{"$f":"\"\"","v":""}]
[null,"Week 25",{"$f":"\"\"","v":""},{"$f":"\"\"","v":""},{"$f":"\"\"","v":""},{"$f":"\"\"","v":""},{"$f":"\"\"","v":""},{"$f":"\"\"","v":""},{"$f":"\"\"","v":""},null,"Week 25",{"$f":"\"\"","v":""},{"$f":"\"\"","v":""},{"$f":"\"\"","v":""},{"$f":"\"\"","v":""},{"$f":"\"\"","v":""},{"$f":"\"\"","v":""},{"$f":"\"\"","v":""},null,"Week 25",{"$f":"\"\"","v":""},{"$f":"\"\"","v":""},{"$f":"\"\"","v":""},{"$f":"\"\"","v":""},{"$f":"\"\"","v":""},{"$f":"\"\"","v":""},{"$f":"\"\"","v":""},null,"Week 25",{"$f":"\"\"","v":""},{"$f":"\"\"","v":""},{"$f":"\"\"","v":""},{"$f":"\"\"","v":""},{"$f":"\"\"","v":""},{"$f":"\"\"","v":""},{"$f":"\"\"","v":""},null,"Week 25",{"$f":"\"\"","v":""},{"$f":"\"\"","v":""},{"$f":"\"\"","v":""},{"$f":"\"\"","v":""},{"$f":"\"\"","v":""},{"$f":"\"\"","v":""},{"$f":"\"\"","v":""},null,"Week 25",{"$f":"\"\"","v":""},{"$f":"\"\"","v":""},{"$f":"\"\"","v":""},{"$f":"\"\"","v":""},{"$f":"\"\"","v":""},{"$f":"\"\"","v":""},{"$f":"\"\"","v":""},null,"Week 25",{"$f":"\"\"","v":""},{"$f":"\"\"","v":""},{"$f":"\"\"","v":""},{"$f":"\"\"","v":""},{"$f":"\"\"","v":""},{"$f":"\"\"","v":""},{"$f":"\"\"","v":""},null,"Week 25",{"$f":"\"\"","v":""},{"$f":"\"\"","v":""},{"$f":"\"\"","v":""},{"$f":"\"\"","v":""},{"$f":"\"\"","v":""},{"$f":"\"\"","v":""},{"$f":"\"\"","v":""},null,"Week 25",{"$f":"\"\"","v":""},{"$f":"\"\"","v":""},{"$f":"\"\"","v":""},{"$f":"\"\"","v":""},{"$f":"\"\"","v":""},{"$f":"\"\"","v":""},{"$f":"\"\"","v":""},null,"Week 25",{"$f":"\"\"","v":""},{"$f":"\"\"","v":""},{"$f":"\"\"","v":""},{"$f":"\"\"","v":""},{"$f":"\"\"","v":""},{"$f":"\"\"","v":""},{"$f":"\"\"","v":""}]
[null,{"$f":"\"\"","v":""},"Scrambled Egg Wrap","Crunchy Chicken Tenders","Beefy Queso Pasta Bake","Sesame Popcorn Chicken","Italian Chicken Pasta","Albondigas Mexicanas","Fish Bites",null,{"$f":"\"\"","v":""},"Scrambled Egg Wrap","Crunchy Chicken Tenders","Beefy Queso Pasta Bake","Sesame Popcorn Chicken","Italian Chicken Pasta","Albondigas Mexicanas","Fish Bites",null,{"$f":"\"\"","v":""},"Scrambled Egg Wrap","Crunchy Chicken Tenders","Beefy Queso Pasta Bake","Sesame Popcorn Chicken","Italian Chicken Pasta","Albondigas Mexicanas","Fish Bites",null,{"$f":"\"\"","v":""},"Scrambled Egg Wrap","Crunchy Chicken Tenders","Beefy Queso Pasta Bake","Sesame Popcorn Chicken","Italian Chicken Pasta","Albondigas Mexicanas","Fish Bites",null,{"$f":"\"\"","v":""},"Scrambled Egg Wrap","Crunchy Chicken Tenders","Beefy Queso Pasta Bake","Sesame Popcorn Chicken","Italian Chicken Pasta","Albondigas Mexicanas","Fish Bites",null,{"$f":"\"\"","v":""},"Scrambled Egg Wrap","Crunchy Chicken Tenders","Beefy Queso Pasta Bake","Sesame Popcorn Chicken","Italian Chicken Pasta","Albondigas Mexicanas","Fish Bites",null,{"$f":"\"\"","v":""},"Scrambled Egg Wrap","Crunchy Chicken Tenders","Beefy Queso Pasta Bake","Sesame Popcorn Chicken","Italian Chicken Pasta","Albondigas Mexicanas","Fish Bites",null,{"$f":"\"\"","v":""},"Scrambled Egg Wrap","Crunchy Chicken Tenders","Beefy Queso Pasta Bake","Sesame Popcorn Chicken","Italian Chicken Pasta","Albondigas Mexicanas","Fish Bites",null,{"$f":"\"\"","v":""},"Scrambled Egg Wrap","Crunchy Chicken Tenders","Beefy Queso Pasta Bake","Sesame Popcorn Chicken","Italian Chicken Pasta","Albondigas Mexicanas","Fish Bites",null,{"$f":"\"\"","v":""},"Scrambled Egg Wrap","Crunchy Chicken Tenders","Beefy Queso Pasta Bake","Sesame Popcorn Chicken","Italian Chicken Pasta","Albondigas Mexicanas","Fish Bites"]
[null,{"$f":"\"\"","v":""},"Crispy Cubes & Ketchup","Ketchup","Tomatoes","Mashed Potatoes","Shredded Mozzarella","Assorted Chips","Assorted Chips",null,{"$f":"\"\"","v":""},"Shredded Mozzarella","Ketchup","Salad Bar","Salad Bar","Shredded Mozzarella","Assorted Chips","Assorted Chips",null,{"$f":"\"\"","v":""},"Crispy Cubes & Ketchup","Ketchup","Tomatoes","Mashed Potatoes","Shredded Mozzarella","Assorted Chips","Assorted Chips",null,{"$f":"\"\"","v":""},"Shredded Mozzarella","Ketchup","Salad Bar","Salad Bar","Shredded Mozzarella","Assorted Chips","Assorted Chips",null,{"$f":"\"\"","v":""},"Crispy Cubes & Ketchup","Ketchup","Tomatoes","Mashed Potatoes","Shredded Mozzarella","Assorted Chips","Assorted Chips",null,{"$f":"\"\"","v":""},"Shredded Mozzarella","Ketchup","Salad Bar","Salad Bar","Shredded Mozzarella","Assorted Chips","Assorted Chips",null,{"$f":"\"\"","v":""},"Crispy Cubes & Ketchup","Assorted Chips & Ketchup","Dinner Roll","Mashed Potatoes","Dinner Roll","Assorted Chips","Assorted Chips",null,{"$f":"\"\"","v":""},"Shredded Mozzarella & Ketchup","Ketchup","Dinner Roll","Assorted Chips","Dinner Roll","Assorted Chips","Assorted Chips",null,{"$f":"\"\"","v":""},"Crispy Cubes & Ketchup","Assorted Chips & Ketchup","Dinner Roll","Mashed Potatoes","Dinner Roll","Assorted Chips","Assorted Chips",null,{"$f":"\"\"","v":""},"Shredded Mozzarella & Ketchup","Assorted Chips & Ketchup","Dinner Roll","Assorted Chips","Dinner Roll","Assorted Chips","Assorted Chips"]
[null,{"$f":"\"\"","v":""},"Rancha Boom! Sauce","Baked Beans","Assorted Fruit","Assorted Fruit","Carrots & Dressing","Corn","Coleslaw",null,{"$f":"\"\"","v":""},"Rancha Boom! Sauce","Salad Bar","Assorted Fruit","Assorted Fruit","Salad Bar","Salad Bar","Salad Bar",null,{"$f":"\"\"","v":""},"Rancha Boom! Sauce","Baked Beans","Assorted Fruit","Assorted Fruit","Carrots & Dressing","Corn","Coleslaw",null,{"$f":"\"\"","v":""},"Rancha Boom! Sauce","Salad Bar","Assorted Fruit","Assorted Fruit","Salad Bar","Salad Bar","Salad Bar",null,{"$f":"\"\"","v":""},"Rancha Boom! Sauce","Baked Beans","Assorted Fruit","Assorted Fruit","Carrots & Dressing","Corn","Coleslaw",null,{"$f":"\"\"","v":""},"Rancha Boom! Sauce","Salad Bar","Assorted Fruit","Assorted Fruit","Salad Bar","Salad Bar","Salad Bar",null,{"$f":"\"\"","v":""},"Rancha Boom! Sauce","Baked Beans & Shredded Lettuce","Tomatoes","Assorted Chips","Shredded Mozzarella","Shredded Lettuce","Coleslaw",null,{"$f":"\"\"","v":""},"Rancha Boom! Sauce","Salad Bar","Salad Bar","Salad Bar","Shredded Mozzarella","Salad Bar","Salad Bar",null,{"$f":"\"\"","v":""},"Shredded Mozzarella","Baked Beans & Shredded Lettuce","Tomatoes","Assorted Chips","Shredded Mozzarella","Shredded Lettuce","Coleslaw",null,{"$f":"\"\"","v":""},"RanchaBoom! Sauce","Salad Bar","Salad Bar","Salad Bar","Shredded Mozzarella","Salad Bar","Salad Bar"]
[null,{"$f":"\"\"","v":""},"Shredded Mozzarella","Assorted Fruit",{"$f":"\"\"","v":""},{"$f":"\"\"","v":""},"Assorted Fruit","Assorted Fruit","Assorted Fruit",null,{"$f":"\"\"","v":""},"Salad Bar","Assorted Fruit",{"$f":"\"\"","v":""},{"$f":"\"\"","v":""},"Assorted Fruit","Assorted Fruit","Assorted Fruit",null,{"$f":"\"\"","v":""},"Shredded Mozzarella","Assorted Fruit",{"$f":"\"\"","v":""},{"$f":"\"\"","v":""},"Assorted Fruit","Assorted Fruit","Assorted Fruit",null,{"$f":"\"\"","v":""},"Salad Bar","Assorted Fruit",{"$f":"\"\"","v":""},{"$f":"\"\"","v":""},"Assorted Fruit","Assorted Fruit","Assorted Fruit",null,{"$f":"\"\"","v":""},"Shredded Mozzarella","Assorted Fruit",{"$f":"\"\"","v":""},{"$f":"\"\"","v":""},"Assorted Fruit","Assorted Fruit","Assorted Fruit",null,{"$f":"\"\"","v":""},"Salad Bar","Assorted Fruit",{"$f":"\"\"","v":""},{"$f":"\"\"","v":""},"Assorted Fruit","Assorted Fruit","Assorted Fruit",null,{"$f":"\"\"","v":""},"Shredded Mozzarella","Assorted Fruit","Side Salad & Dressing","Side Salad & Dressing","Carrots & Dressing","Corn","Assorted Fruit",null,{"$f":"\"\"","v":""},"Salad Bar","Assorted Fruit","Assorted Fruit","Assorted Fruit","Salad Bar","Assorted Fruit","Assorted Fruit",null,{"$f":"\"\"","v":""},"Red Peppers & Dressing","Assorted Fruit","Side Salad & Dressing","Side Salad & Dressing","Carrots & Dressing","Corn","Assorted Fruit",null,{"$f":"\"\"","v":""},"Salad Bar","Assorted Fruit","Assorted Fruit","Assorted Fruit","Salad Bar","Assorted Fruit","Assorted Fruit"]
[null,{"$f":"\"\"","v":""},"Assorted Fruit",{"$f":"\"\"","v":""},{"$f":"\"\"","v":""},{"$f":"\"\"","v":""},{"$f":"\"\"","v":""},{"$f":"\"\"","v":""},{"$f":"\"\"","v":""},null,{"$f":"\"\"","v":""},"Assorted Fruit",{"$f":"\"\"","v":""},{"$f":"\"\"","v":""},{"$f":"\"\"","v":""},{"$f":"\"\"","v":""},{"$f":"\"\"","v":""},{"$f":"\"\"","v":""},null,{"$f":"\"\"","v":""},"Assorted Fruit",{"$f":"\"\"","v":""},{"$f":"\"\"","v":""},{"$f":"\"\"","v":""},{"$f":"\"\"","v":""},{"$f":"\"\"","v":""},{"$f":"\"\"","v":""},null,{"$f":"\"\"","v":""},"Assorted Fruit",{"$f":"\"\"","v":""},{"$f":"\"\"","v":""},{"$f":"\"\"","v":""},{"$f":"\"\"","v":""},{"$f":"\"\"","v":""},{"$f":"\"\"","v":""},null,{"$f":"\"\"","v":""},"Assorted Fruit",{"$f":"\"\"","v":""},{"$f":"\"\"","v":""},{"$f":"\"\"","v":""},{"$f":"\"\"","v":""},{"$f":"\"\"","v":""},{"$f":"\"\"","v":""},null,{"$f":"\"\"","v":""},"Assorted Fruit",{"$f":"\"\"","v":""},{"$f":"\"\"","v":""},{"$f":"\"\"","v":""},{"$f":"\"\"","v":""},{"$f":"\"\"","v":""},{"$f":"\"\"","v":""},null,{"$f":"\"\"","v":""},"Assorted Fruit",{"$f":"\"\"","v":""},"Assorted Fruit","Assorted Fruit","Assorted Fruit","Assorted Fruit",{"$f":"\"\"","v":""},null,{"$f":"\"\"","v":""},"Assorted Fruit",{"$f":"\"\"","v":""},{"$f":"\"\"","v":""},{"$f":"\"\"","v":""},"Assorted Fruit",{"$f":"\"\"","v":""},{"$f":"\"\"","v":""},null,{"$f":"\"\"","v":""},"Assorted Fruit",{"$f":"\"\"","v":""},"Assorted Fruit","Assorted Fruit","Assorted Fruit","Assorted Fruit",{"$f":"\"\"","v":""},null,{"$f":"\"\"","v":""},"Assorted Fruit",{"$f":"\"\"","v":""},{"$f":"\"\"","v":""},{"$f":"\"\"","v":""},"Assorted Fruit",{"$f":"\"\"","v":""},{"$f":"\"\"","v":""}]
[null,"Week 26",{"$f":"\"\"","v":""},{"$f":"\"\"","v":""},{"$f":"\"\"","v":""},{"$f":"\"\"","v":""},{"$f":"\"\"","v":""},{"$f":"\"\"","v":""},{"$f":"\"\"","v":""},null,"Week 26",{"$f":"\"\"","v":""},{"$f":"\"\"","v":""},{"$f":"\"\"","v":""},{"$f":"\"\"","v":""},{"$f":"\"\"","v":""},{"$f":"\"\"","v":""},{"$f":"\"\"","v":""},null,"Week 26",{"$f":"\"\"","v":""},{"$f":"\"\"","v":""},{"$f":"\"\"","v":""},{"$f":"\"\"","v":""},{"$f":"\"\"","v":""},{"$f":"\"\"","v":""},{"$f":"\"\"","v":""},null,"Week 26",{"$f":"\"\"","v":""},{"$f":"\"\"","v":""},{"$f":"\"\"","v":""},{"$f":"\"\"","v":""},{"$f":"\"\"","v":""},{"$f":"\"\"","v":""},{"$f":"\"\"","v":""},null,"Week 26",{"$f":"\"\"","v":""},{"$f":"\"\"","v":""},{"$f":"\"\"","v":""},{"$f":"\"\"","v":""},{"$f":"\"\"","v":""},{"$f":"\"\"","v":""},{"$f":"\"\"","v":""},null,"Week 26",{"$f":"\"\"","v":""},{"$f":"\"\"","v":""},{"$f":"\"\"","v":""},{"$f":"\"\"","v":""},{"$f":"\"\"","v":""},{"$f":"\"\"","v":""},{"$f":"\"\"","v":""},null,"Week 26",{"$f":"\"\"","v":""},{"$f":"\"\"","v":""},{"$f":"\"\"","v":""},{"$f":"\"\"","v":""},{"$f":"\"\"","v":""},{"$f":"\"\"","v":""},{"$f":"\"\"","v":""},null,"Week 26",{"$f":"\"\"","v":""},{"$f":"\"\"","v":""},{"$f":"\"\"","v":""},{"$f":"\"\"","v":""},{"$f":"\"\"","v":""},{"$f":"\"\"","v":""},{"$f":"\"\"","v":""},null,"Week 26",{"$f":"\"\"","v":""},{"$f":"\"\"","v":""},{"$f":"\"\"","v":""},{"$f":"\"\"","v":""},{"$f":"\"\"","v":""},{"$f":"\"\"","v":""},{"$f":"\"\"","v":""},null,"Week 26",{"$f":"\"\"","v":""},{"$f":"\"\"","v":""},{"$f":"\"\"","v":""},{"$f":"\"\"","v":""},{"$f":"\"\"","v":""},{"$f":"\"\"","v":""},{"$f":"\"\"","v":""}]
[null,{"$f":"\"\"","v":""},"Egg & Cheese Breakfast Sandwich","Mini Corn Dogs","Cheesy Spaghetti","Chicken Chilaquiles","BBQ Baked Pork","Pepperoni Pizza","Chicken Noodle Soup",null,{"$f":"\"\"","v":""},"Egg & Cheese Breakfast Sandwich","Mini Corn Dogs","Cheesy Spaghetti","Chicken Chilaquiles","BBQ Baked Pork","Pepperoni Pizza","Chicken Noodle Soup",null,{"$f":"\"\"","v":""},"Egg & Cheese Breakfast Sandwich","Mini Corn Dogs","Cheesy Spaghetti","Chicken Chilaquiles","BBQ Baked Pork","Pepperoni Pizza","Chicken Noodle Soup",null,{"$f":"\"\"","v":""},"Egg & Cheese Breakfast Sandwich","Mini Corn Dogs","Cheesy Spaghetti","Chicken Chilaquiles","BBQ Baked Pork","Pepperoni Pizza","Chicken Noodle Soup",null,{"$f":"\"\"","v":""},"Egg & Cheese Breakfast Sandwich","Mini Corn Dogs","Cheesy Spaghetti","Chicken Chilaquiles","BBQ Baked Pork","Pepperoni Pizza","Chicken Noodle Soup",null,{"$f":"\"\"","v":""},"Egg & Cheese Breakfast Sandwich","Mini Corn Dogs","Cheesy Spaghetti","Chicken Chilaquiles","BBQ Baked Pork","Pepperoni Pizza","Chicken Noodle Soup",null,{"$f":"\"\"","v":""},"Egg & Cheese Breakfast Sandwich","Mini Corn Dogs","Cheesy Spaghetti","Chicken Chilaquiles","BBQ Baked Pork","Pepperoni Pizza","Chicken Noodle Soup",null,{"$f":"\"\"","v":""},"Egg & Cheese Breakfast Sandwich","Mini Corn Dogs","Cheesy Spaghetti","Chicken Chilaquiles","BBQ Baked Pork","Pepperoni Pizza","Chicken Noodle Soup",null,{"$f":"\"\"","v":""},"Egg & Cheese Breakfast Sandwich","Mini Corn Dogs","Cheesy Spaghetti","Chicken Chilaquiles","BBQ Baked Pork","Pepperoni Pizza","Chicken Noodle Soup",null,{"$f":"\"\"","v":""},"Egg & Cheese Breakfast Sandwich","Mini Corn Dogs","Cheesy Spaghetti","Chicken Chilaquiles","BBQ Baked Pork","Pepperoni Pizza","Chicken Noodle Soup"]
[null,{"$f":"\"\"","v":""},"Rancha Boom! Sauce","Ketchup & Coleslaw","Shredded Mozzarella","Retried Beans","Dinner Roll","Side Salad & Dressing","Dinner Roll",null,{"$f":"\"\"","v":""},"Rancha Boom! Sauce","Ketchup","Shredded Mozzarella","Salad Bar","Dinner Roll","Salad Bar","Dinner Roll",null,{"$f":"\"\"","v":""},"Rancha Boom! Sauce","Ketchup & Coleslaw","Shredded Mozzarella","Retried Beans","Dinner Roll","Side Salad & Dressing","Dinner Roll",null,{"$f":"\"\"","v":""},"Rancha Boom! Sauce","Ketchup","Shredded Mozzarella","Salad Bar","Dinner Roll","Salad Bar","Dinner Roll",null,{"$f":"\"\"","v":""},"Rancha Boom! Sauce","Ketchup & Coleslaw","Shredded Mozzarella","Retried Beans","Dinner Roll","Side Salad & Dressing","Dinner Roll",null,{"$f":"\"\"","v":""},"Rancha Boom! Sauce","Ketchup","Shredded Mozzarella","Salad Bar","Dinner Roll","Salad Bar","Dinner Roll",null,{"$f":"\"\"","v":""},"Rancha Boom! Sauce","Ketchup & Coleslaw","Dinner Roll","Shredded Lettuce","Dinner Roll","Side Salad & Dressing","Dinner Roll",null,{"$f":"\"\"","v":""},"Rancha Boom! Sauce","Ketchup","Dinner Roll","Salad Bar","Dinner Roll","Salad Bar","Dinner Roll",null,{"$f":"\"\"","v":""},"Rancha Boom! Sauce","Ketchup & Coleslaw","Dinner Roll","Shredded Lettuce & Cheddar","Cilantro Brown Rice","Side Salad & Dressing","Dinner Roll",null,{"$f":"\"\"","v":""},"Rancha Boom! Sauce","Assorted Chips & Ketchup","Dinner Roll","Assorted Chips","Cilantro Brown Rice","Salad Bar","Dinner Roll"]
[null,{"$f":"\"\"","v":""},"Breakfast Potato with Peppers","Assorted Fruit","Assorted Fruit","Assorted Fruit","Carrots & Dressing","Assorted Fruit","Cucumbers & Dressing",null,{"$f":"\"\"","v":""},"Salad Bar","Salad Bar","Assorted Fruit","Assorted Fruit","Salad Bar","Assorted Fruit","Salad Bar",null,{"$f":"\"\"","v":""},"Breakfast Potato with Peppers","Assorted Fruit","Assorted Fruit","Assorted Fruit","Carrots & Dressing","Assorted Fruit","Cucumbers & Dressing",null,{"$f":"\"\"","v":""},"Salad Bar","Salad Bar","Assorted Fruit","Assorted Fruit","Salad Bar","Assorted Fruit","Salad Bar",null,{"$f":"\"\"","v":""},"Breakfast Potato with Peppers","Assorted Fruit","Assorted Fruit","Assorted Fruit","Carrots & Dressing","Assorted Fruit","Cucumbers & Dressing",null,{"$f":"\"\"","v":""},"Salad Bar","Salad Bar","Assorted Fruit","Assorted Fruit","Salad Bar","Assorted Fruit","Salad Bar",null,{"$f":"\"\"","v":""},"Breakfast Potato with Peppers","Corn","Garden Salad & Dressing","Retried Beans","Carrots & Dressing","Assorted Fruit","Cucumbers & Dressing",null,{"$f":"\"\"","v":""},"Salad Bar","Salad Bar","Salad Bar","Assorted Fruit","Salad Bar","Assorted Fruit","Salad Bar",null,{"$f":"\"\"","v":""},"Breakfast Potato with Peppers","Assorted Chips","Garden Salad & Dressing","Assorted Chips","Dinner Roll","Assorted Fruit","Assorted Chips",null,{"$f":"\"\"","v":""},"Salad Bar","Salad Bar","Salad Bar","Salad Bar","Dinner Roll","Assorted Fruit","Assorted Chips"]
[null,{"$f":"\"\"","v":""},"Assorted Fruit",{"$f":"\"\"","v":""},{"$f":"\"\"","v":""},{"$f":"\"\"","v":""},"Assorted Fruit",{"$f":"\"\"","v":""},"Assorted Fruit",null,{"$f":"\"\"","v":""},"Assorted Fruit","Assorted Fruit",{"$f":"\"\"","v":""},{"$f":"\"\"","v":""},"Assorted Fruit",{"$f":"\"\"","v":""},"Assorted Fruit",null,{"$f":"\"\"","v":""},"Assorted Fruit",{"$f":"\"\"","v":""},{"$f":"\"\"","v":""},{"$f":"\"\"","v":""},"Assorted Fruit",{"$f":"\"\"","v":""},"Assorted Fruit",null,{"$f":"\"\"","v":""},"Assorted Fruit","Assorted Fruit",{"$f":"\"\"","v":""},{"$f":"\"\"","v":""},"Assorted Fruit",{"$f":"\"\"","v":""},"Assorted Fruit",null,{"$f":"\"\"","v":""},"Assorted Fruit",{"$f":"\"\"","v":""},{"$f":"\"\"","v":""},{"$f":"\"\"","v":""},"Assorted Fruit",{"$f":"\"\"","v":""},"Assorted Fruit",null,{"$f":"\"\"","v":""},"Assorted Fruit","Assorted Fruit",{"$f":"\"\"","v":""},{"$f":"\"\"","v":""},"Assorted Fruit",{"$f":"\"\"","v":""},"Assorted Fruit",null,{"$f":"\"\"","v":""},"Assorted Fruit","Assorted Fruit","Assorted Fruit","Assorted Fruit","Assorted Fruit",{"$f":"\"\"","v":""},"Assorted Fruit",null,{"$f":"\"\"","v":""},"Assorted Fruit","Assorted Fruit","Assorted Fruit",{"$f":"\"\"","v":""},"Assorted Fruit",{"$f":"\"\"","v":""},"Assorted Fruit",null,{"$f":"\"\"","v":""},"Assorted Fruit","Corn","Assorted Fruit","Retried Beans","Carrots & Dressing",{"$f":"\"\"","v":""},"Cucumbers & Dressing",null,{"$f":"\"\"","v":""},"Assorted Fruit","Assorted Fruit","Assorted Fruit","Assorted Fruit","Salad Bar",{"$f":"\"\"","v":""},"Salad Bar"]
[null,{"$f":"\"\"","v":""},{"$f":"\"\"","v":""},{"$f":"\"\"","v":""},{"$f":"\"\"","v":""},{"$f":"\"\"","v":""},{"$f":"\"\"","v":""},{"$f":"\"\"","v":""},{"$f":"\"\"","v":""},null,{"$f":"\"\"","v":""},{"$f":"\"\"","v":""},{"$f":"\"\"","v":""},{"$f":"\"\"","v":""},{"$f":"\"\"","v":""},{"$f":"\"\"","v":""},{"$f":"\"\"","v":""},{"$f":"\"\"","v":""},null,{"$f":"\"\"","v":""},{"$f":"\"\"","v":""},{"$f":"\"\"","v":""},{"$f":"\"\"","v":""},{"$f":"\"\"","v":""},{"$f":"\"\"","v":""},{"$f":"\"\"","v":""},{"$f":"\"\"","v":""},null,{"$f":"\"\"","v":""},{"$f":"\"\"","v":""},{"$f":"\"\"","v":""},{"$f":"\"\"","v":""},{"$f":"\"\"","v":""},{"$f":"\"\"","v":""},{"$f":"\"\"","v":""},{"$f":"\"\"","v":""},null,{"$f":"\"\"","v":""},{"$f":"\"\"","v":""},{"$f":"\"\"","v":""},{"$f":"\"\"","v":""},{"$f":"\"\"","v":""},{"$f":"\"\"","v":""},{"$f":"\"\"","v":""},{"$f":"\"\"","v":""},null,{"$f":"\"\"","v":""},{"$f":"\"\"","v":""},{"$f":"\"\"","v":""},{"$f":"\"\"","v":""},{"$f":"\"\"","v":""},{"$f":"\"\"","v":""},{"$f":"\"\"","v":""},{"$f":"\"\"","v":""},null,{"$f":"\"\"","v":""},{"$f":"\"\"","v":""},{"$f":"\"\"","v":""},{"$f":"\"\"","v":""},{"$f":"\"\"","v":""},{"$f":"\"\"","v":""},{"$f":"\"\"","v":""},{"$f":"\"\"","v":""},null,{"$f":"\"\"","v":""},{"$f":"\"\"","v":""},{"$f":"\"\"","v":""},{"$f":"\"\"","v":""},{"$f":"\"\"","v":""},{"$f":"\"\"","v":""},{"$f":"\"\"","v":""},{"$f":"\"\"","v":""},null,{"$f":"\"\"","v":""},{"$f":"\"\"","v":""},"Assorted Fruit",{"$f":"\"\"","v":""},"Assorted Fruit","Assorted Fruit",{"$f":"\"\"","v":""},"Assorted Fruit",null,{"$f":"\"\"","v":""},{"$f":"\"\"","v":""},{"$f":"\"\"","v":""},{"$f":"\"\"","v":""},{"$f":"\"\"","v":""},"Assorted Fruit",{"$f":"\"\"","v":""},"Assorted Fruit"]
[null,"Week 27",{"$f":"\"\"","v":""},{"$f":"\"\"","v":""},{"$f":"\"\"","v":""},{"$f":"\"\"","v":""},{"$f":"\"\"","v":""},{"$f":"\"\"","v":""},{"$f":"\"\"","v":""},null,"Week 27",{"$f":"\"\"","v":""},{"$f":"\"\"","v":""},{"$f":"\"\"","v":""},{"$f":"\"\"","v":""},{"$f":"\"\"","v":""},{"$f":"\"\"","v":""},{"$f":"\"\"","v":""},null,"Week 27",{"$f":"\"\"","v":""},{"$f":"\"\"","v":""},{"$f":"\"\"","v":""},{"$f":"\"\"","v":""},{"$f":"\"\"","v":""},{"$f":"\"\"","v":""},{"$f":"\"\"","v":""},null,"Week 27",{"$f":"\"\"","v":""},{"$f":"\"\"","v":""},{"$f":"\"\"","v":""},{"$f":"\"\"","v":""},{"$f":"\"\"","v":""},{"$f":"\"\"","v":""},{"$f":"\"\"","v":""},null,"Week 27",{"$f":"\"\"","v":""},{"$f":"\"\"","v":""},{"$f":"\"\"","v":""},{"$f":"\"\"","v":""},{"$f":"\"\"","v":""},{"$f":"\"\"","v":""},{"$f":"\"\"","v":""},null,"Week 27",{"$f":"\"\"","v":""},{"$f":"\"\"","v":""},{"$f":"\"\"","v":""},{"$f":"\"\"","v":""},{"$f":"\"\"","v":""},{"$f":"\"\"","v":""},{"$f":"\"\"","v":""},null,"Week 27",{"$f":"\"\"","v":""},{"$f":"\"\"","v":""},{"$f":"\"\"","v":""},{"$f":"\"\"","v":""},{"$f":"\"\"","v":""},{"$f":"\"\"","v":""},{"$f":"\"\"","v":""},null,"Week 27",{"$f":"\"\"","v":""},{"$f":"\"\"","v":""},{"$f":"\"\"","v":""},{"$f":"\"\"","v":""},{"$f":"\"\"","v":""},{"$f":"\"\"","v":""},{"$f":"\"\"","v":""},null,"Week 27",{"$f":"\"\"","v":""},{"$f":"\"\"","v":""},{"$f":"\"\"","v":""},{"$f":"\"\"","v":""},{"$f":"\"\"","v":""},{"$f":"\"\"","v":""},{"$f":"\"\"","v":""},null,"Week 27",{"$f":"\"\"","v":""},{"$f":"\"\"","v":""},{"$f":"\"\"","v":""},{"$f":"\"\"","v":""},{"$f":"\"\"","v":""},{"$f":"\"\"","v":""},{"$f":"\"\"","v":""}]
[null,{"$f":"\"\"","v":""},"Breakfast Fajita","Chicken Drumstick","Macaroni & Cheese","Meatball Sub Sandwich","Chicken Carnitas Tacos","Beef Pad Thai","Hot Ham & Cheese Sandwich",null,{"$f":"\"\"","v":""},"Breakfast Fajita","Chicken Drumstick","Macaroni & Cheese","Meatball Sub Sandwich","Chicken Carnitas Tacos","Beef Pad Thai","Hot Ham & Cheese Sandwich",null,{"$f":"\"\"","v":""},"Breakfast Fajita","Chicken Drumstick","Macaroni & Cheese","Meatball Sub Sandwich","Chicken Carnitas Tacos","Beef Pad Thai","Hot Ham & Cheese Sandwich",null,{"$f":"\"\"","v":""},"Breakfast Fajita","Chicken Drumstick","Macaroni & Cheese","Meatball Sub Sandwich","Chicken Carnitas Tacos","Beef Pad Thai","Hot Ham & Cheese Sandwich",null,{"$f":"\"\"","v":""},"Breakfast Fajita","Chicken Drumstick","Macaroni & Cheese","Meatball Sub Sandwich","Chicken Carnitas Tacos","Beef Pad Thai","Hot Ham & Cheese Sandwich",null,{"$f":"\"\"","v":""},"Breakfast Fajita","Chicken Drumstick","Macaroni & Cheese","Meatball Sub Sandwich","Chicken Carnitas Tacos","Beef Pad Thai","Hot Ham & Cheese Sandwich",null,{"$f":"\"\"","v":""},"Breakfast Fajita","Chicken Drumstick","Macaroni & Cheese","Meatball Sub Sandwich","Chicken Carnitas Tacos","Beef Pad Thai","Hot Ham & Cheese Sandwich",null,{"$f":"\"\"","v":""},"Breakfast Fajita","Chicken Drumstick","Macaroni & Cheese","Meatball Sub Sandwich","Chicken Carnitas Tacos","Beef Pad Thai","Hot Ham & Cheese Sandwich",null,{"$f":"\"\"","v":""},"Breakfast Fajita","Chicken Drumstick","Macaroni & Cheese","Meatball Sub Sandwich","Chicken Carnitas Tacos","Beef Pad Thai","Hot Ham & Cheese Sandwich",null,{"$f":"\"\"","v":""},"Breakfast Fajita","Chicken Drumstick","Macaroni & Cheese","Meatball Sub Sandwich","Chicken Carnitas Tacos","Beef Pad Thai","Hot Ham & Cheese Sandwich"]
[null,{"$f":"\"\"","v":""},"Shredded Cheddar","Assorted Chips","Carrots & Dressing","Green Beans","Refried Beans","Broccoli","Mashed Potatoes & Margarine",null,{"$f":"\"\"","v":""},"Shredded Cheddar","Assorted Chips","Salad Bar","Salad Bar","Salad Bar","Lime Wedge","Salad Bar",null,{"$f":"\"\"","v":""},"Shredded Cheddar","Assorted Chips","Carrots & Dressing","Green Beans","Refried Beans","Broccoli","Mashed Potatoes & Margarine",null,{"$f":"\"\"","v":""},"Shredded Cheddar","Assorted Chips","Salad Bar","Salad Bar","Salad Bar","Lime Wedge","Salad Bar",null,{"$f":"\"\"","v":""},"Shredded Cheddar","Assorted Chips","Carrots & Dressing","Green Beans","Refried Beans","Broccoli","Mashed Potatoes & Margarine",null,{"$f":"\"\"","v":""},"Shredded Cheddar","Assorted Chips","Salad Bar","Salad Bar","Salad Bar","Lime Wedge","Salad Bar",null,{"$f":"\"\"","v":""},"Shredded Cheddar","Assorted Chips","Carrots & Dressing","Crispy Cubes","Refried Beans","Dinner Roll","Mashed Potatoes & Margarine",null,{"$f":"\"\"","v":""},"Shredded Cheddar","Assorted Chips","Salad Bar","Salad Bar","Salad Bar","Dinner Roll","Margarine",null,{"$f":"\"\"","v":""},"Shredded Cheddar","Garlic Brown Rice","Dinner Roll","Dinner Roll","Refried Beans","Dinner Roll","Mashed Potatoes & Margarine",null,{"$f":"\"\"","v":""},"RanchaBoom! Sauce","Garlic Brown Rice","Dinner Roll","Dinner Roll","Salad Bar","Dinner Roll","Salad Bar"]
[null,{"$f":"\"\"","v":""},"Crispy Cubes","Garden Salad & Dressing","Assorted Fruit","Assorted Fruit","Assorted Fruit","Lime Wedge","Assorted Fruit",null,{"$f":"\"\"","v":""},"Salad Bar","Salad Bar","Assorted Fruit","Assorted Fruit","Assorted Fruit","Salad Bar","Assorted Fruit",null,{"$f":"\"\"","v":""},"Crispy Cubes","Garden Salad & Dressing","Assorted Fruit","Assorted Fruit","Assorted Fruit","Lime Wedge","Assorted Fruit",null,{"$f":"\"\"","v":""},"Salad Bar","Salad Bar","Assorted Fruit","Assorted Fruit","Assorted Fruit","Salad Bar","Assorted Fruit",null,{"$f":"\"\"","v":""},"Crispy Cubes","Garden Salad & Dressing","Assorted Fruit","Assorted Fruit","Assorted Fruit","Lime Wedge","Assorted Fruit",null,{"$f":"\"\"","v":""},"Salad Bar","Salad Bar","Assorted Fruit","Assorted Fruit","Assorted Fruit","Salad Bar","Assorted Fruit",null,{"$f":"\"\"","v":""},"Crispy Cubes","Garden Salad & Dressing","Assorted Fruit","Green Beans","Shredded Lettuce","Broccoli","Assorted Fruit",null,{"$f":"\"\"","v":""},"Salad Bar","Salad Bar","Assorted Fruit","Assorted Fruit","Assorted Fruit","Lime Wedge","Salad Bar",null,{"$f":"\"\"","v":""},"Crispy Cubes","Assorted Chips","Carrots & Dressing","Crispy Cubes","Shredded Lettuce","Broccoli","Assorted Fruit",null,{"$f":"\"\"","v":""},"Shredded Cheddar","Assorted Chips","Salad Bar","Salad Bar","Assorted Fruit","Lime Wedge","Assorted Fruit"]
[null,{"$f":"\"\"","v":""},"Assorted Fruit","Assorted Fruit",{"$f":"\"\"","v":""},{"$f":"\"\"","v":""},{"$f":"\"\"","v":""},"Assorted Fruit",{"$f":"\"\"","v":""},null,{"$f":"\"\"","v":""},"Assorted Fruit","Assorted Fruit",{"$f":"\"\"","v":""},{"$f":"\"\"","v":""},{"$f":"\"\"","v":""},"Assorted Fruit",{"$f":"\"\"","v":""},null,{"$f":"\"\"","v":""},"Assorted Fruit","Assorted Fruit",{"$f":"\"\"","v":""},{"$f":"\"\"","v":""},{"$f":"\"\"","v":""},"Assorted Fruit",{"$f":"\"\"","v":""},null,{"$f":"\"\"","v":""},"Assorted Fruit","Assorted Fruit",{"$f":"\"\"","v":""},{"$f":"\"\"","v":""},{"$f":"\"\"","v":""},"Assorted Fruit",{"$f":"\"\"","v":""},null,{"$f":"\"\"","v":""},"Assorted Fruit","Assorted Fruit",{"$f":"\"\"","v":""},{"$f":"\"\"","v":""},{"$f":"\"\"","v":""},"Assorted Fruit",{"$f":"\"\"","v":""},null,{"$f":"\"\"","v":""},"Assorted Fruit","Assorted Fruit",{"$f":"\"\"","v":""},{"$f":"\"\"","v":""},{"$f":"\"\"","v":""},"Assorted Fruit",{"$f":"\"\"","v":""},null,{"$f":"\"\"","v":""},"Red Peppers & Tomatoes","Assorted Fruit",{"$f":"\"\"","v":""},"Assorted Fruit","Assorted Fruit","Lime Wedge",{"$f":"\"\"","v":""},null,{"$f":"\"\"","v":""},"Assorted Fruit","Assorted Fruit",{"$f":"\"\"","v":""},{"$f":"\"\"","v":""},{"$f":"\"\"","v":""},"Salad Bar","Assorted Fruit",null,{"$f":"\"\"","v":""},"Red Peppers & Tomatoes","Garden Salad & Dressing","Assorted Fruit","Green Beans","Red Peppers","Lime Wedge",{"$f":"\"\"","v":""},null,{"$f":"\"\"","v":""},"Salad Bar","Salad Bar","Assorted Fruit","Assorted Fruit",{"$f":"\"\"","v":""},"Salad Bar",{"$f":"\"\"","v":""}]
[null,{"$f":"\"\"","v":""},{"$f":"\"\"","v":""},{"$f":"\"\"","v":""},{"$f":"\"\"","v":""},{"$f":"\"\"","v":""},{"$f":"\"\"","v":""},{"$f":"\"\"","v":""},{"$f":"\"\"","v":""},null,{"$f":"\"\"","v":""},{"$f":"\"\"","v":""},{"$f":"\"\"","v":""},{"$f":"\"\"","v":""},{"$f":"\"\"","v":""},{"$f":"\"\"","v":""},{"$f":"\"\"","v":""},{"$f":"\"\"","v":""},null,{"$f":"\"\"","v":""},{"$f":"\"\"","v":""},{"$f":"\"\"","v":""},{"$f":"\"\"","v":""},{"$f":"\"\"","v":""},{"$f":"\"\"","v":""},{"$f":"\"\"","v":""},{"$f":"\"\"","v":""},null,{"$f":"\"\"","v":""},{"$f":"\"\"","v":""},{"$f":"\"\"","v":""},{"$f":"\"\"","v":""},{"$f":"\"\"","v":""},{"$f":"\"\"","v":""},{"$f":"\"\"","v":""},{"$f":"\"\"","v":""},null,{"$f":"\"\"","v":""},{"$f":"\"\"","v":""},{"$f":"\"\"","v":""},{"$f":"\"\"","v":""},{"$f":"\"\"","v":""},{"$f":"\"\"","v":""},{"$f":"\"\"","v":""},{"$f":"\"\"","v":""},null,{"$f":"\"\"","v":""},{"$f":"\"\"","v":""},{"$f":"\"\"","v":""},{"$f":"\"\"","v":""},{"$f":"\"\"","v":""},{"$f":"\"\"","v":""},{"$f":"\"\"","v":""},{"$f":"\"\"","v":""},null,{"$f":"\"\"","v":""},"Assorted Fruit",{"$f":"\"\"","v":""},{"$f":"\"\"","v":""},{"$f":"\"\"","v":""},{"$f":"\"\"","v":""},"Assorted Fruit",{"$f":"\"\"","v":""},null,{"$f":"\"\"","v":""},{"$f":"\"\"","v":""},{"$f":"\"\"","v":""},{"$f":"\"\"","v":""},{"$f":"\"\"","v":""},{"$f":"\"\"","v":""},"Assorted Fruit",{"$f":"\"\"","v":""},null,{"$f":"\"\"","v":""},"Assorted Fruit","Assorted Fruit",{"$f":"\"\"","v":""},"Assorted Fruit","Assorted Fruit","Assorted Fruit",{"$f":"\"\"","v":""},null,{"$f":"\"\"","v":""},"Assorted Fruit","Assorted Fruit",{"$f":"\"\"","v":""},{"$f":"\"\"","v":""},{"$f":"\"\"","v":""},"Assorted Fruit",{"$f":"\"\"","v":""}]
[null,"Week 28",{"$f":"\"\"","v":""},{"$f":"\"\"","v":""},{"$f":"\"\"","v":""},{"$f":"\"\"","v":""},{"$f":"\"\"","v":""},{"$f":"\"\"","v":""},{"$f":"\"\"","v":""},null,"Week 28",{"$f":"\"\"","v":""},{"$f":"\"\"","v":""},{"$f":"\"\"","v":""},{"$f":"\"\"","v":""},{"$f":"\"\"","v":""},{"$f":"\"\"","v":""},{"$f":"\"\"","v":""},null,"Week 28",{"$f":"\"\"","v":""},{"$f":"\"\"","v":""},{"$f":"\"\"","v":""},{"$f":"\"\"","v":""},{"$f":"\"\"","v":""},{"$f":"\"\"","v":""},{"$f":"\"\"","v":""},null,"Week 28",{"$f":"\"\"","v":""},{"$f":"\"\"","v":""},{"$f":"\"\"","v":""},{"$f":"\"\"","v":""},{"$f":"\"\"","v":""},{"$f":"\"\"","v":""},{"$f":"\"\"","v":""},null,"Week 28",{"$f":"\"\"","v":""},{"$f":"\"\"","v":""},{"$f":"\"\"","v":""},{"$f":"\"\"","v":""},{"$f":"\"\"","v":""},{"$f":"\"\"","v":""},{"$f":"\"\"","v":""},null,"Week 28",{"$f":"\"\"","v":""},{"$f":"\"\"","v":""},{"$f":"\"\"","v":""},{"$f":"\"\"","v":""},{"$f":"\"\"","v":""},{"$f":"\"\"","v":""},{"$f":"\"\"","v":""},null,"Week 28",{"$f":"\"\"","v":""},{"$f":"\"\"","v":""},{"$f":"\"\"","v":""},{"$f":"\"\"","v":""},{"$f":"\"\"","v":""},{"$f":"\"\"","v":""},{"$f":"\"\"","v":""},null,"Week 28",{"$f":"\"\"","v":""},{"$f":"\"\"","v":""},{"$f":"\"\"","v":""},{"$f":"\"\"","v":""},{"$f":"\"\"","v":""},{"$f":"\"\"","v":""},{"$f":"\"\"","v":""},null,"Week 28",{"$f":"\"\"","v":""},{"$f":"\"\"","v":""},{"$f":"\"\"","v":""},{"$f":"\"\"","v":""},{"$f":"\"\"","v":""},{"$f":"\"\"","v":""},{"$f":"\"\"","v":""},null,"Week 28",{"$f":"\"\"","v":""},{"$f":"\"\"","v":""},{"$f":"\"\"","v":""},{"$f":"\"\"","v":""},{"$f":"\"\"","v":""},{"$f":"\"\"","v":""},{"$f":"\"\"","v":""}]
[null,{"$f":"\"\"","v":""},"Beef Breakfast Skillet","Boneless Chicken Chompers","Cheesy Beef Steak","Mongolian Chicken","Chicken Taco","Beef Stroganoff Penne","Cuban Sandwich",null,{"$f":"\"\"","v":""},"Beef Breakfast Skillet","Boneless Chicken Chompers","Cheesy Beef Steak","Mongolian Chicken","Chicken Taco","Beef Stroganoff Penne","Cuban Sandwich",null,{"$f":"\"\"","v":""},"Beef Breakfast Skillet","Boneless Chicken Chompers","Cheesy Beef Steak","Mongolian Chicken","Chicken Taco","Beef Stroganoff Penne","Cuban Sandwich",null,{"$f":"\"\"","v":""},"Beef Breakfast Skillet","Boneless Chicken Chompers","Cheesy Beef Steak","Mongolian Chicken","Chicken Taco","Beef Stroganoff Penne","Cuban Sandwich",null,{"$f":"\"\"","v":""},"Beef Breakfast Skillet","Boneless Chicken Chompers","Cheesy Beef Steak","Mongolian Chicken","Chicken Taco","Beef Stroganoff Penne","Cuban Sandwich",null,{"$f":"\"\"","v":""},"Beef Breakfast Skillet","Boneless Chicken Chompers","Cheesy Beef Steak","Mongolian Chicken","Chicken Taco","Beef Stroganoff Penne","Cuban Sandwich",null,{"$f":"\"\"","v":""},"Beef Breakfast Skillet","Boneless Chicken Chompers","Cheesy Beef Steak","Mongolian Chicken","Chicken Taco","Beef Stroganoff Penne","Cuban Sandwich",null,{"$f":"\"\"","v":""},"Beef Breakfast Skillet","Boneless Chicken Chompers","Cheesy Beef Steak","Mongolian Chicken","Chicken Taco","Beef Stroganoff Penne","Cuban Sandwich",null,{"$f":"\"\"","v":""},"Beef Breakfast Skillet","Boneless Chicken Chompers","Cheesy Beef Steak","Mongolian Chicken","Chicken Taco","Beef Stroganoff Penne","Cuban Sandwich",null,{"$f":"\"\"","v":""},"Beef Breakfast Skillet","Boneless Chicken Chompers","Cheesy Beef Steak","Mongolian Chicken","Chicken Taco","Beef Stroganoff Penne","Cuban Sandwich"]
[null,{"$f":"\"\"","v":""},"Taco Sauce & Sour Cream","Ketchup ","Mashed Potatoes & Dinner Roll","Broccoli & Cauliflower","Shredded Cheddar Cheese","Peas","Pickle Slices & Mustard",null,{"$f":"\"\"","v":""},"Taco Sauce & Sour Cream","Ketchup ","Dinner Roll","Salad Bar","Shredded Cheddar Cheese","Salad Bar","Pickle Slices & Mustard",null,{"$f":"\"\"","v":""},"Taco Sauce & Sour Cream","Ketchup ","Mashed Potatoes & Dinner Roll","Broccoli & Cauliflower","Shredded Cheddar Cheese","Peas","Pickle Slices & Mustard",null,{"$f":"\"\"","v":""},"Taco Sauce & Sour Cream","Ketchup ","Dinner Roll","Salad Bar","Shredded Cheddar Cheese","Salad Bar","Pickle Slices & Mustard",null,{"$f":"\"\"","v":""},"Taco Sauce & Sour Cream","Ketchup ","Mashed Potatoes & Dinner Roll","Broccoli & Cauliflower","Shredded Cheddar Cheese","Peas","Pickle Slices & Mustard",null,{"$f":"\"\"","v":""},"Taco Sauce & Sour Cream","Ketchup ","Dinner Roll","Salad Bar","Shredded Cheddar Cheese","Salad Bar","Pickle Slices & Mustard",null,{"$f":"\"\"","v":""},"Taco Sauce & Sour Cream","Ketchup ","Mashed Potatoes & Dinner Roll","Broccoli & Cauliflower","Shredded Lettuce & Cheddar","Dinner Roll & Margarine","Pickle Slices & Mustard",null,{"$f":"\"\"","v":""},"Taco Sauce & Sour Cream","Assorted Chips & Ketchup","Dinner Roll","Salad Bar","Taco Sauce & Shredded Cheddar","Dinner Roll & Margarine","Mustard",null,{"$f":"\"\"","v":""},"Taco Sauce & Sour Cream","Ketchup ","Mashed Potatoes & Dinner Roll","Broccoli & Cauliflower","Shredded Lettuce & Cheddar","Dinner Roll & Margarine","Pickle Slices & Mustard",null,{"$f":"\"\"","v":""},"Taco Sauce & Sour Cream","Assorted Chips & Ketchup","Assorted Chips & Dinner Roll","Dinner Roll","Assorted Chips","Dinner Roll & Margarine","Pickle Slices & Mustard"]
[null,{"$f":"\"\"","v":""},"Shredded Mozzarella","Assorted Chips","Assorted Fruit","Assorted Fruit","Taco Sauce","Assorted Fruit","Cucumbers & Dressing",null,{"$f":"\"\"","v":""},"Shredded Mozzarella","Assorted Chips","Salad Bar","Assorted Fruit","Taco Sauce","Assorted Fruit","Salad Bar",null,{"$f":"\"\"","v":""},"Shredded Mozzarella","Assorted Chips","Assorted Fruit","Assorted Fruit","Taco Sauce","Assorted Fruit","Cucumbers & Dressing",null,{"$f":"\"\"","v":""},"Shredded Mozzarella","Assorted Chips","Salad Bar","Assorted Fruit","Taco Sauce","Assorted Fruit","Salad Bar",null,{"$f":"\"\"","v":""},"Shredded Mozzarella","Assorted Chips","Assorted Fruit","Assorted Fruit","Taco Sauce","Assorted Fruit","Cucumbers & Dressing",null,{"$f":"\"\"","v":""},"Shredded Mozzarella","Assorted Chips","Salad Bar","Assorted Fruit","Taco Sauce","Assorted Fruit","Salad Bar",null,{"$f":"\"\"","v":""},"Crispy Cubes & Shredded Mozzarella","Assorted Chips","Carrots & Dressing","Assorted Fruit","Taco Sauce","Sweet Potatoes & Peas","Cucumbers & Dressing",null,{"$f":"\"\"","v":""},"Shredded Mozzarella","Salad Bar","Salad Bar","Assorted Fruit","Salad Bar","Salad Bar","Salad Bar",null,{"$f":"\"\"","v":""},"Crispy Cubes & Shredded Mozzarella","Assorted Chips","Assorted Chips","Assorted Fruit","Taco Sauce & Sour Cream","Sweet Potatoes & Peas","Cucumbers & Dressing",null,{"$f":"\"\"","v":""},"Shredded Mozzarella","Salad Bar","Salad Bar","Salad Bar","Sour Cream & Shredded Cheddar","Salad Bar","Salad Bar"]
[null,{"$f":"\"\"","v":""},"Crispy Cubes","Coleslaw",{"$f":"\"\"","v":""},{"$f":"\"\"","v":""},"Tomatoes",{"$f":"\"\"","v":""},"Assorted Fruit",null,{"$f":"\"\"","v":""},"Salad Bar","Salad Bar","Assorted Fruit",{"$f":"\"\"","v":""},"Salad Bar",{"$f":"\"\"","v":""},"Assorted Fruit",null,{"$f":"\"\"","v":""},"Crispy Cubes","Coleslaw",{"$f":"\"\"","v":""},{"$f":"\"\"","v":""},"Tomatoes",{"$f":"\"\"","v":""},"Assorted Fruit",null,{"$f":"\"\"","v":""},"Salad Bar","Salad Bar","Assorted Fruit",{"$f":"\"\"","v":""},"Salad Bar",{"$f":"\"\"","v":""},"Assorted Fruit",null,{"$f":"\"\"","v":""},"Crispy Cubes","Coleslaw",{"$f":"\"\"","v":""},{"$f":"\"\"","v":""},"Tomatoes",{"$f":"\"\"","v":""},"Assorted Fruit",null,{"$f":"\"\"","v":""},"Salad Bar","Salad Bar","Assorted Fruit",{"$f":"\"\"","v":""},"Salad Bar",{"$f":"\"\"","v":""},"Assorted Fruit",null,{"$f":"\"\"","v":""},"Red Peppers & Tomatoes","Baked Beans & Coleslaw","Assorted Fruit",{"$f":"\"\"","v":""},"Red Peppers & Tomato","Assorted Fruit","Assorted Fruit",null,{"$f":"\"\"","v":""},"Salad Bar","Assorted Fruit","Assorted Fruit",{"$f":"\"\"","v":""},"Assorted Fruit","Assorted Fruit","Assorted Fruit",null,{"$f":"\"\"","v":""},"Red Peppers & Tomatoes","Baked Beans & Coleslaw","Carrots & Dressing",{"$f":"\"\"","v":""},"Red Peppers & Tomato","Assorted Fruit","Assorted Fruit",null,{"$f":"\"\"","v":""},"Salad Bar","Assorted Fruit","Assorted Fruit","Assorted Fruit","Salad Bar","Assorted Fruit","Assorted Fruit"]
[null,{"$f":"\"\"","v":""},"Assorted Fruit","Assorted Fruit",{"$f":"\"\"","v":""},{"$f":"\"\"","v":""},"Assorted Fruit",{"$f":"\"\"","v":""},{"$f":"\"\"","v":""},null,{"$f":"\"\"","v":""},"Assorted Fruit","Assorted Fruit",{"$f":"\"\"","v":""},{"$f":"\"\"","v":""},"Assorted Fruit",{"$f":"\"\"","v":""},{"$f":"\"\"","v":""},null,{"$f":"\"\"","v":""},"Assorted Fruit","Assorted Fruit",{"$f":"\"\"","v":""},{"$f":"\"\"","v":""},"Assorted Fruit",{"$f":"\"\"","v":""},{"$f":"\"\"","v":""},null,{"$f":"\"\"","v":""},"Assorted Fruit","Assorted Fruit",{"$f":"\"\"","v":""},{"$f":"\"\"","v":""},"Assorted Fruit",{"$f":"\"\"","v":""},{"$f":"\"\"","v":""},null,{"$f":"\"\"","v":""},"Assorted Fruit","Assorted Fruit",{"$f":"\"\"","v":""},{"$f":"\"\"","v":""},"Assorted Fruit",{"$f":"\"\"","v":""},{"$f":"\"\"","v":""},null,{"$f":"\"\"","v":""},"Assorted Fruit","Assorted Fruit",{"$f":"\"\"","v":""},{"$f":"\"\"","v":""},"Assorted Fruit",{"$f":"\"\"","v":""},{"$f":"\"\"","v":""},null,{"$f":"\"\"","v":""},"Assorted Fruit","Assorted Fruit",{"$f":"\"\"","v":""},{"$f":"\"\"","v":""},"Assorted Fruit",{"$f":"\"\"","v":""},{"$f":"\"\"","v":""},null,{"$f":"\"\"","v":""},"Assorted Fruit",{"$f":"\"\"","v":""},{"$f":"\"\"","v":""},{"$f":"\"\"","v":""},{"$f":"\"\"","v":""},{"$f":"\"\"","v":""},{"$f":"\"\"","v":""},null,{"$f":"\"\"","v":""},"Assorted Fruit","Assorted Fruit","Assorted Fruit",{"$f":"\"\"","v":""},"Assorted Fruit",{"$f":"\"\"","v":""},{"$f":"\"\"","v":""},null,{"$f":"\"\"","v":""},"Assorted Fruit",{"$f":"\"\"","v":""},{"$f":"\"\"","v":""},{"$f":"\"\"","v":""},"Assorted Fruit",{"$f":"\"\"","v":""},{"$f":"\"\"","v":""}]
[null,"Week 29",{"$f":"\"\"","v":""},{"$f":"\"\"","v":""},{"$f":"\"\"","v":""},{"$f":"\"\"","v":""},{"$f":"\"\"","v":""},{"$f":"\"\"","v":""},{"$f":"\"\"","v":""},null,"Week 29",{"$f":"\"\"","v":""},{"$f":"\"\"","v":""},{"$f":"\"\"","v":""},{"$f":"\"\"","v":""},{"$f":"\"\"","v":""},{"$f":"\"\"","v":""},{"$f":"\"\"","v":""},null,"Week 29",{"$f":"\"\"","v":""},{"$f":"\"\"","v":""},{"$f":"\"\"","v":""},{"$f":"\"\"","v":""},{"$f":"\"\"","v":""},{"$f":"\"\"","v":""},{"$f":"\"\"","v":""},null,"Week 29",{"$f":"\"\"","v":""},{"$f":"\"\"","v":""},{"$f":"\"\"","v":""},{"$f":"\"\"","v":""},{"$f":"\"\"","v":""},{"$f":"\"\"","v":""},{"$f":"\"\"","v":""},null,"Week 29",{"$f":"\"\"","v":""},{"$f":"\"\"","v":""},{"$f":"\"\"","v":""},{"$f":"\"\"","v":""},{"$f":"\"\"","v":""},{"$f":"\"\"","v":""},{"$f":"\"\"","v":""},null,"Week 29",{"$f":"\"\"","v":""},{"$f":"\"\"","v":""},{"$f":"\"\"","v":""},{"$f":"\"\"","v":""},{"$f":"\"\"","v":""},{"$f":"\"\"","v":""},{"$f":"\"\"","v":""},null,"Week 29",{"$f":"\"\"","v":""},{"$f":"\"\"","v":""},{"$f":"\"\"","v":""},{"$f":"\"\"","v":""},{"$f":"\"\"","v":""},{"$f":"\"\"","v":""},{"$f":"\"\"","v":""},null,"Week 29",{"$f":"\"\"","v":""},{"$f":"\"\"","v":""},{"$f":"\"\"","v":""},{"$f":"\"\"","v":""},{"$f":"\"\"","v":""},{"$f":"\"\"","v":""},{"$f":"\"\"","v":""},null,"Week 29",{"$f":"\"\"","v":""},{"$f":"\"\"","v":""},{"$f":"\"\"","v":""},{"$f":"\"\"","v":""},{"$f":"\"\"","v":""},{"$f":"\"\"","v":""},{"$f":"\"\"","v":""},null,"Week 29",{"$f":"\"\"","v":""},{"$f":"\"\"","v":""},{"$f":"\"\"","v":""},{"$f":"\"\"","v":""},{"$f":"\"\"","v":""},{"$f":"\"\"","v":""},{"$f":"\"\"","v":""}]
[null,{"$f":"\"\"","v":""},"Chicken and Cheese Biscuit","Tex Mex Chicken Alfredo","Beef & Potato Wrap","Teriyaki Chicken Bowl","Taco Joe","BBQ Chicken Sandwich","Beef Curry",null,{"$f":"\"\"","v":""},"Chicken and Cheese Biscuit","Tex Mex Chicken Alfredo","Beef & Potato Wrap","Teriyaki Chicken Bowl","Taco Joe","BBQ Chicken Sandwich","Beef Curry",null,{"$f":"\"\"","v":""},"Chicken and Cheese Biscuit","Tex Mex Chicken Alfredo","Beef & Potato Wrap","Teriyaki Chicken Bowl","Taco Joe","BBQ Chicken Sandwich","Beef Curry",null,{"$f":"\"\"","v":""},"Chicken and Cheese Biscuit","Tex Mex Chicken Alfredo","Beef & Potato Wrap","Teriyaki Chicken Bowl","Taco Joe","BBQ Chicken Sandwich","Beef Curry",null,{"$f":"\"\"","v":""},"Chicken and Cheese Biscuit","Tex Mex Chicken Alfredo","Beef & Potato Wrap","Teriyaki Chicken Bowl","Taco Joe","BBQ Chicken Sandwich","Beef Curry",null,{"$f":"\"\"","v":""},"Chicken and Cheese Biscuit","Tex Mex Chicken Alfredo","Beef & Potato Wrap","Teriyaki Chicken Bowl","Taco Joe","BBQ Chicken Sandwich","Beef Curry",null,{"$f":"\"\"","v":""},"Chicken and Cheese Biscuit","Tex Mex Chicken Alfredo","Beef & Potato Wrap","Teriyaki Chicken Bowl","Taco Joe","BBQ Chicken Sandwich","Beef Curry",null,{"$f":"\"\"","v":""},"Chicken and Cheese Biscuit","Tex Mex Chicken Alfredo","Beef & Potato Wrap","Teriyaki Chicken Bowl","Taco Joe","BBQ Chicken Sandwich","Beef Curry",null,{"$f":"\"\"","v":""},"Chicken and Cheese Biscuit","Tex Mex Chicken Alfredo","Beef & Potato Wrap","Teriyaki Chicken Bowl","Taco Joe","BBQ Chicken Sandwich","Beef Curry",null,{"$f":"\"\"","v":""},"Chicken and Cheese Biscuit","Tex Mex Chicken Alfredo","Beef & Potato Wrap","Teriyaki Chicken Bowl","Taco Joe","BBQ Chicken Sandwich","Beef Curry"]
[null,{"$f":"\"\"","v":""},"Breakfast Potato with Peppers","Shredded Cabbage","Shredded Cheddar Cheese","Cilantro Brown Rice","Carrots & Dressing","Coleslaw","Cilantro Brown Rice",null,{"$f":"\"\"","v":""},"Salad Bar","Salad Bar","Shredded Cheddar Cheese","Cilantro Brown Rice","Salad Bar","Salad Bar","Cilantro Brown Rice",null,{"$f":"\"\"","v":""},"Breakfast Potato with Peppers","Shredded Cabbage","Shredded Cheddar Cheese","Cilantro Brown Rice","Carrots & Dressing","Coleslaw","Cilantro Brown Rice",null,{"$f":"\"\"","v":""},"Salad Bar","Salad Bar","Shredded Cheddar Cheese","Cilantro Brown Rice","Salad Bar","Salad Bar","Cilantro Brown Rice",null,{"$f":"\"\"","v":""},"Breakfast Potato with Peppers","Shredded Cabbage","Shredded Cheddar Cheese","Cilantro Brown Rice","Carrots & Dressing","Coleslaw","Cilantro Brown Rice",null,{"$f":"\"\"","v":""},"Salad Bar","Salad Bar","Shredded Cheddar Cheese","Cilantro Brown Rice","Salad Bar","Salad Bar","Cilantro Brown Rice",null,{"$f":"\"\"","v":""},"Breakfast Potato with Peppers","Shredded Cabbage & Corn","Shredded Cheddar","Cilantro Brown Rice","Carrots & Dressing","Coleslaw","Cilantro Brown Rice",null,{"$f":"\"\"","v":""},"Salad Bar","Salad Bar","Shredded Cheddar & Ranchaboom! Sauce","Cilantro Brown Rice","Salad Bar","Salad Bar","Cilantro Brown Rice",null,{"$f":"\"\"","v":""},"Breakfast Potato with Peppers","Assorted Chips","Shredded Cheddar","Cilantro Brown Rice","Assorted Chips","Coleslaw","Cilantro Brown Rice",null,{"$f":"\"\"","v":""},"Salad Bar","Assorted Chips","Assorted Chips","Cilantro Brown Rice","Assorted Chips","Assorted Chips","Cilantro Brown Rice"]
[null,{"$f":"\"\"","v":""},"Assorted Fruit","Assorted Fruit","RanchaBoom! Sauce","Broccoli","Assorted Fruit","Assorted Fruit","Snap Peas & Dressing",null,{"$f":"\"\"","v":""},"Assorted Fruit","Assorted Fruit","RanchaBoom! Sauce","Salad Bar","Assorted Fruit","Assorted Fruit","Salad Bar",null,{"$f":"\"\"","v":""},"Assorted Fruit","Assorted Fruit","RanchaBoom! Sauce","Broccoli","Assorted Fruit","Assorted Fruit","Snap Peas & Dressing",null,{"$f":"\"\"","v":""},"Assorted Fruit","Assorted Fruit","RanchaBoom! Sauce","Salad Bar","Assorted Fruit","Assorted Fruit","Salad Bar",null,{"$f":"\"\"","v":""},"Assorted Fruit","Assorted Fruit","RanchaBoom! Sauce","Broccoli","Assorted Fruit","Assorted Fruit","Snap Peas & Dressing",null,{"$f":"\"\"","v":""},"Assorted Fruit","Assorted Fruit","RanchaBoom! Sauce","Salad Bar","Assorted Fruit","Assorted Fruit","Salad Bar",null,{"$f":"\"\"","v":""},"Assorted Fruit","Assorted Fruit","RanchaBoom! Sauce","Broccoli & Cauliflower","Assorted Fruit","Assorted Fruit","Side Salad & Dressing",null,{"$f":"\"\"","v":""},"Assorted Fruit","Assorted Fruit","Salad Bar","Salad Bar","Assorted Fruit","Assorted Fruit","Salad Bar",null,{"$f":"\"\"","v":""},"Assorted Fruit","Shredded Cabbage & Corn","RanchaBoom! Sauce","Dinner Roll","Carrots & Dressing","Assorted Fruit","Assorted Chips",null,{"$f":"\"\"","v":""},"Assorted Fruit","Salad Bar","Shredded Cheddar & Ranchaboom! Sauce","Dinner Roll","Shredded Cheddar Cheese","Salad Bar","Assorted Chips"]
[null,{"$f":"\"\"","v":""},{"$f":"\"\"","v":""},{"$f":"\"\"","v":""},"Tomatoes","Assorted Fruit",{"$f":"\"\"","v":""},{"$f":"\"\"","v":""},"Assorted Fruit",null,{"$f":"\"\"","v":""},{"$f":"\"\"","v":""},{"$f":"\"\"","v":""},"Salad Bar","Assorted Fruit",{"$f":"\"\"","v":""},{"$f":"\"\"","v":""},"Assorted Fruit",null,{"$f":"\"\"","v":""},{"$f":"\"\"","v":""},{"$f":"\"\"","v":""},"Tomatoes","Assorted Fruit",{"$f":"\"\"","v":""},{"$f":"\"\"","v":""},"Assorted Fruit",null,{"$f":"\"\"","v":""},{"$f":"\"\"","v":""},{"$f":"\"\"","v":""},"Salad Bar","Assorted Fruit",{"$f":"\"\"","v":""},{"$f":"\"\"","v":""},"Assorted Fruit",null,{"$f":"\"\"","v":""},{"$f":"\"\"","v":""},{"$f":"\"\"","v":""},"Tomatoes","Assorted Fruit",{"$f":"\"\"","v":""},{"$f":"\"\"","v":""},"Assorted Fruit",null,{"$f":"\"\"","v":""},{"$f":"\"\"","v":""},{"$f":"\"\"","v":""},"Salad Bar","Assorted Fruit",{"$f":"\"\"","v":""},{"$f":"\"\"","v":""},"Assorted Fruit",null,{"$f":"\"\"","v":""},{"$f":"\"\"","v":""},{"$f":"\"\"","v":""},"Tomatoes & Black Beans","Assorted Fruit",{"$f":"\"\"","v":""},{"$f":"\"\"","v":""},"Snap Peas",null,{"$f":"\"\"","v":""},{"$f":"\"\"","v":""},{"$f":"\"\"","v":""},"Assorted Fruit","Assorted Fruit",{"$f":"\"\"","v":""},{"$f":"\"\"","v":""},"Assorted Fruit",null,{"$f":"\"\"","v":""},{"$f":"\"\"","v":""},"Assorted Fruit","Tomatoes & Black Beans","Broccoli & Cauliflower","Assorted Fruit",{"$f":"\"\"","v":""},"Side Salad, Snap Peas & Dressing",null,{"$f":"\"\"","v":""},{"$f":"\"\"","v":""},"Assorted Fruit","Salad Bar","Salad Bar","Salad Bar","Assorted Fruit","Salad Bar"]
[null,{"$f":"\"\"","v":""},{"$f":"\"\"","v":""},{"$f":"\"\"","v":""},"Assorted Fruit",{"$f":"\"\"","v":""},{"$f":"\"\"","v":""},{"$f":"\"\"","v":""},{"$f":"\"\"","v":""},null,{"$f":"\"\"","v":""},{"$f":"\"\"","v":""},{"$f":"\"\"","v":""},"Assorted Fruit",{"$f":"\"\"","v":""},{"$f":"\"\"","v":""},{"$f":"\"\"","v":""},{"$f":"\"\"","v":""},null,{"$f":"\"\"","v":""},{"$f":"\"\"","v":""},{"$f":"\"\"","v":""},"Assorted Fruit",{"$f":"\"\"","v":""},{"$f":"\"\"","v":""},{"$f":"\"\"","v":""},{"$f":"\"\"","v":""},null,{"$f":"\"\"","v":""},{"$f":"\"\"","v":""},{"$f":"\"\"","v":""},"Assorted Fruit",{"$f":"\"\"","v":""},{"$f":"\"\"","v":""},{"$f":"\"\"","v":""},{"$f":"\"\"","v":""},null,{"$f":"\"\"","v":""},{"$f":"\"\"","v":""},{"$f":"\"\"","v":""},"Assorted Fruit",{"$f":"\"\"","v":""},{"$f":"\"\"","v":""},{"$f":"\"\"","v":""},{"$f":"\"\"","v":""},null,{"$f":"\"\"","v":""},{"$f":"\"\"","v":""},{"$f":"\"\"","v":""},"Assorted Fruit",{"$f":"\"\"","v":""},{"$f":"\"\"","v":""},{"$f":"\"\"","v":""},{"$f":"\"\"","v":""},null,{"$f":"\"\"","v":""},{"$f":"\"\"","v":""},{"$f":"\"\"","v":""},"Assorted Fruit",{"$f":"\"\"","v":""},{"$f":"\"\"","v":""},{"$f":"\"\"","v":""},"Assorted Fruit",null,{"$f":"\"\"","v":""},{"$f":"\"\"","v":""},{"$f":"\"\"","v":""},{"$f":"\"\"","v":""},{"$f":"\"\"","v":""},{"$f":"\"\"","v":""},{"$f":"\"\"","v":""},{"$f":"\"\"","v":""},null,{"$f":"\"\"","v":""},{"$f":"\"\"","v":""},{"$f":"\"\"","v":""},"Assorted Fruit","Assorted Fruit",{"$f":"\"\"","v":""},{"$f":"\"\"","v":""},"Assorted Fruit",null,{"$f":"\"\"","v":""},{"$f":"\"\"","v":""},{"$f":"\"\"","v":""},"Assorted Fruit","Assorted Fruit","Assorted Fruit",{"$f":"\"\"","v":""},"Assorted Fruit"]
[null,"Week 30",{"$f":"\"\"","v":""},{"$f":"\"\"","v":""},{"$f":"\"\"","v":""},{"$f":"\"\"","v":""},{"$f":"\"\"","v":""},{"$f":"\"\"","v":""},{"$f":"\"\"","v":""},null,"Week 30",{"$f":"\"\"","v":""},{"$f":"\"\"","v":""},{"$f":"\"\"","v":""},{"$f":"\"\"","v":""},{"$f":"\"\"","v":""},{"$f":"\"\"","v":""},{"$f":"\"\"","v":""},null,"Week 30",{"$f":"\"\"","v":""},{"$f":"\"\"","v":""},{"$f":"\"\"","v":""},{"$f":"\"\"","v":""},{"$f":"\"\"","v":""},{"$f":"\"\"","v":""},{"$f":"\"\"","v":""},null,"Week 30",{"$f":"\"\"","v":""},{"$f":"\"\"","v":""},{"$f":"\"\"","v":""},{"$f":"\"\"","v":""},{"$f":"\"\"","v":""},{"$f":"\"\"","v":""},{"$f":"\"\"","v":""},null,"Week 30",{"$f":"\"\"","v":""},{"$f":"\"\"","v":""},{"$f":"\"\"","v":""},{"$f":"\"\"","v":""},{"$f":"\"\"","v":""},{"$f":"\"\"","v":""},{"$f":"\"\"","v":""},null,"Week 30",{"$f":"\"\"","v":""},{"$f":"\"\"","v":""},{"$f":"\"\"","v":""},{"$f":"\"\"","v":""},{"$f":"\"\"","v":""},{"$f":"\"\"","v":""},{"$f":"\"\"","v":""},null,"Week 30",{"$f":"\"\"","v":""},{"$f":"\"\"","v":""},{"$f":"\"\"","v":""},{"$f":"\"\"","v":""},{"$f":"\"\"","v":""},{"$f":"\"\"","v":""},{"$f":"\"\"","v":""},null,"Week 30",{"$f":"\"\"","v":""},{"$f":"\"\"","v":""},{"$f":"\"\"","v":""},{"$f":"\"\"","v":""},{"$f":"\"\"","v":""},{"$f":"\"\"","v":""},{"$f":"\"\"","v":""},null,"Week 30",{"$f":"\"\"","v":""},{"$f":"\"\"","v":""},{"$f":"\"\"","v":""},{"$f":"\"\"","v":""},{"$f":"\"\"","v":""},{"$f":"\"\"","v":""},{"$f":"\"\"","v":""},null,"Week 30",{"$f":"\"\"","v":""},{"$f":"\"\"","v":""},{"$f":"\"\"","v":""},{"$f":"\"\"","v":""},{"$f":"\"\"","v":""},{"$f":"\"\"","v":""},{"$f":"\"\"","v":""}]
[null,{"$f":"\"\"","v":""},"Brunch Fried Rice","Buffalo Chicken Sandwich","Mongolian Meatballs ","Gold Coast Chicken","Verde Pork Tacos","Chicken Satay Bowl","Cheese Calzone",null,{"$f":"\"\"","v":""},"Brunch Fried Rice","Buffalo Chicken Sandwich","Mongolian Meatballs ","Gold Coast Chicken","Verde Pork Tacos","Chicken Satay Bowl","Cheese Calzone",null,{"$f":"\"\"","v":""},"Brunch Fried Rice","Buffalo Chicken Sandwich","Mongolian Meatballs ","Gold Coast Chicken","Verde Pork Tacos","Chicken Satay Bowl","Cheese Calzone",null,{"$f":"\"\"","v":""},"Brunch Fried Rice","Buffalo Chicken Sandwich","Mongolian Meatballs ","Gold Coast Chicken","Verde Pork Tacos","Chicken Satay Bowl","Cheese Calzone",null,{"$f":"\"\"","v":""},"Brunch Fried Rice","Buffalo Chicken Sandwich","Mongolian Meatballs ","Gold Coast Chicken","Verde Pork Tacos","Chicken Satay Bowl","Cheese Calzone",null,{"$f":"\"\"","v":""},"Brunch Fried Rice","Buffalo Chicken Sandwich","Mongolian Meatballs ","Gold Coast Chicken","Verde Pork Tacos","Chicken Satay Bowl","Cheese Calzone",null,{"$f":"\"\"","v":""},"Brunch Fried Rice","Buffalo Chicken Sandwich","Mongolian Meatballs ","Gold Coast Chicken","Verde Pork Tacos","Chicken Satay Bowl","Cheese Calzone",null,{"$f":"\"\"","v":""},"Brunch Fried Rice","Buffalo Chicken Sandwich","Mongolian Meatballs ","Gold Coast Chicken","Verde Pork Tacos","Chicken Satay Bowl","Cheese Calzone",null,{"$f":"\"\"","v":""},"Brunch Fried Rice","Buffalo Chicken Sandwich","Mongolian Meatballs ","Gold Coast Chicken","Verde Pork Tacos","Chicken Satay Bowl","Cheese Calzone",null,{"$f":"\"\"","v":""},"Brunch Fried Rice","Buffalo Chicken Sandwich","Mongolian Meatballs ","Gold Coast Chicken","Verde Pork Tacos","Chicken Satay Bowl","Cheese Calzone"]
[null,{"$f":"\"\"","v":""},"Green Beans","Baked Beans","Garlic Brown Rice","Assorted Chips","Corn","Cilantro Brown Rice","Garden Salad & Dressing",null,{"$f":"\"\"","v":""},"Salad Bar","Salad Bar","Garlic Brown Rice","Assorted Chips","Salad Bar","Cilantro Brown Rice","Salad Bar",null,{"$f":"\"\"","v":""},"Green Beans","Baked Beans","Garlic Brown Rice","Assorted Chips","Corn","Cilantro Brown Rice","Garden Salad & Dressing",null,{"$f":"\"\"","v":""},"Salad Bar","Salad Bar","Garlic Brown Rice","Assorted Chips","Salad Bar","Cilantro Brown Rice","Salad Bar",null,{"$f":"\"\"","v":""},"Green Beans","Baked Beans","Garlic Brown Rice","Assorted Chips","Corn","Cilantro Brown Rice","Garden Salad & Dressing",null,{"$f":"\"\"","v":""},"Salad Bar","Salad Bar","Garlic Brown Rice","Assorted Chips","Salad Bar","Cilantro Brown Rice","Salad Bar",null,{"$f":"\"\"","v":""},"Dinner Roll & Margarine","Assorted Chips","Garlic Brown Rice","Garlic Brown Rice","Shredded Lettuce","Cilantro Brown Rice","Garden Salad & Dressing",null,{"$f":"\"\"","v":""},"Dinner Roll","Assorted Chips","Garlic Brown Rice","Assorted Chips","Salad Bar","Cilantro Brown Rice","Salad Bar",null,{"$f":"\"\"","v":""},"Dinner Roll & Margarine","Assorted Chips","Garlic Brown Rice","Garlic Brown Rice","Shredded Lettuce & Tomato","Dinner Roll","Garden Salad & Dressing",null,{"$f":"\"\"","v":""},"Dinner Roll & Margarine","Assorted Chips","Garlic Brown Rice","Garlic Brown Rice","Salad Bar","Cilantro Brown Rice","Salad Bar"]
[null,{"$f":"\"\"","v":""},"Assorted Fruit","Assorted Fruit","Broccoli","Carrots & Dressing","Assorted Fruit","Cucumbers & Dressing","Assorted Fruit",null,{"$f":"\"\"","v":""},"Assorted Fruit","Assorted Fruit","Salad Bar","Salad Bar","Assorted Fruit","Salad Bar","Assorted Fruit",null,{"$f":"\"\"","v":""},"Assorted Fruit","Assorted Fruit","Broccoli","Carrots & Dressing","Assorted Fruit","Cucumbers & Dressing","Assorted Fruit",null,{"$f":"\"\"","v":""},"Assorted Fruit","Assorted Fruit","Salad Bar","Salad Bar","Assorted Fruit","Salad Bar","Assorted Fruit",null,{"$f":"\"\"","v":""},"Assorted Fruit","Assorted Fruit","Broccoli","Carrots & Dressing","Assorted Fruit","Cucumbers & Dressing","Assorted Fruit",null,{"$f":"\"\"","v":""},"Assorted Fruit","Assorted Fruit","Salad Bar","Salad Bar","Assorted Fruit","Salad Bar","Assorted Fruit",null,{"$f":"\"\"","v":""},"Green Beans","Baked Beans & Cabbage","Broccoli & Cauliflower","Carrots & Dressing","Corn","Cucumbers & Dressing","Assorted Fruit",null,{"$f":"\"\"","v":""},"Salad Bar","Salad Bar","Salad Bar","Salad Bar","Assorted Fruit","Salad Bar","Assorted Fruit",null,{"$f":"\"\"","v":""},"Green Beans","Baked Beans & Coleslaw","Dinner Roll","Carrots & Dressing","Corn","Cucumbers & Dressing","Assorted Fruit",null,{"$f":"\"\"","v":""},"Salad Bar","Salad Bar","Dinner Roll","Assorted Chips","Assorted Fruit","Dinner Roll","Assorted Fruit"]
[null,{"$f":"\"\"","v":""},{"$f":"\"\"","v":""},{"$f":"\"\"","v":""},"Assorted Fruit","Assorted Fruit",{"$f":"\"\"","v":""},"Assorted Fruit",{"$f":"\"\"","v":""},null,{"$f":"\"\"","v":""},{"$f":"\"\"","v":""},{"$f":"\"\"","v":""},"Assorted Fruit","Assorted Fruit",{"$f":"\"\"","v":""},"Assorted Fruit",{"$f":"\"\"","v":""},null,{"$f":"\"\"","v":""},{"$f":"\"\"","v":""},{"$f":"\"\"","v":""},"Assorted Fruit","Assorted Fruit",{"$f":"\"\"","v":""},"Assorted Fruit",{"$f":"\"\"","v":""},null,{"$f":"\"\"","v":""},{"$f":"\"\"","v":""},{"$f":"\"\"","v":""},"Assorted Fruit","Assorted Fruit",{"$f":"\"\"","v":""},"Assorted Fruit",{"$f":"\"\"","v":""},null,{"$f":"\"\"","v":""},{"$f":"\"\"","v":""},{"$f":"\"\"","v":""},"Assorted Fruit","Assorted Fruit",{"$f":"\"\"","v":""},"Assorted Fruit",{"$f":"\"\"","v":""},null,{"$f":"\"\"","v":""},{"$f":"\"\"","v":""},{"$f":"\"\"","v":""},"Assorted Fruit","Assorted Fruit",{"$f":"\"\"","v":""},"Assorted Fruit",{"$f":"\"\"","v":""},null,{"$f":"\"\"","v":""},"Assorted Fruit","Assorted Fruit","Assorted Fruit","Assorted Fruit","Assorted Fruit","Assorted Fruit",{"$f":"\"\"","v":""},null,{"$f":"\"\"","v":""},"Assorted Fruit","Assorted Fruit","Assorted Fruit","Assorted Fruit",{"$f":"\"\"","v":""},"Assorted Fruit",{"$f":"\"\"","v":""},null,{"$f":"\"\"","v":""},"Assorted Fruit","Assorted Fruit","Broccoli & Cauliflower","Assorted Fruit","Assorted Fruit","Assorted Fruit",{"$f":"\"\"","v":""},null,{"$f":"\"\"","v":""},"Assorted Fruit","Assorted Fruit","Salad Bar","Salad Bar",{"$f":"\"\"","v":""},"Salad Bar",{"$f":"\"\"","v":""}]
[null,{"$f":"\"\"","v":""},{"$f":"\"\"","v":""},{"$f":"\"\"","v":""},{"$f":"\"\"","v":""},{"$f":"\"\"","v":""},{"$f":"\"\"","v":""},{"$f":"\"\"","v":""},{"$f":"\"\"","v":""},null,{"$f":"\"\"","v":""},{"$f":"\"\"","v":""},{"$f":"\"\"","v":""},{"$f":"\"\"","v":""},{"$f":"\"\"","v":""},{"$f":"\"\"","v":""},{"$f":"\"\"","v":""},{"$f":"\"\"","v":""},null,{"$f":"\"\"","v":""},{"$f":"\"\"","v":""},{"$f":"\"\"","v":""},{"$f":"\"\"","v":""},{"$f":"\"\"","v":""},{"$f":"\"\"","v":""},{"$f":"\"\"","v":""},{"$f":"\"\"","v":""},null,{"$f":"\"\"","v":""},{"$f":"\"\"","v":""},{"$f":"\"\"","v":""},{"$f":"\"\"","v":""},{"$f":"\"\"","v":""},{"$f":"\"\"","v":""},{"$f":"\"\"","v":""},{"$f":"\"\"","v":""},null,{"$f":"\"\"","v":""},{"$f":"\"\"","v":""},{"$f":"\"\"","v":""},{"$f":"\"\"","v":""},{"$f":"\"\"","v":""},{"$f":"\"\"","v":""},{"$f":"\"\"","v":""},{"$f":"\"\"","v":""},null,{"$f":"\"\"","v":""},{"$f":"\"\"","v":""},{"$f":"\"\"","v":""},{"$f":"\"\"","v":""},{"$f":"\"\"","v":""},{"$f":"\"\"","v":""},{"$f":"\"\"","v":""},{"$f":"\"\"","v":""},null,{"$f":"\"\"","v":""},{"$f":"\"\"","v":""},{"$f":"\"\"","v":""},{"$f":"\"\"","v":""},{"$f":"\"\"","v":""},{"$f":"\"\"","v":""},{"$f":"\"\"","v":""},{"$f":"\"\"","v":""},null,{"$f":"\"\"","v":""},{"$f":"\"\"","v":""},{"$f":"\"\"","v":""},{"$f":"\"\"","v":""},{"$f":"\"\"","v":""},{"$f":"\"\"","v":""},{"$f":"\"\"","v":""},{"$f":"\"\"","v":""},null,{"$f":"\"\"","v":""},{"$f":"\"\"","v":""},{"$f":"\"\"","v":""},"Assorted Fruit",{"$f":"\"\"","v":""},{"$f":"\"\"","v":""},{"$f":"\"\"","v":""},{"$f":"\"\"","v":""},null,{"$f":"\"\"","v":""},{"$f":"\"\"","v":""},{"$f":"\"\"","v":""},"Assorted Fruit","Assorted Fruit",{"$f":"\"\"","v":""},"Assorted Fruit",{"$f":"\"\"","v":""}]
[null,"Week 31",{"$f":"\"\"","v":""},{"$f":"\"\"","v":""},{"$f":"\"\"","v":""},{"$f":"\"\"","v":""},{"$f":"\"\"","v":""},{"$f":"\"\"","v":""},{"$f":"\"\"","v":""},null,"Week 31",{"$f":"\"\"","v":""},{"$f":"\"\"","v":""},{"$f":"\"\"","v":""},{"$f":"\"\"","v":""},{"$f":"\"\"","v":""},{"$f":"\"\"","v":""},{"$f":"\"\"","v":""},null,"Week 31",{"$f":"\"\"","v":""},{"$f":"\"\"","v":""},{"$f":"\"\"","v":""},{"$f":"\"\"","v":""},{"$f":"\"\"","v":""},{"$f":"\"\"","v":""},{"$f":"\"\"","v":""},null,"Week 31",{"$f":"\"\"","v":""},{"$f":"\"\"","v":""},{"$f":"\"\"","v":""},{"$f":"\"\"","v":""},{"$f":"\"\"","v":""},{"$f":"\"\"","v":""},{"$f":"\"\"","v":""},null,"Week 31",{"$f":"\"\"","v":""},{"$f":"\"\"","v":""},{"$f":"\"\"","v":""},{"$f":"\"\"","v":""},{"$f":"\"\"","v":""},{"$f":"\"\"","v":""},{"$f":"\"\"","v":""},null,"Week 31",{"$f":"\"\"","v":""},{"$f":"\"\"","v":""},{"$f":"\"\"","v":""},{"$f":"\"\"","v":""},{"$f":"\"\"","v":""},{"$f":"\"\"","v":""},{"$f":"\"\"","v":""},null,"Week 31",{"$f":"\"\"","v":""},{"$f":"\"\"","v":""},{"$f":"\"\"","v":""},{"$f":"\"\"","v":""},{"$f":"\"\"","v":""},{"$f":"\"\"","v":""},{"$f":"\"\"","v":""},null,"Week 31",{"$f":"\"\"","v":""},{"$f":"\"\"","v":""},{"$f":"\"\"","v":""},{"$f":"\"\"","v":""},{"$f":"\"\"","v":""},{"$f":"\"\"","v":""},{"$f":"\"\"","v":""},null,"Week 31",{"$f":"\"\"","v":""},{"$f":"\"\"","v":""},{"$f":"\"\"","v":""},{"$f":"\"\"","v":""},{"$f":"\"\"","v":""},{"$f":"\"\"","v":""},{"$f":"\"\"","v":""},null,"Week 31",{"$f":"\"\"","v":""},{"$f":"\"\"","v":""},{"$f":"\"\"","v":""},{"$f":"\"\"","v":""},{"$f":"\"\"","v":""},{"$f":"\"\"","v":""},{"$f":"\"\"","v":""}]
[null,{"$f":"\"\"","v":""},{"$f":"\"\"","v":""},{"$f":"\"\"","v":""},{"$f":"\"\"","v":""},{"$f":"\"\"","v":""},{"$f":"\"\"","v":""},{"$f":"\"\"","v":""},{"$f":"\"\"","v":""},null,{"$f":"\"\"","v":""},{"$f":"\"\"","v":""},{"$f":"\"\"","v":""},{"$f":"\"\"","v":""},{"$f":"\"\"","v":""},{"$f":"\"\"","v":""},{"$f":"\"\"","v":""},{"$f":"\"\"","v":""},null,{"$f":"\"\"","v":""},{"$f":"\"\"","v":""},{"$f":"\"\"","v":""},{"$f":"\"\"","v":""},{"$f":"\"\"","v":""},{"$f":"\"\"","v":""},{"$f":"\"\"","v":""},{"$f":"\"\"","v":""},null,{"$f":"\"\"","v":""},{"$f":"\"\"","v":""},{"$f":"\"\"","v":""},{"$f":"\"\"","v":""},{"$f":"\"\"","v":""},{"$f":"\"\"","v":""},{"$f":"\"\"","v":""},{"$f":"\"\"","v":""},null,{"$f":"\"\"","v":""},{"$f":"\"\"","v":""},{"$f":"\"\"","v":""},{"$f":"\"\"","v":""},{"$f":"\"\"","v":""},{"$f":"\"\"","v":""},{"$f":"\"\"","v":""},{"$f":"\"\"","v":""},null,{"$f":"\"\"","v":""},{"$f":"\"\"","v":""},{"$f":"\"\"","v":""},{"$f":"\"\"","v":""},{"$f":"\"\"","v":""},{"$f":"\"\"","v":""},{"$f":"\"\"","v":""},{"$f":"\"\"","v":""},null,{"$f":"\"\"","v":""},"Garden Salad","Turkey Sandwich","Pastrami Sandwich","Old Fashioned Chicken Wrap","Yogurt Parfait","Breakfast for Lunch","Turkey Croissant",null,{"$f":"\"\"","v":""},{"$f":"\"\"","v":""},{"$f":"\"\"","v":""},{"$f":"\"\"","v":""},{"$f":"\"\"","v":""},{"$f":"\"\"","v":""},{"$f":"\"\"","v":""},{"$f":"\"\"","v":""},null,{"$f":"\"\"","v":""},"Garden Salad","Turkey Sandwich","Pastrami Sandwich","Old Fashioned Chicken Wrap","Yogurt Parfait","Breakfast for Lunch","Turkey Croissant",null,{"$f":"\"\"","v":""},{"$f":"\"\"","v":""},{"$f":"\"\"","v":""},{"$f":"\"\"","v":""},{"$f":"\"\"","v":""},{"$f":"\"\"","v":""},{"$f":"\"\"","v":""},{"$f":"\"\"","v":""}]
[null,{"$f":"\"\"","v":""},{"$f":"\"\"","v":""},{"$f":"\"\"","v":""},{"$f":"\"\"","v":""},{"$f":"\"\"","v":""},{"$f":"\"\"","v":""},{"$f":"\"\"","v":""},{"$f":"\"\"","v":""},null,{"$f":"\"\"","v":""},{"$f":"\"\"","v":""},{"$f":"\"\"","v":""},{"$f":"\"\"","v":""},{"$f":"\"\"","v":""},{"$f":"\"\"","v":""},{"$f":"\"\"","v":""},{"$f":"\"\"","v":""},null,{"$f":"\"\"","v":""},{"$f":"\"\"","v":""},{"$f":"\"\"","v":""},{"$f":"\"\"","v":""},{"$f":"\"\"","v":""},{"$f":"\"\"","v":""},{"$f":"\"\"","v":""},{"$f":"\"\"","v":""},null,{"$f":"\"\"","v":""},{"$f":"\"\"","v":""},{"$f":"\"\"","v":""},{"$f":"\"\"","v":""},{"$f":"\"\"","v":""},{"$f":"\"\"","v":""},{"$f":"\"\"","v":""},{"$f":"\"\"","v":""},null,{"$f":"\"\"","v":""},{"$f":"\"\"","v":""},{"$f":"\"\"","v":""},{"$f":"\"\"","v":""},{"$f":"\"\"","v":""},{"$f":"\"\"","v":""},{"$f":"\"\"","v":""},{"$f":"\"\"","v":""},null,{"$f":"\"\"","v":""},{"$f":"\"\"","v":""},{"$f":"\"\"","v":""},{"$f":"\"\"","v":""},{"$f":"\"\"","v":""},{"$f":"\"\"","v":""},{"$f":"\"\"","v":""},{"$f":"\"\"","v":""},null,{"$f":"\"\"","v":""},"w/ Dressing","Shredded Lettuce","Mayo Packets","Corn & Cabbage","Red Pepper & Dressing","Carrots & Broccoli","Carrots & Dressing",null,{"$f":"\"\"","v":""},{"$f":"\"\"","v":""},{"$f":"\"\"","v":""},{"$f":"\"\"","v":""},{"$f":"\"\"","v":""},{"$f":"\"\"","v":""},{"$f":"\"\"","v":""},{"$f":"\"\"","v":""},null,{"$f":"\"\"","v":""},"w/ Dressing","Assorted Chips","Mayo Packets","Assorted Chips","Red Pepper & Dressing","Carrots & Broccoli","Assorted Chips",null,{"$f":"\"\"","v":""},{"$f":"\"\"","v":""},{"$f":"\"\"","v":""},{"$f":"\"\"","v":""},{"$f":"\"\"","v":""},{"$f":"\"\"","v":""},{"$f":"\"\"","v":""},{"$f":"\"\"","v":""}]
[null,{"$f":"\"\"","v":""},"Not Yet Available","Not Yet Available","Not Yet Available","Not Yet Available","Not Yet Available","Not Yet Available","Not Yet Available",null,{"$f":"\"\"","v":""},"Not Yet Available","Not Yet Available","Not Yet Available","Not Yet Available","Not Yet Available","Not Yet Available","Not Yet Available",null,{"$f":"\"\"","v":""},"Not Yet Available","Not Yet Available","Not Yet Available","Not Yet Available","Not Yet Available","Not Yet Available","Not Yet Available",null,{"$f":"\"\"","v":""},"Not Yet Available","Not Yet Available","Not Yet Available","Not Yet Available","Not Yet Available","Not Yet Available","Not Yet Available",null,{"$f":"\"\"","v":""},"Not Yet Available","Not Yet Available","Not Yet Available","Not Yet Available","Not Yet Available","Not Yet Available","Not Yet Available",null,{"$f":"\"\"","v":""},"Not Yet Available","Not Yet Available","Not Yet Available","Not Yet Available","Not Yet Available","Not Yet Available","Not Yet Available",null,{"$f":"\"\"","v":""},"Dinner Rolls","Black Beans","Broccoli & Dressing","Assorted Fruit","Assorted Fruit","Dressing","Assorted Fruit",null,{"$f":"\"\"","v":""},"Not Yet Available","Not Yet Available","Not Yet Available","Not Yet Available","Not Yet Available","Not Yet Available","Not Yet Available",null,{"$f":"\"\"","v":""},"Dinner Rolls","Shredded Lettuce","Broccoli & Dressing","Corn & Cabbage","Assorted Fruit","Dressing","Carrots & Dressing",null,{"$f":"\"\"","v":""},"Not Yet Available","Not Yet Available","Not Yet Available","Not Yet Available","Not Yet Available","Not Yet Available","Not Yet Available"]
[null,{"$f":"\"\"","v":""},{"$f":"\"\"","v":""},{"$f":"\"\"","v":""},{"$f":"\"\"","v":""},{"$f":"\"\"","v":""},{"$f":"\"\"","v":""},{"$f":"\"\"","v":""},{"$f":"\"\"","v":""},null,{"$f":"\"\"","v":""},{"$f":"\"\"","v":""},{"$f":"\"\"","v":""},{"$f":"\"\"","v":""},{"$f":"\"\"","v":""},{"$f":"\"\"","v":""},{"$f":"\"\"","v":""},{"$f":"\"\"","v":""},null,{"$f":"\"\"","v":""},{"$f":"\"\"","v":""},{"$f":"\"\"","v":""},{"$f":"\"\"","v":""},{"$f":"\"\"","v":""},{"$f":"\"\"","v":""},{"$f":"\"\"","v":""},{"$f":"\"\"","v":""},null,{"$f":"\"\"","v":""},{"$f":"\"\"","v":""},{"$f":"\"\"","v":""},{"$f":"\"\"","v":""},{"$f":"\"\"","v":""},{"$f":"\"\"","v":""},{"$f":"\"\"","v":""},{"$f":"\"\"","v":""},null,{"$f":"\"\"","v":""},{"$f":"\"\"","v":""},{"$f":"\"\"","v":""},{"$f":"\"\"","v":""},{"$f":"\"\"","v":""},{"$f":"\"\"","v":""},{"$f":"\"\"","v":""},{"$f":"\"\"","v":""},null,{"$f":"\"\"","v":""},{"$f":"\"\"","v":""},{"$f":"\"\"","v":""},{"$f":"\"\"","v":""},{"$f":"\"\"","v":""},{"$f":"\"\"","v":""},{"$f":"\"\"","v":""},{"$f":"\"\"","v":""},null,{"$f":"\"\"","v":""},"Assorted Fruit","Assorted Fruit","Assorted Fruit",{"$f":"\"\"","v":""},{"$f":"\"\"","v":""},"Assorted Fruit",{"$f":"\"\"","v":""},null,{"$f":"\"\"","v":""},{"$f":"\"\"","v":""},{"$f":"\"\"","v":""},{"$f":"\"\"","v":""},{"$f":"\"\"","v":""},{"$f":"\"\"","v":""},{"$f":"\"\"","v":""},{"$f":"\"\"","v":""},null,{"$f":"\"\"","v":""},"Assorted Fruit","Carrots & Black Beans","Assorted Fruit","Assorted Fruit",{"$f":"\"\"","v":""},"Assorted Fruit","Assorted Fruit",null,{"$f":"\"\"","v":""},{"$f":"\"\"","v":""},{"$f":"\"\"","v":""},{"$f":"\"\"","v":""},{"$f":"\"\"","v":""},{"$f":"\"\"","v":""},{"$f":"\"\"","v":""},{"$f":"\"\"","v":""}]
[null,{"$f":"\"\"","v":""},{"$f":"\"\"","v":""},{"$f":"\"\"","v":""},{"$f":"\"\"","v":""},{"$f":"\"\"","v":""},{"$f":"\"\"","v":""},{"$f":"\"\"","v":""},{"$f":"\"\"","v":""},null,{"$f":"\"\"","v":""},{"$f":"\"\"","v":""},{"$f":"\"\"","v":""},{"$f":"\"\"","v":""},{"$f":"\"\"","v":""},{"$f":"\"\"","v":""},{"$f":"\"\"","v":""},{"$f":"\"\"","v":""},null,{"$f":"\"\"","v":""},{"$f":"\"\"","v":""},{"$f":"\"\"","v":""},{"$f":"\"\"","v":""},{"$f":"\"\"","v":""},{"$f":"\"\"","v":""},{"$f":"\"\"","v":""},{"$f":"\"\"","v":""},null,{"$f":"\"\"","v":""},{"$f":"\"\"","v":""},{"$f":"\"\"","v":""},{"$f":"\"\"","v":""},{"$f":"\"\"","v":""},{"$f":"\"\"","v":""},{"$f":"\"\"","v":""},{"$f":"\"\"","v":""},null,{"$f":"\"\"","v":""},{"$f":"\"\"","v":""},{"$f":"\"\"","v":""},{"$f":"\"\"","v":""},{"$f":"\"\"","v":""},{"$f":"\"\"","v":""},{"$f":"\"\"","v":""},{"$f":"\"\"","v":""},null,{"$f":"\"\"","v":""},{"$f":"\"\"","v":""},{"$f":"\"\"","v":""},{"$f":"\"\"","v":""},{"$f":"\"\"","v":""},{"$f":"\"\"","v":""},{"$f":"\"\"","v":""},{"$f":"\"\"","v":""},null,{"$f":"\"\"","v":""},{"$f":"\"\"","v":""},{"$f":"\"\"","v":""},{"$f":"\"\"","v":""},{"$f":"\"\"","v":""},{"$f":"\"\"","v":""},{"$f":"\"\"","v":""},{"$f":"\"\"","v":""},null,{"$f":"\"\"","v":""},{"$f":"\"\"","v":""},{"$f":"\"\"","v":""},{"$f":"\"\"","v":""},{"$f":"\"\"","v":""},{"$f":"\"\"","v":""},{"$f":"\"\"","v":""},{"$f":"\"\"","v":""},null,{"$f":"\"\"","v":""},{"$f":"\"\"","v":""},"Assorted Fruit",{"$f":"\"\"","v":""},{"$f":"\"\"","v":""},{"$f":"\"\"","v":""},{"$f":"\"\"","v":""},{"$f":"\"\"","v":""},null,{"$f":"\"\"","v":""},{"$f":"\"\"","v":""},{"$f":"\"\"","v":""},{"$f":"\"\"","v":""},{"$f":"\"\"","v":""},{"$f":"\"\"","v":""},{"$f":"\"\"","v":""},{"$f":"\"\"","v":""}]
[null,"Week 32",{"$f":"\"\"","v":""},{"$f":"\"\"","v":""},{"$f":"\"\"","v":""},{"$f":"\"\"","v":""},{"$f":"\"\"","v":""},{"$f":"\"\"","v":""},{"$f":"\"\"","v":""},null,"Week 32",{"$f":"\"\"","v":""},{"$f":"\"\"","v":""},{"$f":"\"\"","v":""},{"$f":"\"\"","v":""},{"$f":"\"\"","v":""},{"$f":"\"\"","v":""},{"$f":"\"\"","v":""},null,"Week 32",{"$f":"\"\"","v":""},{"$f":"\"\"","v":""},{"$f":"\"\"","v":""},{"$f":"\"\"","v":""},{"$f":"\"\"","v":""},{"$f":"\"\"","v":""},{"$f":"\"\"","v":""},null,"Week 32",{"$f":"\"\"","v":""},{"$f":"\"\"","v":""},{"$f":"\"\"","v":""},{"$f":"\"\"","v":""},{"$f":"\"\"","v":""},{"$f":"\"\"","v":""},{"$f":"\"\"","v":""},null,"Week 32",{"$f":"\"\"","v":""},{"$f":"\"\"","v":""},{"$f":"\"\"","v":""},{"$f":"\"\"","v":""},{"$f":"\"\"","v":""},{"$f":"\"\"","v":""},{"$f":"\"\"","v":""},null,"Week 32",{"$f":"\"\"","v":""},{"$f":"\"\"","v":""},{"$f":"\"\"","v":""},{"$f":"\"\"","v":""},{"$f":"\"\"","v":""},{"$f":"\"\"","v":""},{"$f":"\"\"","v":""},null,"Week 32",{"$f":"\"\"","v":""},{"$f":"\"\"","v":""},{"$f":"\"\"","v":""},{"$f":"\"\"","v":""},{"$f":"\"\"","v":""},{"$f":"\"\"","v":""},{"$f":"\"\"","v":""},null,"Week 32",{"$f":"\"\"","v":""},{"$f":"\"\"","v":""},{"$f":"\"\"","v":""},{"$f":"\"\"","v":""},{"$f":"\"\"","v":""},{"$f":"\"\"","v":""},{"$f":"\"\"","v":""},null,"Week 32",{"$f":"\"\"","v":""},{"$f":"\"\"","v":""},{"$f":"\"\"","v":""},{"$f":"\"\"","v":""},{"$f":"\"\"","v":""},{"$f":"\"\"","v":""},{"$f":"\"\"","v":""},null,"Week 32",{"$f":"\"\"","v":""},{"$f":"\"\"","v":""},{"$f":"\"\"","v":""},{"$f":"\"\"","v":""},{"$f":"\"\"","v":""},{"$f":"\"\"","v":""},{"$f":"\"\"","v":""}]
[null,{"$f":"\"\"","v":""},{"$f":"\"\"","v":""},{"$f":"\"\"","v":""},{"$f":"\"\"","v":""},{"$f":"\"\"","v":""},{"$f":"\"\"","v":""},{"$f":"\"\"","v":""},{"$f":"\"\"","v":""},null,{"$f":"\"\"","v":""},{"$f":"\"\"","v":""},{"$f":"\"\"","v":""},{"$f":"\"\"","v":""},{"$f":"\"\"","v":""},{"$f":"\"\"","v":""},{"$f":"\"\"","v":""},{"$f":"\"\"","v":""},null,{"$f":"\"\"","v":""},{"$f":"\"\"","v":""},{"$f":"\"\"","v":""},{"$f":"\"\"","v":""},{"$f":"\"\"","v":""},{"$f":"\"\"","v":""},{"$f":"\"\"","v":""},{"$f":"\"\"","v":""},null,{"$f":"\"\"","v":""},{"$f":"\"\"","v":""},{"$f":"\"\"","v":""},{"$f":"\"\"","v":""},{"$f":"\"\"","v":""},{"$f":"\"\"","v":""},{"$f":"\"\"","v":""},{"$f":"\"\"","v":""},null,{"$f":"\"\"","v":""},{"$f":"\"\"","v":""},{"$f":"\"\"","v":""},{"$f":"\"\"","v":""},{"$f":"\"\"","v":""},{"$f":"\"\"","v":""},{"$f":"\"\"","v":""},{"$f":"\"\"","v":""},null,{"$f":"\"\"","v":""},{"$f":"\"\"","v":""},{"$f":"\"\"","v":""},{"$f":"\"\"","v":""},{"$f":"\"\"","v":""},{"$f":"\"\"","v":""},{"$f":"\"\"","v":""},{"$f":"\"\"","v":""},null,{"$f":"\"\"","v":""},"Chicken Caesar Salad","Greek Chicken Wrap","Egg Salad Wrap","Ham Sandwich","Turkey Bagel","Chef Salad","Peanut (or Seed) Butter Sandwich",null,{"$f":"\"\"","v":""},{"$f":"\"\"","v":""},{"$f":"\"\"","v":""},{"$f":"\"\"","v":""},{"$f":"\"\"","v":""},{"$f":"\"\"","v":""},{"$f":"\"\"","v":""},{"$f":"\"\"","v":""},null,{"$f":"\"\"","v":""},"Chicken Caesar Salad","Greek Chicken Wrap","Egg Salad Wrap","Ham Sandwich","Turkey Bagel","Chef Salad","Peanut (or Seed) Butter Sandwich",null,{"$f":"\"\"","v":""},{"$f":"\"\"","v":""},{"$f":"\"\"","v":""},{"$f":"\"\"","v":""},{"$f":"\"\"","v":""},{"$f":"\"\"","v":""},{"$f":"\"\"","v":""},{"$f":"\"\"","v":""}]
[null,{"$f":"\"\"","v":""},{"$f":"\"\"","v":""},{"$f":"\"\"","v":""},{"$f":"\"\"","v":""},{"$f":"\"\"","v":""},{"$f":"\"\"","v":""},{"$f":"\"\"","v":""},{"$f":"\"\"","v":""},null,{"$f":"\"\"","v":""},{"$f":"\"\"","v":""},{"$f":"\"\"","v":""},{"$f":"\"\"","v":""},{"$f":"\"\"","v":""},{"$f":"\"\"","v":""},{"$f":"\"\"","v":""},{"$f":"\"\"","v":""},null,{"$f":"\"\"","v":""},{"$f":"\"\"","v":""},{"$f":"\"\"","v":""},{"$f":"\"\"","v":""},{"$f":"\"\"","v":""},{"$f":"\"\"","v":""},{"$f":"\"\"","v":""},{"$f":"\"\"","v":""},null,{"$f":"\"\"","v":""},{"$f":"\"\"","v":""},{"$f":"\"\"","v":""},{"$f":"\"\"","v":""},{"$f":"\"\"","v":""},{"$f":"\"\"","v":""},{"$f":"\"\"","v":""},{"$f":"\"\"","v":""},null,{"$f":"\"\"","v":""},{"$f":"\"\"","v":""},{"$f":"\"\"","v":""},{"$f":"\"\"","v":""},{"$f":"\"\"","v":""},{"$f":"\"\"","v":""},{"$f":"\"\"","v":""},{"$f":"\"\"","v":""},null,{"$f":"\"\"","v":""},{"$f":"\"\"","v":""},{"$f":"\"\"","v":""},{"$f":"\"\"","v":""},{"$f":"\"\"","v":""},{"$f":"\"\"","v":""},{"$f":"\"\"","v":""},{"$f":"\"\"","v":""},null,{"$f":"\"\"","v":""},"w/ Caesar Dressing","Broccoli & Dressing","Corn","Mayo Packets","Mayo Packets","w/ Dressing","Cucumbers & Dressing",null,{"$f":"\"\"","v":""},{"$f":"\"\"","v":""},{"$f":"\"\"","v":""},{"$f":"\"\"","v":""},{"$f":"\"\"","v":""},{"$f":"\"\"","v":""},{"$f":"\"\"","v":""},{"$f":"\"\"","v":""},null,{"$f":"\"\"","v":""},"w/ Caesar Dressing","Assorted Chips","Corn","Dinner Roll","Mayo Packets","w/ Dressing","Cucumbers & Dressing",null,{"$f":"\"\"","v":""},{"$f":"\"\"","v":""},{"$f":"\"\"","v":""},{"$f":"\"\"","v":""},{"$f":"\"\"","v":""},{"$f":"\"\"","v":""},{"$f":"\"\"","v":""},{"$f":"\"\"","v":""}]
[null,{"$f":"\"\"","v":""},"Not Yet Available","Not Yet Available","Not Yet Available","Not Yet Available","Not Yet Available","Not Yet Available","Not Yet Available",null,{"$f":"\"\"","v":""},"Not Yet Available","Not Yet Available","Not Yet Available","Not Yet Available","Not Yet Available","Not Yet Available","Not Yet Available",null,{"$f":"\"\"","v":""},"Not Yet Available","Not Yet Available","Not Yet Available","Not Yet Available","Not Yet Available","Not Yet Available","Not Yet Available",null,{"$f":"\"\"","v":""},"Not Yet Available","Not Yet Available","Not Yet Available","Not Yet Available","Not Yet Available","Not Yet Available","Not Yet Available",null,{"$f":"\"\"","v":""},"Not Yet Available","Not Yet Available","Not Yet Available","Not Yet Available","Not Yet Available","Not Yet Available","Not Yet Available",null,{"$f":"\"\"","v":""},"Not Yet Available","Not Yet Available","Not Yet Available","Not Yet Available","Not Yet Available","Not Yet Available","Not Yet Available",null,{"$f":"\"\"","v":""},"Dinner Rolls","Assorted Fruit","Assorted Fruit","Carrots & Dressing","Tortilla Chips","Dinner Rolls","Assorted Fruit",null,{"$f":"\"\"","v":""},"Not Yet Available","Not Yet Available","Not Yet Available","Not Yet Available","Not Yet Available","Not Yet Available","Not Yet Available",null,{"$f":"\"\"","v":""},"Dinner Rolls","Broccoli & Tomatoes","Assorted Fruit","Mayo Packets","Tortilla Chips","Assorted Chips","Assorted Fruit",null,{"$f":"\"\"","v":""},"Not Yet Available","Not Yet Available","Not Yet Available","Not Yet Available","Not Yet Available","Not Yet Available","Not Yet Available"]
[null,{"$f":"\"\"","v":""},{"$f":"\"\"","v":""},{"$f":"\"\"","v":""},{"$f":"\"\"","v":""},{"$f":"\"\"","v":""},{"$f":"\"\"","v":""},{"$f":"\"\"","v":""},{"$f":"\"\"","v":""},null,{"$f":"\"\"","v":""},{"$f":"\"\"","v":""},{"$f":"\"\"","v":""},{"$f":"\"\"","v":""},{"$f":"\"\"","v":""},{"$f":"\"\"","v":""},{"$f":"\"\"","v":""},{"$f":"\"\"","v":""},null,{"$f":"\"\"","v":""},{"$f":"\"\"","v":""},{"$f":"\"\"","v":""},{"$f":"\"\"","v":""},{"$f":"\"\"","v":""},{"$f":"\"\"","v":""},{"$f":"\"\"","v":""},{"$f":"\"\"","v":""},null,{"$f":"\"\"","v":""},{"$f":"\"\"","v":""},{"$f":"\"\"","v":""},{"$f":"\"\"","v":""},{"$f":"\"\"","v":""},{"$f":"\"\"","v":""},{"$f":"\"\"","v":""},{"$f":"\"\"","v":""},null,{"$f":"\"\"","v":""},{"$f":"\"\"","v":""},{"$f":"\"\"","v":""},{"$f":"\"\"","v":""},{"$f":"\"\"","v":""},{"$f":"\"\"","v":""},{"$f":"\"\"","v":""},{"$f":"\"\"","v":""},null,{"$f":"\"\"","v":""},{"$f":"\"\"","v":""},{"$f":"\"\"","v":""},{"$f":"\"\"","v":""},{"$f":"\"\"","v":""},{"$f":"\"\"","v":""},{"$f":"\"\"","v":""},{"$f":"\"\"","v":""},null,{"$f":"\"\"","v":""},"Assorted Fruit",{"$f":"\"\"","v":""},{"$f":"\"\"","v":""},"Assorted Fruit","Black Beans","Assorted Fruit",{"$f":"\"\"","v":""},null,{"$f":"\"\"","v":""},{"$f":"\"\"","v":""},{"$f":"\"\"","v":""},{"$f":"\"\"","v":""},{"$f":"\"\"","v":""},{"$f":"\"\"","v":""},{"$f":"\"\"","v":""},{"$f":"\"\"","v":""},null,{"$f":"\"\"","v":""},"Assorted Fruit","Dressing",{"$f":"\"\"","v":""},"Carrots, Red Peppers & Dressing","Black Beans","Dinner Rolls",{"$f":"\"\"","v":""},null,{"$f":"\"\"","v":""},{"$f":"\"\"","v":""},{"$f":"\"\"","v":""},{"$f":"\"\"","v":""},{"$f":"\"\"","v":""},{"$f":"\"\"","v":""},{"$f":"\"\"","v":""},{"$f":"\"\"","v":""}]
[null,{"$f":"\"\"","v":""},{"$f":"\"\"","v":""},{"$f":"\"\"","v":""},{"$f":"\"\"","v":""},{"$f":"\"\"","v":""},{"$f":"\"\"","v":""},{"$f":"\"\"","v":""},{"$f":"\"\"","v":""},null,{"$f":"\"\"","v":""},{"$f":"\"\"","v":""},{"$f":"\"\"","v":""},{"$f":"\"\"","v":""},{"$f":"\"\"","v":""},{"$f":"\"\"","v":""},{"$f":"\"\"","v":""},{"$f":"\"\"","v":""},null,{"$f":"\"\"","v":""},{"$f":"\"\"","v":""},{"$f":"\"\"","v":""},{"$f":"\"\"","v":""},{"$f":"\"\"","v":""},{"$f":"\"\"","v":""},{"$f":"\"\"","v":""},{"$f":"\"\"","v":""},null,{"$f":"\"\"","v":""},{"$f":"\"\"","v":""},{"$f":"\"\"","v":""},{"$f":"\"\"","v":""},{"$f":"\"\"","v":""},{"$f":"\"\"","v":""},{"$f":"\"\"","v":""},{"$f":"\"\"","v":""},null,{"$f":"\"\"","v":""},{"$f":"\"\"","v":""},{"$f":"\"\"","v":""},{"$f":"\"\"","v":""},{"$f":"\"\"","v":""},{"$f":"\"\"","v":""},{"$f":"\"\"","v":""},{"$f":"\"\"","v":""},null,{"$f":"\"\"","v":""},{"$f":"\"\"","v":""},{"$f":"\"\"","v":""},{"$f":"\"\"","v":""},{"$f":"\"\"","v":""},{"$f":"\"\"","v":""},{"$f":"\"\"","v":""},{"$f":"\"\"","v":""},null,{"$f":"\"\"","v":""},{"$f":"\"\"","v":""},{"$f":"\"\"","v":""},{"$f":"\"\"","v":""},{"$f":"\"\"","v":""},"Assorted Fruit",{"$f":"\"\"","v":""},{"$f":"\"\"","v":""},null,{"$f":"\"\"","v":""},{"$f":"\"\"","v":""},{"$f":"\"\"","v":""},{"$f":"\"\"","v":""},{"$f":"\"\"","v":""},{"$f":"\"\"","v":""},{"$f":"\"\"","v":""},{"$f":"\"\"","v":""},null,{"$f":"\"\"","v":""},{"$f":"\"\"","v":""},"Assorted Fruit",{"$f":"\"\"","v":""},"Assorted Fruit","Assorted Fruit","Assorted Fruit",{"$f":"\"\"","v":""},null,{"$f":"\"\"","v":""},{"$f":"\"\"","v":""},{"$f":"\"\"","v":""},{"$f":"\"\"","v":""},{"$f":"\"\"","v":""},{"$f":"\"\"","v":""},{"$f":"\"\"","v":""},{"$f":"\"\"","v":""}]
[null,"Week 33",{"$f":"\"\"","v":""},{"$f":"\"\"","v":""},{"$f":"\"\"","v":""},{"$f":"\"\"","v":""},{"$f":"\"\"","v":""},{"$f":"\"\"","v":""},{"$f":"\"\"","v":""},null,"Week 33",{"$f":"\"\"","v":""},{"$f":"\"\"","v":""},{"$f":"\"\"","v":""},{"$f":"\"\"","v":""},{"$f":"\"\"","v":""},{"$f":"\"\"","v":""},{"$f":"\"\"","v":""},null,"Week 33",{"$f":"\"\"","v":""},{"$f":"\"\"","v":""},{"$f":"\"\"","v":""},{"$f":"\"\"","v":""},{"$f":"\"\"","v":""},{"$f":"\"\"","v":""},{"$f":"\"\"","v":""},null,"Week 33",{"$f":"\"\"","v":""},{"$f":"\"\"","v":""},{"$f":"\"\"","v":""},{"$f":"\"\"","v":""},{"$f":"\"\"","v":""},{"$f":"\"\"","v":""},{"$f":"\"\"","v":""},null,"Week 33",{"$f":"\"\"","v":""},{"$f":"\"\"","v":""},{"$f":"\"\"","v":""},{"$f":"\"\"","v":""},{"$f":"\"\"","v":""},{"$f":"\"\"","v":""},{"$f":"\"\"","v":""},null,"Week 33",{"$f":"\"\"","v":""},{"$f":"\"\"","v":""},{"$f":"\"\"","v":""},{"$f":"\"\"","v":""},{"$f":"\"\"","v":""},{"$f":"\"\"","v":""},{"$f":"\"\"","v":""},null,"Week 33",{"$f":"\"\"","v":""},{"$f":"\"\"","v":""},{"$f":"\"\"","v":""},{"$f":"\"\"","v":""},{"$f":"\"\"","v":""},{"$f":"\"\"","v":""},{"$f":"\"\"","v":""},null,"Week 33",{"$f":"\"\"","v":""},{"$f":"\"\"","v":""},{"$f":"\"\"","v":""},{"$f":"\"\"","v":""},{"$f":"\"\"","v":""},{"$f":"\"\"","v":""},{"$f":"\"\"","v":""},null,"Week 33",{"$f":"\"\"","v":""},{"$f":"\"\"","v":""},{"$f":"\"\"","v":""},{"$f":"\"\"","v":""},{"$f":"\"\"","v":""},{"$f":"\"\"","v":""},{"$f":"\"\"","v":""},null,"Week 33",{"$f":"\"\"","v":""},{"$f":"\"\"","v":""},{"$f":"\"\"","v":""},{"$f":"\"\"","v":""},{"$f":"\"\"","v":""},{"$f":"\"\"","v":""},{"$f":"\"\"","v":""}]
[null,{"$f":"\"\"","v":""},{"$f":"\"\"","v":""},{"$f":"\"\"","v":""},{"$f":"\"\"","v":""},{"$f":"\"\"","v":""},{"$f":"\"\"","v":""},{"$f":"\"\"","v":""},{"$f":"\"\"","v":""},null,{"$f":"\"\"","v":""},{"$f":"\"\"","v":""},{"$f":"\"\"","v":""},{"$f":"\"\"","v":""},{"$f":"\"\"","v":""},{"$f":"\"\"","v":""},{"$f":"\"\"","v":""},{"$f":"\"\"","v":""},null,{"$f":"\"\"","v":""},{"$f":"\"\"","v":""},{"$f":"\"\"","v":""},{"$f":"\"\"","v":""},{"$f":"\"\"","v":""},{"$f":"\"\"","v":""},{"$f":"\"\"","v":""},{"$f":"\"\"","v":""},null,{"$f":"\"\"","v":""},{"$f":"\"\"","v":""},{"$f":"\"\"","v":""},{"$f":"\"\"","v":""},{"$f":"\"\"","v":""},{"$f":"\"\"","v":""},{"$f":"\"\"","v":""},{"$f":"\"\"","v":""},null,{"$f":"\"\"","v":""},{"$f":"\"\"","v":""},{"$f":"\"\"","v":""},{"$f":"\"\"","v":""},{"$f":"\"\"","v":""},{"$f":"\"\"","v":""},{"$f":"\"\"","v":""},{"$f":"\"\"","v":""},null,{"$f":"\"\"","v":""},{"$f":"\"\"","v":""},{"$f":"\"\"","v":""},{"$f":"\"\"","v":""},{"$f":"\"\"","v":""},{"$f":"\"\"","v":""},{"$f":"\"\"","v":""},{"$f":"\"\"","v":""},null,{"$f":"\"\"","v":""},"Yogurt Parfait","Asian Chicken Wrap","Soft Pretzel w/ Cheese","Fiesta Chicken Sandwich","Turkey Wrap","Pesto Chicken Bowl","Craisin Chicken Pasta",null,{"$f":"\"\"","v":""},{"$f":"\"\"","v":""},{"$f":"\"\"","v":""},{"$f":"\"\"","v":""},{"$f":"\"\"","v":""},{"$f":"\"\"","v":""},{"$f":"\"\"","v":""},{"$f":"\"\"","v":""},null,{"$f":"\"\"","v":""},"Yogurt Parfait","Asian Chicken Wrap","Soft Pretzel w/ Cheese","Fiesta Chicken Sandwich","Turkey Wrap","Pesto Chicken Bowl","Craisin Chicken Pasta",null,{"$f":"\"\"","v":""},{"$f":"\"\"","v":""},{"$f":"\"\"","v":""},{"$f":"\"\"","v":""},{"$f":"\"\"","v":""},{"$f":"\"\"","v":""},{"$f":"\"\"","v":""},{"$f":"\"\"","v":""}]
[null,{"$f":"\"\"","v":""},{"$f":"\"\"","v":""},{"$f":"\"\"","v":""},{"$f":"\"\"","v":""},{"$f":"\"\"","v":""},{"$f":"\"\"","v":""},{"$f":"\"\"","v":""},{"$f":"\"\"","v":""},null,{"$f":"\"\"","v":""},{"$f":"\"\"","v":""},{"$f":"\"\"","v":""},{"$f":"\"\"","v":""},{"$f":"\"\"","v":""},{"$f":"\"\"","v":""},{"$f":"\"\"","v":""},{"$f":"\"\"","v":""},null,{"$f":"\"\"","v":""},{"$f":"\"\"","v":""},{"$f":"\"\"","v":""},{"$f":"\"\"","v":""},{"$f":"\"\"","v":""},{"$f":"\"\"","v":""},{"$f":"\"\"","v":""},{"$f":"\"\"","v":""},null,{"$f":"\"\"","v":""},{"$f":"\"\"","v":""},{"$f":"\"\"","v":""},{"$f":"\"\"","v":""},{"$f":"\"\"","v":""},{"$f":"\"\"","v":""},{"$f":"\"\"","v":""},{"$f":"\"\"","v":""},null,{"$f":"\"\"","v":""},{"$f":"\"\"","v":""},{"$f":"\"\"","v":""},{"$f":"\"\"","v":""},{"$f":"\"\"","v":""},{"$f":"\"\"","v":""},{"$f":"\"\"","v":""},{"$f":"\"\"","v":""},null,{"$f":"\"\"","v":""},{"$f":"\"\"","v":""},{"$f":"\"\"","v":""},{"$f":"\"\"","v":""},{"$f":"\"\"","v":""},{"$f":"\"\"","v":""},{"$f":"\"\"","v":""},{"$f":"\"\"","v":""},null,{"$f":"\"\"","v":""},"Side Salad & Dressing","Carrots & Dressing","Side Salad & Dressing","Corn & Bean Salad","Mustard & Mayo","Dinner Roll","Celery, Broccoli & Dressing",null,{"$f":"\"\"","v":""},{"$f":"\"\"","v":""},{"$f":"\"\"","v":""},{"$f":"\"\"","v":""},{"$f":"\"\"","v":""},{"$f":"\"\"","v":""},{"$f":"\"\"","v":""},{"$f":"\"\"","v":""},null,{"$f":"\"\"","v":""},"Side Salad & Dressing","Carrots & Dressing","Side Salad","Corn & Bean Salad","Mustard & Mayo","Dinner Roll","Dinner Roll",null,{"$f":"\"\"","v":""},{"$f":"\"\"","v":""},{"$f":"\"\"","v":""},{"$f":"\"\"","v":""},{"$f":"\"\"","v":""},{"$f":"\"\"","v":""},{"$f":"\"\"","v":""},{"$f":"\"\"","v":""}]
[null,{"$f":"\"\"","v":""},"Not Yet Available","Not Yet Available","Not Yet Available","Not Yet Available","Not Yet Available","Not Yet Available","Not Yet Available",null,{"$f":"\"\"","v":""},"Not Yet Available","Not Yet Available","Not Yet Available","Not Yet Available","Not Yet Available","Not Yet Available","Not Yet Available",null,{"$f":"\"\"","v":""},"Not Yet Available","Not Yet Available","Not Yet Available","Not Yet Available","Not Yet Available","Not Yet Available","Not Yet Available",null,{"$f":"\"\"","v":""},"Not Yet Available","Not Yet Available","Not Yet Available","Not Yet Available","Not Yet Available","Not Yet Available","Not Yet Available",null,{"$f":"\"\"","v":""},"Not Yet Available","Not Yet Available","Not Yet Available","Not Yet Available","Not Yet Available","Not Yet Available","Not Yet Available",null,{"$f":"\"\"","v":""},"Not Yet Available","Not Yet Available","Not Yet Available","Not Yet Available","Not Yet Available","Not Yet Available","Not Yet Available",null,{"$f":"\"\"","v":""},"Assorted Fruit","Assorted Fruit","Assorted Fruit","Assorted Fruit","Red Peppers & Dressing","Snap Peas, Cucumbers & Dressing","Assorted Fruit",null,{"$f":"\"\"","v":""},"Not Yet Available","Not Yet Available","Not Yet Available","Not Yet Available","Not Yet Available","Not Yet Available","Not Yet Available",null,{"$f":"\"\"","v":""},"Assorted Fruit","Assorted Fruit","Tomatoes & Dressing","Assorted Fruit","Celery, Red Peppers & Dressing","Snap Peas, Cucumbers & Dressing","Celery, Broccoli & Dressing",null,{"$f":"\"\"","v":""},"Not Yet Available","Not Yet Available","Not Yet Available","Not Yet Available","Not Yet Available","Not Yet Available","Not Yet Available"]
[null,{"$f":"\"\"","v":""},{"$f":"\"\"","v":""},{"$f":"\"\"","v":""},{"$f":"\"\"","v":""},{"$f":"\"\"","v":""},{"$f":"\"\"","v":""},{"$f":"\"\"","v":""},{"$f":"\"\"","v":""},null,{"$f":"\"\"","v":""},{"$f":"\"\"","v":""},{"$f":"\"\"","v":""},{"$f":"\"\"","v":""},{"$f":"\"\"","v":""},{"$f":"\"\"","v":""},{"$f":"\"\"","v":""},{"$f":"\"\"","v":""},null,{"$f":"\"\"","v":""},{"$f":"\"\"","v":""},{"$f":"\"\"","v":""},{"$f":"\"\"","v":""},{"$f":"\"\"","v":""},{"$f":"\"\"","v":""},{"$f":"\"\"","v":""},{"$f":"\"\"","v":""},null,{"$f":"\"\"","v":""},{"$f":"\"\"","v":""},{"$f":"\"\"","v":""},{"$f":"\"\"","v":""},{"$f":"\"\"","v":""},{"$f":"\"\"","v":""},{"$f":"\"\"","v":""},{"$f":"\"\"","v":""},null,{"$f":"\"\"","v":""},{"$f":"\"\"","v":""},{"$f":"\"\"","v":""},{"$f":"\"\"","v":""},{"$f":"\"\"","v":""},{"$f":"\"\"","v":""},{"$f":"\"\"","v":""},{"$f":"\"\"","v":""},null,{"$f":"\"\"","v":""},{"$f":"\"\"","v":""},{"$f":"\"\"","v":""},{"$f":"\"\"","v":""},{"$f":"\"\"","v":""},{"$f":"\"\"","v":""},{"$f":"\"\"","v":""},{"$f":"\"\"","v":""},null,{"$f":"\"\"","v":""},{"$f":"\"\"","v":""},{"$f":"\"\"","v":""},{"$f":"\"\"","v":""},{"$f":"\"\"","v":""},"Assorted Fruit","Assorted Fruit",{"$f":"\"\"","v":""},null,{"$f":"\"\"","v":""},{"$f":"\"\"","v":""},{"$f":"\"\"","v":""},{"$f":"\"\"","v":""},{"$f":"\"\"","v":""},{"$f":"\"\"","v":""},{"$f":"\"\"","v":""},{"$f":"\"\"","v":""},null,{"$f":"\"\"","v":""},{"$f":"\"\"","v":""},{"$f":"\"\"","v":""},"Assorted Fruit",{"$f":"\"\"","v":""},"Assorted Fruit","Assorted Fruit","Assorted Fruit",null,{"$f":"\"\"","v":""},{"$f":"\"\"","v":""},{"$f":"\"\"","v":""},{"$f":"\"\"","v":""},{"$f":"\"\"","v":""},{"$f":"\"\"","v":""},{"$f":"\"\"","v":""},{"$f":"\"\"","v":""}]
[null,{"$f":"\"\"","v":""},{"$f":"\"\"","v":""},{"$f":"\"\"","v":""},{"$f":"\"\"","v":""},{"$f":"\"\"","v":""},{"$f":"\"\"","v":""},{"$f":"\"\"","v":""},{"$f":"\"\"","v":""},null,{"$f":"\"\"","v":""},{"$f":"\"\"","v":""},{"$f":"\"\"","v":""},{"$f":"\"\"","v":""},{"$f":"\"\"","v":""},{"$f":"\"\"","v":""},{"$f":"\"\"","v":""},{"$f":"\"\"","v":""},null,{"$f":"\"\"","v":""},{"$f":"\"\"","v":""},{"$f":"\"\"","v":""},{"$f":"\"\"","v":""},{"$f":"\"\"","v":""},{"$f":"\"\"","v":""},{"$f":"\"\"","v":""},{"$f":"\"\"","v":""},null,{"$f":"\"\"","v":""},{"$f":"\"\"","v":""},{"$f":"\"\"","v":""},{"$f":"\"\"","v":""},{"$f":"\"\"","v":""},{"$f":"\"\"","v":""},{"$f":"\"\"","v":""},{"$f":"\"\"","v":""},null,{"$f":"\"\"","v":""},{"$f":"\"\"","v":""},{"$f":"\"\"","v":""},{"$f":"\"\"","v":""},{"$f":"\"\"","v":""},{"$f":"\"\"","v":""},{"$f":"\"\"","v":""},{"$f":"\"\"","v":""},null,{"$f":"\"\"","v":""},{"$f":"\"\"","v":""},{"$f":"\"\"","v":""},{"$f":"\"\"","v":""},{"$f":"\"\"","v":""},{"$f":"\"\"","v":""},{"$f":"\"\"","v":""},{"$f":"\"\"","v":""},null,{"$f":"\"\"","v":""},{"$f":"\"\"","v":""},{"$f":"\"\"","v":""},{"$f":"\"\"","v":""},{"$f":"\"\"","v":""},{"$f":"\"\"","v":""},{"$f":"\"\"","v":""},{"$f":"\"\"","v":""},null,{"$f":"\"\"","v":""},{"$f":"\"\"","v":""},{"$f":"\"\"","v":""},{"$f":"\"\"","v":""},{"$f":"\"\"","v":""},{"$f":"\"\"","v":""},{"$f":"\"\"","v":""},{"$f":"\"\"","v":""},null,{"$f":"\"\"","v":""},{"$f":"\"\"","v":""},{"$f":"\"\"","v":""},{"$f":"\"\"","v":""},{"$f":"\"\"","v":""},{"$f":"\"\"","v":""},{"$f":"\"\"","v":""},{"$f":"\"\"","v":""},null,{"$f":"\"\"","v":""},{"$f":"\"\"","v":""},{"$f":"\"\"","v":""},{"$f":"\"\"","v":""},{"$f":"\"\"","v":""},{"$f":"\"\"","v":""},{"$f":"\"\"","v":""},{"$f":"\"\"","v":""}]
[null,"Week 34",{"$f":"\"\"","v":""},{"$f":"\"\"","v":""},{"$f":"\"\"","v":""},{"$f":"\"\"","v":""},{"$f":"\"\"","v":""},{"$f":"\"\"","v":""},{"$f":"\"\"","v":""},null,"Week 34",{"$f":"\"\"","v":""},{"$f":"\"\"","v":""},{"$f":"\"\"","v":""},{"$f":"\"\"","v":""},{"$f":"\"\"","v":""},{"$f":"\"\"","v":""},{"$f":"\"\"","v":""},null,"Week 34",{"$f":"\"\"","v":""},{"$f":"\"\"","v":""},{"$f":"\"\"","v":""},{"$f":"\"\"","v":""},{"$f":"\"\"","v":""},{"$f":"\"\"","v":""},{"$f":"\"\"","v":""},null,"Week 34",{"$f":"\"\"","v":""},{"$f":"\"\"","v":""},{"$f":"\"\"","v":""},{"$f":"\"\"","v":""},{"$f":"\"\"","v":""},{"$f":"\"\"","v":""},{"$f":"\"\"","v":""},null,"Week 34",{"$f":"\"\"","v":""},{"$f":"\"\"","v":""},{"$f":"\"\"","v":""},{"$f":"\"\"","v":""},{"$f":"\"\"","v":""},{"$f":"\"\"","v":""},{"$f":"\"\"","v":""},null,"Week 34",{"$f":"\"\"","v":""},{"$f":"\"\"","v":""},{"$f":"\"\"","v":""},{"$f":"\"\"","v":""},{"$f":"\"\"","v":""},{"$f":"\"\"","v":""},{"$f":"\"\"","v":""},null,"Week 34",{"$f":"\"\"","v":""},{"$f":"\"\"","v":""},{"$f":"\"\"","v":""},{"$f":"\"\"","v":""},{"$f":"\"\"","v":""},{"$f":"\"\"","v":""},{"$f":"\"\"","v":""},null,"Week 34",{"$f":"\"\"","v":""},{"$f":"\"\"","v":""},{"$f":"\"\"","v":""},{"$f":"\"\"","v":""},{"$f":"\"\"","v":""},{"$f":"\"\"","v":""},{"$f":"\"\"","v":""},null,"Week 34",{"$f":"\"\"","v":""},{"$f":"\"\"","v":""},{"$f":"\"\"","v":""},{"$f":"\"\"","v":""},{"$f":"\"\"","v":""},{"$f":"\"\"","v":""},{"$f":"\"\"","v":""},null,"Week 34",{"$f":"\"\"","v":""},{"$f":"\"\"","v":""},{"$f":"\"\"","v":""},{"$f":"\"\"","v":""},{"$f":"\"\"","v":""},{"$f":"\"\"","v":""},{"$f":"\"\"","v":""}]
[null,{"$f":"\"\"","v":""},{"$f":"\"\"","v":""},{"$f":"\"\"","v":""},{"$f":"\"\"","v":""},{"$f":"\"\"","v":""},{"$f":"\"\"","v":""},{"$f":"\"\"","v":""},{"$f":"\"\"","v":""},null,{"$f":"\"\"","v":""},{"$f":"\"\"","v":""},{"$f":"\"\"","v":""},{"$f":"\"\"","v":""},{"$f":"\"\"","v":""},{"$f":"\"\"","v":""},{"$f":"\"\"","v":""},{"$f":"\"\"","v":""},null,{"$f":"\"\"","v":""},{"$f":"\"\"","v":""},{"$f":"\"\"","v":""},{"$f":"\"\"","v":""},{"$f":"\"\"","v":""},{"$f":"\"\"","v":""},{"$f":"\"\"","v":""},{"$f":"\"\"","v":""},null,{"$f":"\"\"","v":""},{"$f":"\"\"","v":""},{"$f":"\"\"","v":""},{"$f":"\"\"","v":""},{"$f":"\"\"","v":""},{"$f":"\"\"","v":""},{"$f":"\"\"","v":""},{"$f":"\"\"","v":""},null,{"$f":"\"\"","v":""},{"$f":"\"\"","v":""},{"$f":"\"\"","v":""},{"$f":"\"\"","v":""},{"$f":"\"\"","v":""},{"$f":"\"\"","v":""},{"$f":"\"\"","v":""},{"$f":"\"\"","v":""},null,{"$f":"\"\"","v":""},{"$f":"\"\"","v":""},{"$f":"\"\"","v":""},{"$f":"\"\"","v":""},{"$f":"\"\"","v":""},{"$f":"\"\"","v":""},{"$f":"\"\"","v":""},{"$f":"\"\"","v":""},null,{"$f":"\"\"","v":""},"Turkey Croissant","Fiesta Chicken Bowl","Assorted Muffin & Yogurt","Craisin Chicken Bagel Sandwich","Asian Chicken Wrap","Pancakes w/ Yogurt","Pesto Chicken Pasta",null,{"$f":"\"\"","v":""},{"$f":"\"\"","v":""},{"$f":"\"\"","v":""},{"$f":"\"\"","v":""},{"$f":"\"\"","v":""},{"$f":"\"\"","v":""},{"$f":"\"\"","v":""},{"$f":"\"\"","v":""},null,{"$f":"\"\"","v":""},"Turkey Croissant","Fiesta Chicken Bowl","Assorted Muffin & Yogurt","Craisin Chicken Bagel Sandwich","Asian Chicken Wrap","Pancakes w/ Yogurt","Pesto Chicken Pasta",null,{"$f":"\"\"","v":""},{"$f":"\"\"","v":""},{"$f":"\"\"","v":""},{"$f":"\"\"","v":""},{"$f":"\"\"","v":""},{"$f":"\"\"","v":""},{"$f":"\"\"","v":""},{"$f":"\"\"","v":""}]
[null,{"$f":"\"\"","v":""},{"$f":"\"\"","v":""},{"$f":"\"\"","v":""},{"$f":"\"\"","v":""},{"$f":"\"\"","v":""},{"$f":"\"\"","v":""},{"$f":"\"\"","v":""},{"$f":"\"\"","v":""},null,{"$f":"\"\"","v":""},{"$f":"\"\"","v":""},{"$f":"\"\"","v":""},{"$f":"\"\"","v":""},{"$f":"\"\"","v":""},{"$f":"\"\"","v":""},{"$f":"\"\"","v":""},{"$f":"\"\"","v":""},null,{"$f":"\"\"","v":""},{"$f":"\"\"","v":""},{"$f":"\"\"","v":""},{"$f":"\"\"","v":""},{"$f":"\"\"","v":""},{"$f":"\"\"","v":""},{"$f":"\"\"","v":""},{"$f":"\"\"","v":""},null,{"$f":"\"\"","v":""},{"$f":"\"\"","v":""},{"$f":"\"\"","v":""},{"$f":"\"\"","v":""},{"$f":"\"\"","v":""},{"$f":"\"\"","v":""},{"$f":"\"\"","v":""},{"$f":"\"\"","v":""},null,{"$f":"\"\"","v":""},{"$f":"\"\"","v":""},{"$f":"\"\"","v":""},{"$f":"\"\"","v":""},{"$f":"\"\"","v":""},{"$f":"\"\"","v":""},{"$f":"\"\"","v":""},{"$f":"\"\"","v":""},null,{"$f":"\"\"","v":""},{"$f":"\"\"","v":""},{"$f":"\"\"","v":""},{"$f":"\"\"","v":""},{"$f":"\"\"","v":""},{"$f":"\"\"","v":""},{"$f":"\"\"","v":""},{"$f":"\"\"","v":""},null,{"$f":"\"\"","v":""},"Side Salad & Dressing","Tortilla Chips","Celery & Red Pepper","Corn & Tomatoes","Lime Wedge","Side Salad & Cucumbers","Carrots & Cucumbers",null,{"$f":"\"\"","v":""},{"$f":"\"\"","v":""},{"$f":"\"\"","v":""},{"$f":"\"\"","v":""},{"$f":"\"\"","v":""},{"$f":"\"\"","v":""},{"$f":"\"\"","v":""},{"$f":"\"\"","v":""},null,{"$f":"\"\"","v":""},"Side Salad","Tortilla Chips","Assorted Chips","Corn & Tomatoes","Lime Wedge","Maple Syrup","Dinner Rolls",null,{"$f":"\"\"","v":""},{"$f":"\"\"","v":""},{"$f":"\"\"","v":""},{"$f":"\"\"","v":""},{"$f":"\"\"","v":""},{"$f":"\"\"","v":""},{"$f":"\"\"","v":""},{"$f":"\"\"","v":""}]
[null,{"$f":"\"\"","v":""},"Not Yet Available","Not Yet Available","Not Yet Available","Not Yet Available","Not Yet Available","Not Yet Available","Not Yet Available",null,{"$f":"\"\"","v":""},"Not Yet Available","Not Yet Available","Not Yet Available","Not Yet Available","Not Yet Available","Not Yet Available","Not Yet Available",null,{"$f":"\"\"","v":""},"Not Yet Available","Not Yet Available","Not Yet Available","Not Yet Available","Not Yet Available","Not Yet Available","Not Yet Available",null,{"$f":"\"\"","v":""},"Not Yet Available","Not Yet Available","Not Yet Available","Not Yet Available","Not Yet Available","Not Yet Available","Not Yet Available",null,{"$f":"\"\"","v":""},"Not Yet Available","Not Yet Available","Not Yet Available","Not Yet Available","Not Yet Available","Not Yet Available","Not Yet Available",null,{"$f":"\"\"","v":""},"Not Yet Available","Not Yet Available","Not Yet Available","Not Yet Available","Not Yet Available","Not Yet Available","Not Yet Available",null,{"$f":"\"\"","v":""},"Assorted Fruit","Corn & Black Beans","Dressing","Assorted Fruit","Side Salad & Cucumbers","Dressing","Dressing",null,{"$f":"\"\"","v":""},"Not Yet Available","Not Yet Available","Not Yet Available","Not Yet Available","Not Yet Available","Not Yet Available","Not Yet Available",null,{"$f":"\"\"","v":""},"Tomatoes & Dressing","Corn & Black Beans","Celery & Red Pepper","Red Peppers","Side Salad & Cucumbers","Side Salad & Cucumbers","Carrots & Cucumbers",null,{"$f":"\"\"","v":""},"Not Yet Available","Not Yet Available","Not Yet Available","Not Yet Available","Not Yet Available","Not Yet Available","Not Yet Available"]
[null,{"$f":"\"\"","v":""},{"$f":"\"\"","v":""},{"$f":"\"\"","v":""},{"$f":"\"\"","v":""},{"$f":"\"\"","v":""},{"$f":"\"\"","v":""},{"$f":"\"\"","v":""},{"$f":"\"\"","v":""},null,{"$f":"\"\"","v":""},{"$f":"\"\"","v":""},{"$f":"\"\"","v":""},{"$f":"\"\"","v":""},{"$f":"\"\"","v":""},{"$f":"\"\"","v":""},{"$f":"\"\"","v":""},{"$f":"\"\"","v":""},null,{"$f":"\"\"","v":""},{"$f":"\"\"","v":""},{"$f":"\"\"","v":""},{"$f":"\"\"","v":""},{"$f":"\"\"","v":""},{"$f":"\"\"","v":""},{"$f":"\"\"","v":""},{"$f":"\"\"","v":""},null,{"$f":"\"\"","v":""},{"$f":"\"\"","v":""},{"$f":"\"\"","v":""},{"$f":"\"\"","v":""},{"$f":"\"\"","v":""},{"$f":"\"\"","v":""},{"$f":"\"\"","v":""},{"$f":"\"\"","v":""},null,{"$f":"\"\"","v":""},{"$f":"\"\"","v":""},{"$f":"\"\"","v":""},{"$f":"\"\"","v":""},{"$f":"\"\"","v":""},{"$f":"\"\"","v":""},{"$f":"\"\"","v":""},{"$f":"\"\"","v":""},null,{"$f":"\"\"","v":""},{"$f":"\"\"","v":""},{"$f":"\"\"","v":""},{"$f":"\"\"","v":""},{"$f":"\"\"","v":""},{"$f":"\"\"","v":""},{"$f":"\"\"","v":""},{"$f":"\"\"","v":""},null,{"$f":"\"\"","v":""},{"$f":"\"\"","v":""},"Assorted Fruit","Assorted Fruit",{"$f":"\"\"","v":""},"Assorted Fruit","Assorted Fruit","Assorted Fruit",null,{"$f":"\"\"","v":""},{"$f":"\"\"","v":""},{"$f":"\"\"","v":""},{"$f":"\"\"","v":""},{"$f":"\"\"","v":""},{"$f":"\"\"","v":""},{"$f":"\"\"","v":""},{"$f":"\"\"","v":""},null,{"$f":"\"\"","v":""},"Assorted Fruit","Assorted Fruit","Dressing","Assorted Fruit","Assorted Fruit","Dressing","Dressing",null,{"$f":"\"\"","v":""},{"$f":"\"\"","v":""},{"$f":"\"\"","v":""},{"$f":"\"\"","v":""},{"$f":"\"\"","v":""},{"$f":"\"\"","v":""},{"$f":"\"\"","v":""},{"$f":"\"\"","v":""}]
[null,{"$f":"\"\"","v":""},{"$f":"\"\"","v":""},{"$f":"\"\"","v":""},{"$f":"\"\"","v":""},{"$f":"\"\"","v":""},{"$f":"\"\"","v":""},{"$f":"\"\"","v":""},{"$f":"\"\"","v":""},null,{"$f":"\"\"","v":""},{"$f":"\"\"","v":""},{"$f":"\"\"","v":""},{"$f":"\"\"","v":""},{"$f":"\"\"","v":""},{"$f":"\"\"","v":""},{"$f":"\"\"","v":""},{"$f":"\"\"","v":""},null,{"$f":"\"\"","v":""},{"$f":"\"\"","v":""},{"$f":"\"\"","v":""},{"$f":"\"\"","v":""},{"$f":"\"\"","v":""},{"$f":"\"\"","v":""},{"$f":"\"\"","v":""},{"$f":"\"\"","v":""},null,{"$f":"\"\"","v":""},{"$f":"\"\"","v":""},{"$f":"\"\"","v":""},{"$f":"\"\"","v":""},{"$f":"\"\"","v":""},{"$f":"\"\"","v":""},{"$f":"\"\"","v":""},{"$f":"\"\"","v":""},null,{"$f":"\"\"","v":""},{"$f":"\"\"","v":""},{"$f":"\"\"","v":""},{"$f":"\"\"","v":""},{"$f":"\"\"","v":""},{"$f":"\"\"","v":""},{"$f":"\"\"","v":""},{"$f":"\"\"","v":""},null,{"$f":"\"\"","v":""},{"$f":"\"\"","v":""},{"$f":"\"\"","v":""},{"$f":"\"\"","v":""},{"$f":"\"\"","v":""},{"$f":"\"\"","v":""},{"$f":"\"\"","v":""},{"$f":"\"\"","v":""},null,{"$f":"\"\"","v":""},{"$f":"\"\"","v":""},{"$f":"\"\"","v":""},{"$f":"\"\"","v":""},{"$f":"\"\"","v":""},{"$f":"\"\"","v":""},{"$f":"\"\"","v":""},{"$f":"\"\"","v":""},null,{"$f":"\"\"","v":""},{"$f":"\"\"","v":""},{"$f":"\"\"","v":""},{"$f":"\"\"","v":""},{"$f":"\"\"","v":""},{"$f":"\"\"","v":""},{"$f":"\"\"","v":""},{"$f":"\"\"","v":""},null,{"$f":"\"\"","v":""},{"$f":"\"\"","v":""},{"$f":"\"\"","v":""},"Assorted Fruit",{"$f":"\"\"","v":""},{"$f":"\"\"","v":""},"Assorted Fruit","Assorted Fruit",null,{"$f":"\"\"","v":""},{"$f":"\"\"","v":""},{"$f":"\"\"","v":""},{"$f":"\"\"","v":""},{"$f":"\"\"","v":""},{"$f":"\"\"","v":""},{"$f":"\"\"","v":""},{"$f":"\"\"","v":""}]
[null,"Week 35",{"$f":"\"\"","v":""},{"$f":"\"\"","v":""},{"$f":"\"\"","v":""},{"$f":"\"\"","v":""},{"$f":"\"\"","v":""},{"$f":"\"\"","v":""},{"$f":"\"\"","v":""},null,"Week 35",{"$f":"\"\"","v":""},{"$f":"\"\"","v":""},{"$f":"\"\"","v":""},{"$f":"\"\"","v":""},{"$f":"\"\"","v":""},{"$f":"\"\"","v":""},{"$f":"\"\"","v":""},null,"Week 35",{"$f":"\"\"","v":""},{"$f":"\"\"","v":""},{"$f":"\"\"","v":""},{"$f":"\"\"","v":""},{"$f":"\"\"","v":""},{"$f":"\"\"","v":""},{"$f":"\"\"","v":""},null,"Week 35",{"$f":"\"\"","v":""},{"$f":"\"\"","v":""},{"$f":"\"\"","v":""},{"$f":"\"\"","v":""},{"$f":"\"\"","v":""},{"$f":"\"\"","v":""},{"$f":"\"\"","v":""},null,"Week 35",{"$f":"\"\"","v":""},{"$f":"\"\"","v":""},{"$f":"\"\"","v":""},{"$f":"\"\"","v":""},{"$f":"\"\"","v":""},{"$f":"\"\"","v":""},{"$f":"\"\"","v":""},null,"Week 35",{"$f":"\"\"","v":""},{"$f":"\"\"","v":""},{"$f":"\"\"","v":""},{"$f":"\"\"","v":""},{"$f":"\"\"","v":""},{"$f":"\"\"","v":""},{"$f":"\"\"","v":""},null,"Week 35",{"$f":"\"\"","v":""},{"$f":"\"\"","v":""},{"$f":"\"\"","v":""},{"$f":"\"\"","v":""},{"$f":"\"\"","v":""},{"$f":"\"\"","v":""},{"$f":"\"\"","v":""},null,"Week 35",{"$f":"\"\"","v":""},{"$f":"\"\"","v":""},{"$f":"\"\"","v":""},{"$f":"\"\"","v":""},{"$f":"\"\"","v":""},{"$f":"\"\"","v":""},{"$f":"\"\"","v":""},null,"Week 35",{"$f":"\"\"","v":""},{"$f":"\"\"","v":""},{"$f":"\"\"","v":""},{"$f":"\"\"","v":""},{"$f":"\"\"","v":""},{"$f":"\"\"","v":""},{"$f":"\"\"","v":""},null,"Week 35",{"$f":"\"\"","v":""},{"$f":"\"\"","v":""},{"$f":"\"\"","v":""},{"$f":"\"\"","v":""},{"$f":"\"\"","v":""},{"$f":"\"\"","v":""},{"$f":"\"\"","v":""}]
[null,{"$f":"\"\"","v":""},{"$f":"\"\"","v":""},{"$f":"\"\"","v":""},{"$f":"\"\"","v":""},{"$f":"\"\"","v":""},{"$f":"\"\"","v":""},{"$f":"\"\"","v":""},{"$f":"\"\"","v":""},null,{"$f":"\"\"","v":""},{"$f":"\"\"","v":""},{"$f":"\"\"","v":""},{"$f":"\"\"","v":""},{"$f":"\"\"","v":""},{"$f":"\"\"","v":""},{"$f":"\"\"","v":""},{"$f":"\"\"","v":""},null,{"$f":"\"\"","v":""},{"$f":"\"\"","v":""},{"$f":"\"\"","v":""},{"$f":"\"\"","v":""},{"$f":"\"\"","v":""},{"$f":"\"\"","v":""},{"$f":"\"\"","v":""},{"$f":"\"\"","v":""},null,{"$f":"\"\"","v":""},{"$f":"\"\"","v":""},{"$f":"\"\"","v":""},{"$f":"\"\"","v":""},{"$f":"\"\"","v":""},{"$f":"\"\"","v":""},{"$f":"\"\"","v":""},{"$f":"\"\"","v":""},null,{"$f":"\"\"","v":""},{"$f":"\"\"","v":""},{"$f":"\"\"","v":""},{"$f":"\"\"","v":""},{"$f":"\"\"","v":""},{"$f":"\"\"","v":""},{"$f":"\"\"","v":""},{"$f":"\"\"","v":""},null,{"$f":"\"\"","v":""},{"$f":"\"\"","v":""},{"$f":"\"\"","v":""},{"$f":"\"\"","v":""},{"$f":"\"\"","v":""},{"$f":"\"\"","v":""},{"$f":"\"\"","v":""},{"$f":"\"\"","v":""},null,{"$f":"\"\"","v":""},"Pesto Chicken Wrap","Turkey Bagel Sandwich","Craisin Chicken Bowl","Chef Salad","Fiesta Chicken Pasta","Asian Chicken Sandwich","Peanut (or Seed) Butter Sandwich",null,{"$f":"\"\"","v":""},{"$f":"\"\"","v":""},{"$f":"\"\"","v":""},{"$f":"\"\"","v":""},{"$f":"\"\"","v":""},{"$f":"\"\"","v":""},{"$f":"\"\"","v":""},{"$f":"\"\"","v":""},null,{"$f":"\"\"","v":""},"Pesto Chicken Wrap","Turkey Bagel Sandwich","Craisin Chicken Bowl","Chef Salad","Fiesta Chicken Pasta","Asian Chicken Sandwich","Peanut (or Seed) Butter Sandwich",null,{"$f":"\"\"","v":""},{"$f":"\"\"","v":""},{"$f":"\"\"","v":""},{"$f":"\"\"","v":""},{"$f":"\"\"","v":""},{"$f":"\"\"","v":""},{"$f":"\"\"","v":""},{"$f":"\"\"","v":""}]
[null,{"$f":"\"\"","v":""},{"$f":"\"\"","v":""},{"$f":"\"\"","v":""},{"$f":"\"\"","v":""},{"$f":"\"\"","v":""},{"$f":"\"\"","v":""},{"$f":"\"\"","v":""},{"$f":"\"\"","v":""},null,{"$f":"\"\"","v":""},{"$f":"\"\"","v":""},{"$f":"\"\"","v":""},{"$f":"\"\"","v":""},{"$f":"\"\"","v":""},{"$f":"\"\"","v":""},{"$f":"\"\"","v":""},{"$f":"\"\"","v":""},null,{"$f":"\"\"","v":""},{"$f":"\"\"","v":""},{"$f":"\"\"","v":""},{"$f":"\"\"","v":""},{"$f":"\"\"","v":""},{"$f":"\"\"","v":""},{"$f":"\"\"","v":""},{"$f":"\"\"","v":""},null,{"$f":"\"\"","v":""},{"$f":"\"\"","v":""},{"$f":"\"\"","v":""},{"$f":"\"\"","v":""},{"$f":"\"\"","v":""},{"$f":"\"\"","v":""},{"$f":"\"\"","v":""},{"$f":"\"\"","v":""},null,{"$f":"\"\"","v":""},{"$f":"\"\"","v":""},{"$f":"\"\"","v":""},{"$f":"\"\"","v":""},{"$f":"\"\"","v":""},{"$f":"\"\"","v":""},{"$f":"\"\"","v":""},{"$f":"\"\"","v":""},null,{"$f":"\"\"","v":""},{"$f":"\"\"","v":""},{"$f":"\"\"","v":""},{"$f":"\"\"","v":""},{"$f":"\"\"","v":""},{"$f":"\"\"","v":""},{"$f":"\"\"","v":""},{"$f":"\"\"","v":""},null,{"$f":"\"\"","v":""},"Celery & Carrots","Side Salad & Corn","Side Salad & Dinner Rolls","Dinner Rolls","Corn & Black Beans","Carrots","Cucumbers & Dressing",null,{"$f":"\"\"","v":""},{"$f":"\"\"","v":""},{"$f":"\"\"","v":""},{"$f":"\"\"","v":""},{"$f":"\"\"","v":""},{"$f":"\"\"","v":""},{"$f":"\"\"","v":""},{"$f":"\"\"","v":""},null,{"$f":"\"\"","v":""},"Celery & Carrots","Assorted Chips","Side Salad & Dinner Rolls","Dinner Rolls","Dinner Roll","Assorted Chips","Cucumbers & Dressing",null,{"$f":"\"\"","v":""},{"$f":"\"\"","v":""},{"$f":"\"\"","v":""},{"$f":"\"\"","v":""},{"$f":"\"\"","v":""},{"$f":"\"\"","v":""},{"$f":"\"\"","v":""},{"$f":"\"\"","v":""}]
[null,{"$f":"\"\"","v":""},"Not Yet Available","Not Yet Available","Not Yet Available","Not Yet Available","Not Yet Available","Not Yet Available","Not Yet Available",null,{"$f":"\"\"","v":""},"Not Yet Available","Not Yet Available","Not Yet Available","Not Yet Available","Not Yet Available","Not Yet Available","Not Yet Available",null,{"$f":"\"\"","v":""},"Not Yet Available","Not Yet Available","Not Yet Available","Not Yet Available","Not Yet Available","Not Yet Available","Not Yet Available",null,{"$f":"\"\"","v":""},"Not Yet Available","Not Yet Available","Not Yet Available","Not Yet Available","Not Yet Available","Not Yet Available","Not Yet Available",null,{"$f":"\"\"","v":""},"Not Yet Available","Not Yet Available","Not Yet Available","Not Yet Available","Not Yet Available","Not Yet Available","Not Yet Available",null,{"$f":"\"\"","v":""},"Not Yet Available","Not Yet Available","Not Yet Available","Not Yet Available","Not Yet Available","Not Yet Available","Not Yet Available",null,{"$f":"\"\"","v":""},"Dressing","Dressing","Tomatoes & Red Peppers","Tomatoes","Assorted Fruit","Assorted Fruit","Assorted Fruit",null,{"$f":"\"\"","v":""},"Not Yet Available","Not Yet Available","Not Yet Available","Not Yet Available","Not Yet Available","Not Yet Available","Not Yet Available",null,{"$f":"\"\"","v":""},"Dressing","Side Salad & Corn","Tomatoes & Red Peppers","Tomatoes","Corn, Red Peppers & Black Beans","Carrots","Assorted Fruit",null,{"$f":"\"\"","v":""},"Not Yet Available","Not Yet Available","Not Yet Available","Not Yet Available","Not Yet Available","Not Yet Available","Not Yet Available"]
[null,{"$f":"\"\"","v":""},{"$f":"\"\"","v":""},{"$f":"\"\"","v":""},{"$f":"\"\"","v":""},{"$f":"\"\"","v":""},{"$f":"\"\"","v":""},{"$f":"\"\"","v":""},{"$f":"\"\"","v":""},null,{"$f":"\"\"","v":""},{"$f":"\"\"","v":""},{"$f":"\"\"","v":""},{"$f":"\"\"","v":""},{"$f":"\"\"","v":""},{"$f":"\"\"","v":""},{"$f":"\"\"","v":""},{"$f":"\"\"","v":""},null,{"$f":"\"\"","v":""},{"$f":"\"\"","v":""},{"$f":"\"\"","v":""},{"$f":"\"\"","v":""},{"$f":"\"\"","v":""},{"$f":"\"\"","v":""},{"$f":"\"\"","v":""},{"$f":"\"\"","v":""},null,{"$f":"\"\"","v":""},{"$f":"\"\"","v":""},{"$f":"\"\"","v":""},{"$f":"\"\"","v":""},{"$f":"\"\"","v":""},{"$f":"\"\"","v":""},{"$f":"\"\"","v":""},{"$f":"\"\"","v":""},null,{"$f":"\"\"","v":""},{"$f":"\"\"","v":""},{"$f":"\"\"","v":""},{"$f":"\"\"","v":""},{"$f":"\"\"","v":""},{"$f":"\"\"","v":""},{"$f":"\"\"","v":""},{"$f":"\"\"","v":""},null,{"$f":"\"\"","v":""},{"$f":"\"\"","v":""},{"$f":"\"\"","v":""},{"$f":"\"\"","v":""},{"$f":"\"\"","v":""},{"$f":"\"\"","v":""},{"$f":"\"\"","v":""},{"$f":"\"\"","v":""},null,{"$f":"\"\"","v":""},"Assorted Fruit","Assorted Fruit","Dressing","Assorted Fruit",{"$f":"\"\"","v":""},{"$f":"\"\"","v":""},{"$f":"\"\"","v":""},null,{"$f":"\"\"","v":""},{"$f":"\"\"","v":""},{"$f":"\"\"","v":""},{"$f":"\"\"","v":""},{"$f":"\"\"","v":""},{"$f":"\"\"","v":""},{"$f":"\"\"","v":""},{"$f":"\"\"","v":""},null,{"$f":"\"\"","v":""},"Assorted Fruit","Dressing","Dressing","Assorted Fruit","Assorted Fruit","Assorted Fruit",{"$f":"\"\"","v":""},null,{"$f":"\"\"","v":""},{"$f":"\"\"","v":""},{"$f":"\"\"","v":""},{"$f":"\"\"","v":""},{"$f":"\"\"","v":""},{"$f":"\"\"","v":""},{"$f":"\"\"","v":""},{"$f":"\"\"","v":""}]
[null,{"$f":"\"\"","v":""},{"$f":"\"\"","v":""},{"$f":"\"\"","v":""},{"$f":"\"\"","v":""},{"$f":"\"\"","v":""},{"$f":"\"\"","v":""},{"$f":"\"\"","v":""},{"$f":"\"\"","v":""},null,{"$f":"\"\"","v":""},{"$f":"\"\"","v":""},{"$f":"\"\"","v":""},{"$f":"\"\"","v":""},{"$f":"\"\"","v":""},{"$f":"\"\"","v":""},{"$f":"\"\"","v":""},{"$f":"\"\"","v":""},null,{"$f":"\"\"","v":""},{"$f":"\"\"","v":""},{"$f":"\"\"","v":""},{"$f":"\"\"","v":""},{"$f":"\"\"","v":""},{"$f":"\"\"","v":""},{"$f":"\"\"","v":""},{"$f":"\"\"","v":""},null,{"$f":"\"\"","v":""},{"$f":"\"\"","v":""},{"$f":"\"\"","v":""},{"$f":"\"\"","v":""},{"$f":"\"\"","v":""},{"$f":"\"\"","v":""},{"$f":"\"\"","v":""},{"$f":"\"\"","v":""},null,{"$f":"\"\"","v":""},{"$f":"\"\"","v":""},{"$f":"\"\"","v":""},{"$f":"\"\"","v":""},{"$f":"\"\"","v":""},{"$f":"\"\"","v":""},{"$f":"\"\"","v":""},{"$f":"\"\"","v":""},null,{"$f":"\"\"","v":""},{"$f":"\"\"","v":""},{"$f":"\"\"","v":""},{"$f":"\"\"","v":""},{"$f":"\"\"","v":""},{"$f":"\"\"","v":""},{"$f":"\"\"","v":""},{"$f":"\"\"","v":""},null,{"$f":"\"\"","v":""},{"$f":"\"\"","v":""},{"$f":"\"\"","v":""},"Assorted Fruit",{"$f":"\"\"","v":""},{"$f":"\"\"","v":""},{"$f":"\"\"","v":""},{"$f":"\"\"","v":""},null,{"$f":"\"\"","v":""},{"$f":"\"\"","v":""},{"$f":"\"\"","v":""},{"$f":"\"\"","v":""},{"$f":"\"\"","v":""},{"$f":"\"\"","v":""},{"$f":"\"\"","v":""},{"$f":"\"\"","v":""},null,{"$f":"\"\"","v":""},{"$f":"\"\"","v":""},"Assorted Fruit","Assorted Fruit",{"$f":"\"\"","v":""},{"$f":"\"\"","v":""},{"$f":"\"\"","v":""},{"$f":"\"\"","v":""},null,{"$f":"\"\"","v":""},{"$f":"\"\"","v":""},{"$f":"\"\"","v":""},{"$f":"\"\"","v":""},{"$f":"\"\"","v":""},{"$f":"\"\"","v":""},{"$f":"\"\"","v":""},{"$f":"\"\"","v":""}]
[null,"Week 36",{"$f":"\"\"","v":""},{"$f":"\"\"","v":""},{"$f":"\"\"","v":""},{"$f":"\"\"","v":""},{"$f":"\"\"","v":""},{"$f":"\"\"","v":""},{"$f":"\"\"","v":""},null,"Week 36",{"$f":"\"\"","v":""},{"$f":"\"\"","v":""},{"$f":"\"\"","v":""},{"$f":"\"\"","v":""},{"$f":"\"\"","v":""},{"$f":"\"\"","v":""},{"$f":"\"\"","v":""},null,"Week 36",{"$f":"\"\"","v":""},{"$f":"\"\"","v":""},{"$f":"\"\"","v":""},{"$f":"\"\"","v":""},{"$f":"\"\"","v":""},{"$f":"\"\"","v":""},{"$f":"\"\"","v":""},null,"Week 36",{"$f":"\"\"","v":""},{"$f":"\"\"","v":""},{"$f":"\"\"","v":""},{"$f":"\"\"","v":""},{"$f":"\"\"","v":""},{"$f":"\"\"","v":""},{"$f":"\"\"","v":""},null,"Week 36",{"$f":"\"\"","v":""},{"$f":"\"\"","v":""},{"$f":"\"\"","v":""},{"$f":"\"\"","v":""},{"$f":"\"\"","v":""},{"$f":"\"\"","v":""},{"$f":"\"\"","v":""},null,"Week 36",{"$f":"\"\"","v":""},{"$f":"\"\"","v":""},{"$f":"\"\"","v":""},{"$f":"\"\"","v":""},{"$f":"\"\"","v":""},{"$f":"\"\"","v":""},{"$f":"\"\"","v":""},null,"Week 36",{"$f":"\"\"","v":""},{"$f":"\"\"","v":""},{"$f":"\"\"","v":""},{"$f":"\"\"","v":""},{"$f":"\"\"","v":""},{"$f":"\"\"","v":""},{"$f":"\"\"","v":""},null,"Week 36",{"$f":"\"\"","v":""},{"$f":"\"\"","v":""},{"$f":"\"\"","v":""},{"$f":"\"\"","v":""},{"$f":"\"\"","v":""},{"$f":"\"\"","v":""},{"$f":"\"\"","v":""},null,"Week 36",{"$f":"\"\"","v":""},{"$f":"\"\"","v":""},{"$f":"\"\"","v":""},{"$f":"\"\"","v":""},{"$f":"\"\"","v":""},{"$f":"\"\"","v":""},{"$f":"\"\"","v":""},null,"Week 36",{"$f":"\"\"","v":""},{"$f":"\"\"","v":""},{"$f":"\"\"","v":""},{"$f":"\"\"","v":""},{"$f":"\"\"","v":""},{"$f":"\"\"","v":""},{"$f":"\"\"","v":""}]
[null,{"$f":"\"\"","v":""},{"$f":"\"\"","v":""},{"$f":"\"\"","v":""},{"$f":"\"\"","v":""},{"$f":"\"\"","v":""},{"$f":"\"\"","v":""},{"$f":"\"\"","v":""},{"$f":"\"\"","v":""},null,{"$f":"\"\"","v":""},{"$f":"\"\"","v":""},{"$f":"\"\"","v":""},{"$f":"\"\"","v":""},{"$f":"\"\"","v":""},{"$f":"\"\"","v":""},{"$f":"\"\"","v":""},{"$f":"\"\"","v":""},null,{"$f":"\"\"","v":""},{"$f":"\"\"","v":""},{"$f":"\"\"","v":""},{"$f":"\"\"","v":""},{"$f":"\"\"","v":""},{"$f":"\"\"","v":""},{"$f":"\"\"","v":""},{"$f":"\"\"","v":""},null,{"$f":"\"\"","v":""},{"$f":"\"\"","v":""},{"$f":"\"\"","v":""},{"$f":"\"\"","v":""},{"$f":"\"\"","v":""},{"$f":"\"\"","v":""},{"$f":"\"\"","v":""},{"$f":"\"\"","v":""},null,{"$f":"\"\"","v":""},{"$f":"\"\"","v":""},{"$f":"\"\"","v":""},{"$f":"\"\"","v":""},{"$f":"\"\"","v":""},{"$f":"\"\"","v":""},{"$f":"\"\"","v":""},{"$f":"\"\"","v":""},null,{"$f":"\"\"","v":""},{"$f":"\"\"","v":""},{"$f":"\"\"","v":""},{"$f":"\"\"","v":""},{"$f":"\"\"","v":""},{"$f":"\"\"","v":""},{"$f":"\"\"","v":""},{"$f":"\"\"","v":""},null,{"$f":"\"\"","v":""},"Egg & Cheese Breakfast Sandwich","Fiesta Chicken Wrap","Taj Mahal Meatballs","Bosco Sticks","Asian Chicken Bowl","Pepperoni Pizza","Pollo Verde",null,{"$f":"\"\"","v":""},{"$f":"\"\"","v":""},{"$f":"\"\"","v":""},{"$f":"\"\"","v":""},{"$f":"\"\"","v":""},{"$f":"\"\"","v":""},{"$f":"\"\"","v":""},{"$f":"\"\"","v":""},null,{"$f":"\"\"","v":""},"Egg & Cheese Breakfast Sandwich","Fiesta Chicken Wrap","Taj Mahal Meatballs","Bosco Sticks","Asian Chicken Bowl","Pepperoni Pizza","Pollo Verde",null,{"$f":"\"\"","v":""},{"$f":"\"\"","v":""},{"$f":"\"\"","v":""},{"$f":"\"\"","v":""},{"$f":"\"\"","v":""},{"$f":"\"\"","v":""},{"$f":"\"\"","v":""},{"$f":"\"\"","v":""}]
[null,{"$f":"\"\"","v":""},{"$f":"\"\"","v":""},{"$f":"\"\"","v":""},{"$f":"\"\"","v":""},{"$f":"\"\"","v":""},{"$f":"\"\"","v":""},{"$f":"\"\"","v":""},{"$f":"\"\"","v":""},null,{"$f":"\"\"","v":""},{"$f":"\"\"","v":""},{"$f":"\"\"","v":""},{"$f":"\"\"","v":""},{"$f":"\"\"","v":""},{"$f":"\"\"","v":""},{"$f":"\"\"","v":""},{"$f":"\"\"","v":""},null,{"$f":"\"\"","v":""},{"$f":"\"\"","v":""},{"$f":"\"\"","v":""},{"$f":"\"\"","v":""},{"$f":"\"\"","v":""},{"$f":"\"\"","v":""},{"$f":"\"\"","v":""},{"$f":"\"\"","v":""},null,{"$f":"\"\"","v":""},{"$f":"\"\"","v":""},{"$f":"\"\"","v":""},{"$f":"\"\"","v":""},{"$f":"\"\"","v":""},{"$f":"\"\"","v":""},{"$f":"\"\"","v":""},{"$f":"\"\"","v":""},null,{"$f":"\"\"","v":""},{"$f":"\"\"","v":""},{"$f":"\"\"","v":""},{"$f":"\"\"","v":""},{"$f":"\"\"","v":""},{"$f":"\"\"","v":""},{"$f":"\"\"","v":""},{"$f":"\"\"","v":""},null,{"$f":"\"\"","v":""},{"$f":"\"\"","v":""},{"$f":"\"\"","v":""},{"$f":"\"\"","v":""},{"$f":"\"\"","v":""},{"$f":"\"\"","v":""},{"$f":"\"\"","v":""},{"$f":"\"\"","v":""},null,{"$f":"\"\"","v":""},"Carrots & Dressing","Black Bean Salad","Mashed Potatoes","Marinara Sauce","Dinner Roll","Side Salad & Cucumbers","Garlic Brown Rice",null,{"$f":"\"\"","v":""},{"$f":"\"\"","v":""},{"$f":"\"\"","v":""},{"$f":"\"\"","v":""},{"$f":"\"\"","v":""},{"$f":"\"\"","v":""},{"$f":"\"\"","v":""},{"$f":"\"\"","v":""},null,{"$f":"\"\"","v":""},"Carrots & Dressing","Black Bean Salad","Mashed Potatoes & Dinner Roll","Marinara Sauce","Assorted Chips & Dinner Roll","Side Salad & Cucumbers","Garlic Brown Rice",null,{"$f":"\"\"","v":""},{"$f":"\"\"","v":""},{"$f":"\"\"","v":""},{"$f":"\"\"","v":""},{"$f":"\"\"","v":""},{"$f":"\"\"","v":""},{"$f":"\"\"","v":""},{"$f":"\"\"","v":""}]
[null,{"$f":"\"\"","v":""},"Not Yet Available","Not Yet Available","Not Yet Available","Not Yet Available","Not Yet Available","Not Yet Available","Not Yet Available",null,{"$f":"\"\"","v":""},"Not Yet Available","Not Yet Available","Not Yet Available","Not Yet Available","Not Yet Available","Not Yet Available","Not Yet Available",null,{"$f":"\"\"","v":""},"Not Yet Available","Not Yet Available","Not Yet Available","Not Yet Available","Not Yet Available","Not Yet Available","Not Yet Available",null,{"$f":"\"\"","v":""},"Not Yet Available","Not Yet Available","Not Yet Available","Not Yet Available","Not Yet Available","Not Yet Available","Not Yet Available",null,{"$f":"\"\"","v":""},"Not Yet Available","Not Yet Available","Not Yet Available","Not Yet Available","Not Yet Available","Not Yet Available","Not Yet Available",null,{"$f":"\"\"","v":""},"Not Yet Available","Not Yet Available","Not Yet Available","Not Yet Available","Not Yet Available","Not Yet Available","Not Yet Available",null,{"$f":"\"\"","v":""},"Assorted Fruit","Assorted Fruit","Dinner Roll","Side Salad & Dressing","Snap Peas & Carrots","Dressing","Spinach Salad & Dressing",null,{"$f":"\"\"","v":""},"Not Yet Available","Not Yet Available","Not Yet Available","Not Yet Available","Not Yet Available","Not Yet Available","Not Yet Available",null,{"$f":"\"\"","v":""},"Assorted Fruit","Assorted Fruit","Assorted Chips","Side Salad & Dressing","Snap Peas & Carrots","Dressing","Assorted Chips",null,{"$f":"\"\"","v":""},"Not Yet Available","Not Yet Available","Not Yet Available","Not Yet Available","Not Yet Available","Not Yet Available","Not Yet Available"]
[null,{"$f":"\"\"","v":""},{"$f":"\"\"","v":""},{"$f":"\"\"","v":""},{"$f":"\"\"","v":""},{"$f":"\"\"","v":""},{"$f":"\"\"","v":""},{"$f":"\"\"","v":""},{"$f":"\"\"","v":""},null,{"$f":"\"\"","v":""},{"$f":"\"\"","v":""},{"$f":"\"\"","v":""},{"$f":"\"\"","v":""},{"$f":"\"\"","v":""},{"$f":"\"\"","v":""},{"$f":"\"\"","v":""},{"$f":"\"\"","v":""},null,{"$f":"\"\"","v":""},{"$f":"\"\"","v":""},{"$f":"\"\"","v":""},{"$f":"\"\"","v":""},{"$f":"\"\"","v":""},{"$f":"\"\"","v":""},{"$f":"\"\"","v":""},{"$f":"\"\"","v":""},null,{"$f":"\"\"","v":""},{"$f":"\"\"","v":""},{"$f":"\"\"","v":""},{"$f":"\"\"","v":""},{"$f":"\"\"","v":""},{"$f":"\"\"","v":""},{"$f":"\"\"","v":""},{"$f":"\"\"","v":""},null,{"$f":"\"\"","v":""},{"$f":"\"\"","v":""},{"$f":"\"\"","v":""},{"$f":"\"\"","v":""},{"$f":"\"\"","v":""},{"$f":"\"\"","v":""},{"$f":"\"\"","v":""},{"$f":"\"\"","v":""},null,{"$f":"\"\"","v":""},{"$f":"\"\"","v":""},{"$f":"\"\"","v":""},{"$f":"\"\"","v":""},{"$f":"\"\"","v":""},{"$f":"\"\"","v":""},{"$f":"\"\"","v":""},{"$f":"\"\"","v":""},null,{"$f":"\"\"","v":""},{"$f":"\"\"","v":""},{"$f":"\"\"","v":""},"Assorted Fruit","Assorted Fruit","Side Salad","Assorted Fruit","Tomatoes",null,{"$f":"\"\"","v":""},{"$f":"\"\"","v":""},{"$f":"\"\"","v":""},{"$f":"\"\"","v":""},{"$f":"\"\"","v":""},{"$f":"\"\"","v":""},{"$f":"\"\"","v":""},{"$f":"\"\"","v":""},null,{"$f":"\"\"","v":""},{"$f":"\"\"","v":""},{"$f":"\"\"","v":""},"Assorted Fruit","Assorted Fruit","Side Salad","Assorted Fruit","Salad, Tomatoes & Dressing",null,{"$f":"\"\"","v":""},{"$f":"\"\"","v":""},{"$f":"\"\"","v":""},{"$f":"\"\"","v":""},{"$f":"\"\"","v":""},{"$f":"\"\"","v":""},{"$f":"\"\"","v":""},{"$f":"\"\"","v":""}]
[null,{"$f":"\"\"","v":""},{"$f":"\"\"","v":""},{"$f":"\"\"","v":""},{"$f":"\"\"","v":""},{"$f":"\"\"","v":""},{"$f":"\"\"","v":""},{"$f":"\"\"","v":""},{"$f":"\"\"","v":""},null,{"$f":"\"\"","v":""},{"$f":"\"\"","v":""},{"$f":"\"\"","v":""},{"$f":"\"\"","v":""},{"$f":"\"\"","v":""},{"$f":"\"\"","v":""},{"$f":"\"\"","v":""},{"$f":"\"\"","v":""},null,{"$f":"\"\"","v":""},{"$f":"\"\"","v":""},{"$f":"\"\"","v":""},{"$f":"\"\"","v":""},{"$f":"\"\"","v":""},{"$f":"\"\"","v":""},{"$f":"\"\"","v":""},{"$f":"\"\"","v":""},null,{"$f":"\"\"","v":""},{"$f":"\"\"","v":""},{"$f":"\"\"","v":""},{"$f":"\"\"","v":""},{"$f":"\"\"","v":""},{"$f":"\"\"","v":""},{"$f":"\"\"","v":""},{"$f":"\"\"","v":""},null,{"$f":"\"\"","v":""},{"$f":"\"\"","v":""},{"$f":"\"\"","v":""},{"$f":"\"\"","v":""},{"$f":"\"\"","v":""},{"$f":"\"\"","v":""},{"$f":"\"\"","v":""},{"$f":"\"\"","v":""},null,{"$f":"\"\"","v":""},{"$f":"\"\"","v":""},{"$f":"\"\"","v":""},{"$f":"\"\"","v":""},{"$f":"\"\"","v":""},{"$f":"\"\"","v":""},{"$f":"\"\"","v":""},{"$f":"\"\"","v":""},null,{"$f":"\"\"","v":""},{"$f":"\"\"","v":""},{"$f":"\"\"","v":""},{"$f":"\"\"","v":""},{"$f":"\"\"","v":""},"Assorted Fruit",{"$f":"\"\"","v":""},"Assorted Fruit",null,{"$f":"\"\"","v":""},{"$f":"\"\"","v":""},{"$f":"\"\"","v":""},{"$f":"\"\"","v":""},{"$f":"\"\"","v":""},{"$f":"\"\"","v":""},{"$f":"\"\"","v":""},{"$f":"\"\"","v":""},null,{"$f":"\"\"","v":""},{"$f":"\"\"","v":""},{"$f":"\"\"","v":""},{"$f":"\"\"","v":""},{"$f":"\"\"","v":""},"Assorted Fruit",{"$f":"\"\"","v":""},"Assorted Fruit",null,{"$f":"\"\"","v":""},{"$f":"\"\"","v":""},{"$f":"\"\"","v":""},{"$f":"\"\"","v":""},{"$f":"\"\"","v":""},{"$f":"\"\"","v":""},{"$f":"\"\"","v":""},{"$f":"\"\"","v":""}]
[null,"Week 37",{"$f":"\"\"","v":""},{"$f":"\"\"","v":""},{"$f":"\"\"","v":""},{"$f":"\"\"","v":""},{"$f":"\"\"","v":""},{"$f":"\"\"","v":""},{"$f":"\"\"","v":""},null,"Week 37",{"$f":"\"\"","v":""},{"$f":"\"\"","v":""},{"$f":"\"\"","v":""},{"$f":"\"\"","v":""},{"$f":"\"\"","v":""},{"$f":"\"\"","v":""},{"$f":"\"\"","v":""},null,"Week 37",{"$f":"\"\"","v":""},{"$f":"\"\"","v":""},{"$f":"\"\"","v":""},{"$f":"\"\"","v":""},{"$f":"\"\"","v":""},{"$f":"\"\"","v":""},{"$f":"\"\"","v":""},null,"Week 37",{"$f":"\"\"","v":""},{"$f":"\"\"","v":""},{"$f":"\"\"","v":""},{"$f":"\"\"","v":""},{"$f":"\"\"","v":""},{"$f":"\"\"","v":""},{"$f":"\"\"","v":""},null,"Week 37",{"$f":"\"\"","v":""},{"$f":"\"\"","v":""},{"$f":"\"\"","v":""},{"$f":"\"\"","v":""},{"$f":"\"\"","v":""},{"$f":"\"\"","v":""},{"$f":"\"\"","v":""},null,"Week 37",{"$f":"\"\"","v":""},{"$f":"\"\"","v":""},{"$f":"\"\"","v":""},{"$f":"\"\"","v":""},{"$f":"\"\"","v":""},{"$f":"\"\"","v":""},{"$f":"\"\"","v":""},null,"Week 37",{"$f":"\"\"","v":""},{"$f":"\"\"","v":""},{"$f":"\"\"","v":""},{"$f":"\"\"","v":""},{"$f":"\"\"","v":""},{"$f":"\"\"","v":""},{"$f":"\"\"","v":""},null,"Week 37",{"$f":"\"\"","v":""},{"$f":"\"\"","v":""},{"$f":"\"\"","v":""},{"$f":"\"\"","v":""},{"$f":"\"\"","v":""},{"$f":"\"\"","v":""},{"$f":"\"\"","v":""},null,"Week 37",{"$f":"\"\"","v":""},{"$f":"\"\"","v":""},{"$f":"\"\"","v":""},{"$f":"\"\"","v":""},{"$f":"\"\"","v":""},{"$f":"\"\"","v":""},{"$f":"\"\"","v":""},null,"Week 37",{"$f":"\"\"","v":""},{"$f":"\"\"","v":""},{"$f":"\"\"","v":""},{"$f":"\"\"","v":""},{"$f":"\"\"","v":""},{"$f":"\"\"","v":""},{"$f":"\"\"","v":""}]
[null,{"$f":"\"\"","v":""},{"$f":"\"\"","v":""},{"$f":"\"\"","v":""},{"$f":"\"\"","v":""},{"$f":"\"\"","v":""},{"$f":"\"\"","v":""},{"$f":"\"\"","v":""},{"$f":"\"\"","v":""},null,{"$f":"\"\"","v":""},{"$f":"\"\"","v":""},{"$f":"\"\"","v":""},{"$f":"\"\"","v":""},{"$f":"\"\"","v":""},{"$f":"\"\"","v":""},{"$f":"\"\"","v":""},{"$f":"\"\"","v":""},null,{"$f":"\"\"","v":""},{"$f":"\"\"","v":""},{"$f":"\"\"","v":""},{"$f":"\"\"","v":""},{"$f":"\"\"","v":""},{"$f":"\"\"","v":""},{"$f":"\"\"","v":""},{"$f":"\"\"","v":""},null,{"$f":"\"\"","v":""},{"$f":"\"\"","v":""},{"$f":"\"\"","v":""},{"$f":"\"\"","v":""},{"$f":"\"\"","v":""},{"$f":"\"\"","v":""},{"$f":"\"\"","v":""},{"$f":"\"\"","v":""},null,{"$f":"\"\"","v":""},{"$f":"\"\"","v":""},{"$f":"\"\"","v":""},{"$f":"\"\"","v":""},{"$f":"\"\"","v":""},{"$f":"\"\"","v":""},{"$f":"\"\"","v":""},{"$f":"\"\"","v":""},null,{"$f":"\"\"","v":""},{"$f":"\"\"","v":""},{"$f":"\"\"","v":""},{"$f":"\"\"","v":""},{"$f":"\"\"","v":""},{"$f":"\"\"","v":""},{"$f":"\"\"","v":""},{"$f":"\"\"","v":""},null,{"$f":"\"\"","v":""},"Cheesy Spaghetti","Craisin Chicken Wrap","Mongolaian Meatballs","Zesty Beef Steak","Pesto Chicken Sandwich","Mini Corndogs","Baja Fish Taco",null,{"$f":"\"\"","v":""},{"$f":"\"\"","v":""},{"$f":"\"\"","v":""},{"$f":"\"\"","v":""},{"$f":"\"\"","v":""},{"$f":"\"\"","v":""},{"$f":"\"\"","v":""},{"$f":"\"\"","v":""},null,{"$f":"\"\"","v":""},"Cheesy Spaghetti","Craisin Chicken Wrap","Mongolaian Meatballs","Zesty Beef Steak","Pesto Chicken Sandwich","Mini Corndogs","Baja Fish Taco",null,{"$f":"\"\"","v":""},{"$f":"\"\"","v":""},{"$f":"\"\"","v":""},{"$f":"\"\"","v":""},{"$f":"\"\"","v":""},{"$f":"\"\"","v":""},{"$f":"\"\"","v":""},{"$f":"\"\"","v":""}]
[null,{"$f":"\"\"","v":""},{"$f":"\"\"","v":""},{"$f":"\"\"","v":""},{"$f":"\"\"","v":""},{"$f":"\"\"","v":""},{"$f":"\"\"","v":""},{"$f":"\"\"","v":""},{"$f":"\"\"","v":""},null,{"$f":"\"\"","v":""},{"$f":"\"\"","v":""},{"$f":"\"\"","v":""},{"$f":"\"\"","v":""},{"$f":"\"\"","v":""},{"$f":"\"\"","v":""},{"$f":"\"\"","v":""},{"$f":"\"\"","v":""},null,{"$f":"\"\"","v":""},{"$f":"\"\"","v":""},{"$f":"\"\"","v":""},{"$f":"\"\"","v":""},{"$f":"\"\"","v":""},{"$f":"\"\"","v":""},{"$f":"\"\"","v":""},{"$f":"\"\"","v":""},null,{"$f":"\"\"","v":""},{"$f":"\"\"","v":""},{"$f":"\"\"","v":""},{"$f":"\"\"","v":""},{"$f":"\"\"","v":""},{"$f":"\"\"","v":""},{"$f":"\"\"","v":""},{"$f":"\"\"","v":""},null,{"$f":"\"\"","v":""},{"$f":"\"\"","v":""},{"$f":"\"\"","v":""},{"$f":"\"\"","v":""},{"$f":"\"\"","v":""},{"$f":"\"\"","v":""},{"$f":"\"\"","v":""},{"$f":"\"\"","v":""},null,{"$f":"\"\"","v":""},{"$f":"\"\"","v":""},{"$f":"\"\"","v":""},{"$f":"\"\"","v":""},{"$f":"\"\"","v":""},{"$f":"\"\"","v":""},{"$f":"\"\"","v":""},{"$f":"\"\"","v":""},null,{"$f":"\"\"","v":""},"Tomatoes","Side Salad","Cilantro Brown Rice","Dinner Roll","Tomatoes","Ketchup & Mustard","Shredded Cabbage",null,{"$f":"\"\"","v":""},{"$f":"\"\"","v":""},{"$f":"\"\"","v":""},{"$f":"\"\"","v":""},{"$f":"\"\"","v":""},{"$f":"\"\"","v":""},{"$f":"\"\"","v":""},{"$f":"\"\"","v":""},null,{"$f":"\"\"","v":""},"Dinner Roll","Side Salad","Cilantro Brown Rice","Dinner Roll","Tomatoes","Ketchup & Mustard","Shredded Cabbage",null,{"$f":"\"\"","v":""},{"$f":"\"\"","v":""},{"$f":"\"\"","v":""},{"$f":"\"\"","v":""},{"$f":"\"\"","v":""},{"$f":"\"\"","v":""},{"$f":"\"\"","v":""},{"$f":"\"\"","v":""}]
[null,{"$f":"\"\"","v":""},"Not Yet Available","Not Yet Available","Not Yet Available","Not Yet Available","Not Yet Available","Not Yet Available","Not Yet Available",null,{"$f":"\"\"","v":""},"Not Yet Available","Not Yet Available","Not Yet Available","Not Yet Available","Not Yet Available","Not Yet Available","Not Yet Available",null,{"$f":"\"\"","v":""},"Not Yet Available","Not Yet Available","Not Yet Available","Not Yet Available","Not Yet Available","Not Yet Available","Not Yet Available",null,{"$f":"\"\"","v":""},"Not Yet Available","Not Yet Available","Not Yet Available","Not Yet Available","Not Yet Available","Not Yet Available","Not Yet Available",null,{"$f":"\"\"","v":""},"Not Yet Available","Not Yet Available","Not Yet Available","Not Yet Available","Not Yet Available","Not Yet Available","Not Yet Available",null,{"$f":"\"\"","v":""},"Not Yet Available","Not Yet Available","Not Yet Available","Not Yet Available","Not Yet Available","Not Yet Available","Not Yet Available",null,{"$f":"\"\"","v":""},"Assorted Fruit","Pinto Beans","Assorted Chips","Assorted Chips","Corn","Carrots & Cucumbers","Tomatoes",null,{"$f":"\"\"","v":""},"Not Yet Available","Not Yet Available","Not Yet Available","Not Yet Available","Not Yet Available","Not Yet Available","Not Yet Available",null,{"$f":"\"\"","v":""},"Tomatoes","Pinto Beans","Assorted Chips","Assorted Chips","Corn","Assorted Chips","Tomatoes",null,{"$f":"\"\"","v":""},"Not Yet Available","Not Yet Available","Not Yet Available","Not Yet Available","Not Yet Available","Not Yet Available","Not Yet Available"]
[null,{"$f":"\"\"","v":""},{"$f":"\"\"","v":""},{"$f":"\"\"","v":""},{"$f":"\"\"","v":""},{"$f":"\"\"","v":""},{"$f":"\"\"","v":""},{"$f":"\"\"","v":""},{"$f":"\"\"","v":""},null,{"$f":"\"\"","v":""},{"$f":"\"\"","v":""},{"$f":"\"\"","v":""},{"$f":"\"\"","v":""},{"$f":"\"\"","v":""},{"$f":"\"\"","v":""},{"$f":"\"\"","v":""},{"$f":"\"\"","v":""},null,{"$f":"\"\"","v":""},{"$f":"\"\"","v":""},{"$f":"\"\"","v":""},{"$f":"\"\"","v":""},{"$f":"\"\"","v":""},{"$f":"\"\"","v":""},{"$f":"\"\"","v":""},{"$f":"\"\"","v":""},null,{"$f":"\"\"","v":""},{"$f":"\"\"","v":""},{"$f":"\"\"","v":""},{"$f":"\"\"","v":""},{"$f":"\"\"","v":""},{"$f":"\"\"","v":""},{"$f":"\"\"","v":""},{"$f":"\"\"","v":""},null,{"$f":"\"\"","v":""},{"$f":"\"\"","v":""},{"$f":"\"\"","v":""},{"$f":"\"\"","v":""},{"$f":"\"\"","v":""},{"$f":"\"\"","v":""},{"$f":"\"\"","v":""},{"$f":"\"\"","v":""},null,{"$f":"\"\"","v":""},{"$f":"\"\"","v":""},{"$f":"\"\"","v":""},{"$f":"\"\"","v":""},{"$f":"\"\"","v":""},{"$f":"\"\"","v":""},{"$f":"\"\"","v":""},{"$f":"\"\"","v":""},null,{"$f":"\"\"","v":""},{"$f":"\"\"","v":""},"Assorted Fruit","Broccoli & Cauliflower","Carrots & Dressing","Assorted Fruit","Dressing","Assorted Fruit",null,{"$f":"\"\"","v":""},{"$f":"\"\"","v":""},{"$f":"\"\"","v":""},{"$f":"\"\"","v":""},{"$f":"\"\"","v":""},{"$f":"\"\"","v":""},{"$f":"\"\"","v":""},{"$f":"\"\"","v":""},null,{"$f":"\"\"","v":""},"Assorted Fruit","Side Salad & Red Peppers","Broccoli & Cauliflower","Carrots & Dressing","Assorted Fruit","Carrots, Cucumbers & Dressing","Assorted Fruit",null,{"$f":"\"\"","v":""},{"$f":"\"\"","v":""},{"$f":"\"\"","v":""},{"$f":"\"\"","v":""},{"$f":"\"\"","v":""},{"$f":"\"\"","v":""},{"$f":"\"\"","v":""},{"$f":"\"\"","v":""}]
[null,{"$f":"\"\"","v":""},{"$f":"\"\"","v":""},{"$f":"\"\"","v":""},{"$f":"\"\"","v":""},{"$f":"\"\"","v":""},{"$f":"\"\"","v":""},{"$f":"\"\"","v":""},{"$f":"\"\"","v":""},null,{"$f":"\"\"","v":""},{"$f":"\"\"","v":""},{"$f":"\"\"","v":""},{"$f":"\"\"","v":""},{"$f":"\"\"","v":""},{"$f":"\"\"","v":""},{"$f":"\"\"","v":""},{"$f":"\"\"","v":""},null,{"$f":"\"\"","v":""},{"$f":"\"\"","v":""},{"$f":"\"\"","v":""},{"$f":"\"\"","v":""},{"$f":"\"\"","v":""},{"$f":"\"\"","v":""},{"$f":"\"\"","v":""},{"$f":"\"\"","v":""},null,{"$f":"\"\"","v":""},{"$f":"\"\"","v":""},{"$f":"\"\"","v":""},{"$f":"\"\"","v":""},{"$f":"\"\"","v":""},{"$f":"\"\"","v":""},{"$f":"\"\"","v":""},{"$f":"\"\"","v":""},null,{"$f":"\"\"","v":""},{"$f":"\"\"","v":""},{"$f":"\"\"","v":""},{"$f":"\"\"","v":""},{"$f":"\"\"","v":""},{"$f":"\"\"","v":""},{"$f":"\"\"","v":""},{"$f":"\"\"","v":""},null,{"$f":"\"\"","v":""},{"$f":"\"\"","v":""},{"$f":"\"\"","v":""},{"$f":"\"\"","v":""},{"$f":"\"\"","v":""},{"$f":"\"\"","v":""},{"$f":"\"\"","v":""},{"$f":"\"\"","v":""},null,{"$f":"\"\"","v":""},{"$f":"\"\"","v":""},{"$f":"\"\"","v":""},"Assorted Fruit","Assorted Fruit",{"$f":"\"\"","v":""},"Assorted Fruit",{"$f":"\"\"","v":""},null,{"$f":"\"\"","v":""},{"$f":"\"\"","v":""},{"$f":"\"\"","v":""},{"$f":"\"\"","v":""},{"$f":"\"\"","v":""},{"$f":"\"\"","v":""},{"$f":"\"\"","v":""},{"$f":"\"\"","v":""},null,{"$f":"\"\"","v":""},{"$f":"\"\"","v":""},"Assorted Fruit","Assorted Fruit","Assorted Fruit",{"$f":"\"\"","v":""},"Assorted Fruit",{"$f":"\"\"","v":""},null,{"$f":"\"\"","v":""},{"$f":"\"\"","v":""},{"$f":"\"\"","v":""},{"$f":"\"\"","v":""},{"$f":"\"\"","v":""},{"$f":"\"\"","v":""},{"$f":"\"\"","v":""},{"$f":"\"\"","v":""}]
[null,"Week 38",{"$f":"\"\"","v":""},{"$f":"\"\"","v":""},{"$f":"\"\"","v":""},{"$f":"\"\"","v":""},{"$f":"\"\"","v":""},{"$f":"\"\"","v":""},{"$f":"\"\"","v":""},null,"Week 38",{"$f":"\"\"","v":""},{"$f":"\"\"","v":""},{"$f":"\"\"","v":""},{"$f":"\"\"","v":""},{"$f":"\"\"","v":""},{"$f":"\"\"","v":""},{"$f":"\"\"","v":""},null,"Week 38",{"$f":"\"\"","v":""},{"$f":"\"\"","v":""},{"$f":"\"\"","v":""},{"$f":"\"\"","v":""},{"$f":"\"\"","v":""},{"$f":"\"\"","v":""},{"$f":"\"\"","v":""},null,"Week 38",{"$f":"\"\"","v":""},{"$f":"\"\"","v":""},{"$f":"\"\"","v":""},{"$f":"\"\"","v":""},{"$f":"\"\"","v":""},{"$f":"\"\"","v":""},{"$f":"\"\"","v":""},null,"Week 38",{"$f":"\"\"","v":""},{"$f":"\"\"","v":""},{"$f":"\"\"","v":""},{"$f":"\"\"","v":""},{"$f":"\"\"","v":""},{"$f":"\"\"","v":""},{"$f":"\"\"","v":""},null,"Week 38",{"$f":"\"\"","v":""},{"$f":"\"\"","v":""},{"$f":"\"\"","v":""},{"$f":"\"\"","v":""},{"$f":"\"\"","v":""},{"$f":"\"\"","v":""},{"$f":"\"\"","v":""},null,"Week 38",{"$f":"\"\"","v":""},{"$f":"\"\"","v":""},{"$f":"\"\"","v":""},{"$f":"\"\"","v":""},{"$f":"\"\"","v":""},{"$f":"\"\"","v":""},{"$f":"\"\"","v":""},null,"Week 38",{"$f":"\"\"","v":""},{"$f":"\"\"","v":""},{"$f":"\"\"","v":""},{"$f":"\"\"","v":""},{"$f":"\"\"","v":""},{"$f":"\"\"","v":""},{"$f":"\"\"","v":""},null,"Week 38",{"$f":"\"\"","v":""},{"$f":"\"\"","v":""},{"$f":"\"\"","v":""},{"$f":"\"\"","v":""},{"$f":"\"\"","v":""},{"$f":"\"\"","v":""},{"$f":"\"\"","v":""},null,"Week 38",{"$f":"\"\"","v":""},{"$f":"\"\"","v":""},{"$f":"\"\"","v":""},{"$f":"\"\"","v":""},{"$f":"\"\"","v":""},{"$f":"\"\"","v":""},{"$f":"\"\"","v":""}]
[null,{"$f":"\"\"","v":""},{"$f":"\"\"","v":""},{"$f":"\"\"","v":""},{"$f":"\"\"","v":""},{"$f":"\"\"","v":""},{"$f":"\"\"","v":""},{"$f":"\"\"","v":""},{"$f":"\"\"","v":""},null,{"$f":"\"\"","v":""},{"$f":"\"\"","v":""},{"$f":"\"\"","v":""},{"$f":"\"\"","v":""},{"$f":"\"\"","v":""},{"$f":"\"\"","v":""},{"$f":"\"\"","v":""},{"$f":"\"\"","v":""},null,{"$f":"\"\"","v":""},{"$f":"\"\"","v":""},{"$f":"\"\"","v":""},{"$f":"\"\"","v":""},{"$f":"\"\"","v":""},{"$f":"\"\"","v":""},{"$f":"\"\"","v":""},{"$f":"\"\"","v":""},null,{"$f":"\"\"","v":""},{"$f":"\"\"","v":""},{"$f":"\"\"","v":""},{"$f":"\"\"","v":""},{"$f":"\"\"","v":""},{"$f":"\"\"","v":""},{"$f":"\"\"","v":""},{"$f":"\"\"","v":""},null,{"$f":"\"\"","v":""},{"$f":"\"\"","v":""},{"$f":"\"\"","v":""},{"$f":"\"\"","v":""},{"$f":"\"\"","v":""},{"$f":"\"\"","v":""},{"$f":"\"\"","v":""},{"$f":"\"\"","v":""},null,{"$f":"\"\"","v":""},{"$f":"\"\"","v":""},{"$f":"\"\"","v":""},{"$f":"\"\"","v":""},{"$f":"\"\"","v":""},{"$f":"\"\"","v":""},{"$f":"\"\"","v":""},{"$f":"\"\"","v":""},null,{"$f":"\"\"","v":""},"Beef & Potato Wrap","Asian Chicken Pasta","Meatball Sub","Cheesy Beefsteak","Craisin Chicken Bowl","Walking Beef Taco","Sweet & Sour Chicken",null,{"$f":"\"\"","v":""},{"$f":"\"\"","v":""},{"$f":"\"\"","v":""},{"$f":"\"\"","v":""},{"$f":"\"\"","v":""},{"$f":"\"\"","v":""},{"$f":"\"\"","v":""},{"$f":"\"\"","v":""},null,{"$f":"\"\"","v":""},"Beef & Potato Wrap","Asian Chicken Pasta","Meatball Sub","Cheesy Beefsteak","Craisin Chicken Bowl","Walking Beef Taco","Sweet & Sour Chicken",null,{"$f":"\"\"","v":""},{"$f":"\"\"","v":""},{"$f":"\"\"","v":""},{"$f":"\"\"","v":""},{"$f":"\"\"","v":""},{"$f":"\"\"","v":""},{"$f":"\"\"","v":""},{"$f":"\"\"","v":""}]
[null,{"$f":"\"\"","v":""},{"$f":"\"\"","v":""},{"$f":"\"\"","v":""},{"$f":"\"\"","v":""},{"$f":"\"\"","v":""},{"$f":"\"\"","v":""},{"$f":"\"\"","v":""},{"$f":"\"\"","v":""},null,{"$f":"\"\"","v":""},{"$f":"\"\"","v":""},{"$f":"\"\"","v":""},{"$f":"\"\"","v":""},{"$f":"\"\"","v":""},{"$f":"\"\"","v":""},{"$f":"\"\"","v":""},{"$f":"\"\"","v":""},null,{"$f":"\"\"","v":""},{"$f":"\"\"","v":""},{"$f":"\"\"","v":""},{"$f":"\"\"","v":""},{"$f":"\"\"","v":""},{"$f":"\"\"","v":""},{"$f":"\"\"","v":""},{"$f":"\"\"","v":""},null,{"$f":"\"\"","v":""},{"$f":"\"\"","v":""},{"$f":"\"\"","v":""},{"$f":"\"\"","v":""},{"$f":"\"\"","v":""},{"$f":"\"\"","v":""},{"$f":"\"\"","v":""},{"$f":"\"\"","v":""},null,{"$f":"\"\"","v":""},{"$f":"\"\"","v":""},{"$f":"\"\"","v":""},{"$f":"\"\"","v":""},{"$f":"\"\"","v":""},{"$f":"\"\"","v":""},{"$f":"\"\"","v":""},{"$f":"\"\"","v":""},null,{"$f":"\"\"","v":""},{"$f":"\"\"","v":""},{"$f":"\"\"","v":""},{"$f":"\"\"","v":""},{"$f":"\"\"","v":""},{"$f":"\"\"","v":""},{"$f":"\"\"","v":""},{"$f":"\"\"","v":""},null,{"$f":"\"\"","v":""},"Crispy Cubes","Broccoli & Cauliflower","Carrots & Dressing","Biscuit & Mashed Potatoes","Dinner Rolls","Assorted Chips","Cilantro Brown Rice",null,{"$f":"\"\"","v":""},{"$f":"\"\"","v":""},{"$f":"\"\"","v":""},{"$f":"\"\"","v":""},{"$f":"\"\"","v":""},{"$f":"\"\"","v":""},{"$f":"\"\"","v":""},{"$f":"\"\"","v":""},null,{"$f":"\"\"","v":""},"Crispy Cubes","Dinner Roll","Assorted Chips","Biscuit & Mashed Potatoes","Dinner Rolls","Assorted Chips","Cilantro Brown Rice",null,{"$f":"\"\"","v":""},{"$f":"\"\"","v":""},{"$f":"\"\"","v":""},{"$f":"\"\"","v":""},{"$f":"\"\"","v":""},{"$f":"\"\"","v":""},{"$f":"\"\"","v":""},{"$f":"\"\"","v":""}]
[null,{"$f":"\"\"","v":""},"Not Yet Available","Not Yet Available","Not Yet Available","Not Yet Available","Not Yet Available","Not Yet Available","Not Yet Available",null,{"$f":"\"\"","v":""},"Not Yet Available","Not Yet Available","Not Yet Available","Not Yet Available","Not Yet Available","Not Yet Available","Not Yet Available",null,{"$f":"\"\"","v":""},"Not Yet Available","Not Yet Available","Not Yet Available","Not Yet Available","Not Yet Available","Not Yet Available","Not Yet Available",null,{"$f":"\"\"","v":""},"Not Yet Available","Not Yet Available","Not Yet Available","Not Yet Available","Not Yet Available","Not Yet Available","Not Yet Available",null,{"$f":"\"\"","v":""},"Not Yet Available","Not Yet Available","Not Yet Available","Not Yet Available","Not Yet Available","Not Yet Available","Not Yet Available",null,{"$f":"\"\"","v":""},"Not Yet Available","Not Yet Available","Not Yet Available","Not Yet Available","Not Yet Available","Not Yet Available","Not Yet Available",null,{"$f":"\"\"","v":""},"Tomatoes","Assorted Fruit","Assorted Fruit","Green Beans","Side Salad & Pinto Beans","Taco Sauce","Carrots & Celery",null,{"$f":"\"\"","v":""},"Not Yet Available","Not Yet Available","Not Yet Available","Not Yet Available","Not Yet Available","Not Yet Available","Not Yet Available",null,{"$f":"\"\"","v":""},"Tomatoes","Broccoli & Cauliflower","Carrots & Dressing","Green Beans","Side Salad & Pinto Beans","Taco Sauce","Assorted Chips",null,{"$f":"\"\"","v":""},"Not Yet Available","Not Yet Available","Not Yet Available","Not Yet Available","Not Yet Available","Not Yet Available","Not Yet Available"]
[null,{"$f":"\"\"","v":""},{"$f":"\"\"","v":""},{"$f":"\"\"","v":""},{"$f":"\"\"","v":""},{"$f":"\"\"","v":""},{"$f":"\"\"","v":""},{"$f":"\"\"","v":""},{"$f":"\"\"","v":""},null,{"$f":"\"\"","v":""},{"$f":"\"\"","v":""},{"$f":"\"\"","v":""},{"$f":"\"\"","v":""},{"$f":"\"\"","v":""},{"$f":"\"\"","v":""},{"$f":"\"\"","v":""},{"$f":"\"\"","v":""},null,{"$f":"\"\"","v":""},{"$f":"\"\"","v":""},{"$f":"\"\"","v":""},{"$f":"\"\"","v":""},{"$f":"\"\"","v":""},{"$f":"\"\"","v":""},{"$f":"\"\"","v":""},{"$f":"\"\"","v":""},null,{"$f":"\"\"","v":""},{"$f":"\"\"","v":""},{"$f":"\"\"","v":""},{"$f":"\"\"","v":""},{"$f":"\"\"","v":""},{"$f":"\"\"","v":""},{"$f":"\"\"","v":""},{"$f":"\"\"","v":""},null,{"$f":"\"\"","v":""},{"$f":"\"\"","v":""},{"$f":"\"\"","v":""},{"$f":"\"\"","v":""},{"$f":"\"\"","v":""},{"$f":"\"\"","v":""},{"$f":"\"\"","v":""},{"$f":"\"\"","v":""},null,{"$f":"\"\"","v":""},{"$f":"\"\"","v":""},{"$f":"\"\"","v":""},{"$f":"\"\"","v":""},{"$f":"\"\"","v":""},{"$f":"\"\"","v":""},{"$f":"\"\"","v":""},{"$f":"\"\"","v":""},null,{"$f":"\"\"","v":""},"Assorted Fruit",{"$f":"\"\"","v":""},{"$f":"\"\"","v":""},"Assorted Fruit","Red Peppers","Tomatoes","Dressing",null,{"$f":"\"\"","v":""},{"$f":"\"\"","v":""},{"$f":"\"\"","v":""},{"$f":"\"\"","v":""},{"$f":"\"\"","v":""},{"$f":"\"\"","v":""},{"$f":"\"\"","v":""},{"$f":"\"\"","v":""},null,{"$f":"\"\"","v":""},"Assorted Fruit","Assorted Fruit","Assorted Fruit","Assorted Fruit","Red Peppers","Corn & Tomatoes","Carrots, Celery & Dressing",null,{"$f":"\"\"","v":""},{"$f":"\"\"","v":""},{"$f":"\"\"","v":""},{"$f":"\"\"","v":""},{"$f":"\"\"","v":""},{"$f":"\"\"","v":""},{"$f":"\"\"","v":""},{"$f":"\"\"","v":""}]
[null,{"$f":"\"\"","v":""},{"$f":"\"\"","v":""},{"$f":"\"\"","v":""},{"$f":"\"\"","v":""},{"$f":"\"\"","v":""},{"$f":"\"\"","v":""},{"$f":"\"\"","v":""},{"$f":"\"\"","v":""},null,{"$f":"\"\"","v":""},{"$f":"\"\"","v":""},{"$f":"\"\"","v":""},{"$f":"\"\"","v":""},{"$f":"\"\"","v":""},{"$f":"\"\"","v":""},{"$f":"\"\"","v":""},{"$f":"\"\"","v":""},null,{"$f":"\"\"","v":""},{"$f":"\"\"","v":""},{"$f":"\"\"","v":""},{"$f":"\"\"","v":""},{"$f":"\"\"","v":""},{"$f":"\"\"","v":""},{"$f":"\"\"","v":""},{"$f":"\"\"","v":""},null,{"$f":"\"\"","v":""},{"$f":"\"\"","v":""},{"$f":"\"\"","v":""},{"$f":"\"\"","v":""},{"$f":"\"\"","v":""},{"$f":"\"\"","v":""},{"$f":"\"\"","v":""},{"$f":"\"\"","v":""},null,{"$f":"\"\"","v":""},{"$f":"\"\"","v":""},{"$f":"\"\"","v":""},{"$f":"\"\"","v":""},{"$f":"\"\"","v":""},{"$f":"\"\"","v":""},{"$f":"\"\"","v":""},{"$f":"\"\"","v":""},null,{"$f":"\"\"","v":""},{"$f":"\"\"","v":""},{"$f":"\"\"","v":""},{"$f":"\"\"","v":""},{"$f":"\"\"","v":""},{"$f":"\"\"","v":""},{"$f":"\"\"","v":""},{"$f":"\"\"","v":""},null,{"$f":"\"\"","v":""},{"$f":"\"\"","v":""},{"$f":"\"\"","v":""},{"$f":"\"\"","v":""},{"$f":"\"\"","v":""},"Assorted Fruit","Assorted Fruit","Assorted Fruit",null,{"$f":"\"\"","v":""},{"$f":"\"\"","v":""},{"$f":"\"\"","v":""},{"$f":"\"\"","v":""},{"$f":"\"\"","v":""},{"$f":"\"\"","v":""},{"$f":"\"\"","v":""},{"$f":"\"\"","v":""},null,{"$f":"\"\"","v":""},{"$f":"\"\"","v":""},{"$f":"\"\"","v":""},{"$f":"\"\"","v":""},{"$f":"\"\"","v":""},"Assorted Fruit","Assorted Fruit","Assorted Fruit",null,{"$f":"\"\"","v":""},{"$f":"\"\"","v":""},{"$f":"\"\"","v":""},{"$f":"\"\"","v":""},{"$f":"\"\"","v":""},{"$f":"\"\"","v":""},{"$f":"\"\"","v":""},{"$f":"\"\"","v":""}]
[null,"Week 39",{"$f":"\"\"","v":""},{"$f":"\"\"","v":""},{"$f":"\"\"","v":""},{"$f":"\"\"","v":""},{"$f":"\"\"","v":""},{"$f":"\"\"","v":""},{"$f":"\"\"","v":""},null,"Week 39",{"$f":"\"\"","v":""},{"$f":"\"\"","v":""},{"$f":"\"\"","v":""},{"$f":"\"\"","v":""},{"$f":"\"\"","v":""},{"$f":"\"\"","v":""},{"$f":"\"\"","v":""},null,"Week 39",{"$f":"\"\"","v":""},{"$f":"\"\"","v":""},{"$f":"\"\"","v":""},{"$f":"\"\"","v":""},{"$f":"\"\"","v":""},{"$f":"\"\"","v":""},{"$f":"\"\"","v":""},null,"Week 39",{"$f":"\"\"","v":""},{"$f":"\"\"","v":""},{"$f":"\"\"","v":""},{"$f":"\"\"","v":""},{"$f":"\"\"","v":""},{"$f":"\"\"","v":""},{"$f":"\"\"","v":""},null,"Week 39",{"$f":"\"\"","v":""},{"$f":"\"\"","v":""},{"$f":"\"\"","v":""},{"$f":"\"\"","v":""},{"$f":"\"\"","v":""},{"$f":"\"\"","v":""},{"$f":"\"\"","v":""},null,"Week 39",{"$f":"\"\"","v":""},{"$f":"\"\"","v":""},{"$f":"\"\"","v":""},{"$f":"\"\"","v":""},{"$f":"\"\"","v":""},{"$f":"\"\"","v":""},{"$f":"\"\"","v":""},null,"Week 39",{"$f":"\"\"","v":""},{"$f":"\"\"","v":""},{"$f":"\"\"","v":""},{"$f":"\"\"","v":""},{"$f":"\"\"","v":""},{"$f":"\"\"","v":""},{"$f":"\"\"","v":""},null,"Week 39",{"$f":"\"\"","v":""},{"$f":"\"\"","v":""},{"$f":"\"\"","v":""},{"$f":"\"\"","v":""},{"$f":"\"\"","v":""},{"$f":"\"\"","v":""},{"$f":"\"\"","v":""},null,"Week 39",{"$f":"\"\"","v":""},{"$f":"\"\"","v":""},{"$f":"\"\"","v":""},{"$f":"\"\"","v":""},{"$f":"\"\"","v":""},{"$f":"\"\"","v":""},{"$f":"\"\"","v":""},null,"Week 39",{"$f":"\"\"","v":""},{"$f":"\"\"","v":""},{"$f":"\"\"","v":""},{"$f":"\"\"","v":""},{"$f":"\"\"","v":""},{"$f":"\"\"","v":""},{"$f":"\"\"","v":""}]
[null,{"$f":"\"\"","v":""},{"$f":"\"\"","v":""},{"$f":"\"\"","v":""},{"$f":"\"\"","v":""},{"$f":"\"\"","v":""},{"$f":"\"\"","v":""},{"$f":"\"\"","v":""},{"$f":"\"\"","v":""},null,{"$f":"\"\"","v":""},{"$f":"\"\"","v":""},{"$f":"\"\"","v":""},{"$f":"\"\"","v":""},{"$f":"\"\"","v":""},{"$f":"\"\"","v":""},{"$f":"\"\"","v":""},{"$f":"\"\"","v":""},null,{"$f":"\"\"","v":""},{"$f":"\"\"","v":""},{"$f":"\"\"","v":""},{"$f":"\"\"","v":""},{"$f":"\"\"","v":""},{"$f":"\"\"","v":""},{"$f":"\"\"","v":""},{"$f":"\"\"","v":""},null,{"$f":"\"\"","v":""},{"$f":"\"\"","v":""},{"$f":"\"\"","v":""},{"$f":"\"\"","v":""},{"$f":"\"\"","v":""},{"$f":"\"\"","v":""},{"$f":"\"\"","v":""},{"$f":"\"\"","v":""},null,{"$f":"\"\"","v":""},{"$f":"\"\"","v":""},{"$f":"\"\"","v":""},{"$f":"\"\"","v":""},{"$f":"\"\"","v":""},{"$f":"\"\"","v":""},{"$f":"\"\"","v":""},{"$f":"\"\"","v":""},null,{"$f":"\"\"","v":""},{"$f":"\"\"","v":""},{"$f":"\"\"","v":""},{"$f":"\"\"","v":""},{"$f":"\"\"","v":""},{"$f":"\"\"","v":""},{"$f":"\"\"","v":""},{"$f":"\"\"","v":""},null,{"$f":"\"\"","v":""},"Pancakes","Pesto Chicken Wrap","Tejas Meatballs","Chicken Satay","Fiesta Chicken Pasta","Alfredo Chicken Fillet","Beef Pho",null,{"$f":"\"\"","v":""},{"$f":"\"\"","v":""},{"$f":"\"\"","v":""},{"$f":"\"\"","v":""},{"$f":"\"\"","v":""},{"$f":"\"\"","v":""},{"$f":"\"\"","v":""},{"$f":"\"\"","v":""},null,{"$f":"\"\"","v":""},"Pancakes","Pesto Chicken Wrap","Tejas Meatballs","Chicken Satay","Fiesta Chicken Pasta","Alfredo Chicken Fillet","Beef Pho",null,{"$f":"\"\"","v":""},{"$f":"\"\"","v":""},{"$f":"\"\"","v":""},{"$f":"\"\"","v":""},{"$f":"\"\"","v":""},{"$f":"\"\"","v":""},{"$f":"\"\"","v":""},{"$f":"\"\"","v":""}]
[null,{"$f":"\"\"","v":""},{"$f":"\"\"","v":""},{"$f":"\"\"","v":""},{"$f":"\"\"","v":""},{"$f":"\"\"","v":""},{"$f":"\"\"","v":""},{"$f":"\"\"","v":""},{"$f":"\"\"","v":""},null,{"$f":"\"\"","v":""},{"$f":"\"\"","v":""},{"$f":"\"\"","v":""},{"$f":"\"\"","v":""},{"$f":"\"\"","v":""},{"$f":"\"\"","v":""},{"$f":"\"\"","v":""},{"$f":"\"\"","v":""},null,{"$f":"\"\"","v":""},{"$f":"\"\"","v":""},{"$f":"\"\"","v":""},{"$f":"\"\"","v":""},{"$f":"\"\"","v":""},{"$f":"\"\"","v":""},{"$f":"\"\"","v":""},{"$f":"\"\"","v":""},null,{"$f":"\"\"","v":""},{"$f":"\"\"","v":""},{"$f":"\"\"","v":""},{"$f":"\"\"","v":""},{"$f":"\"\"","v":""},{"$f":"\"\"","v":""},{"$f":"\"\"","v":""},{"$f":"\"\"","v":""},null,{"$f":"\"\"","v":""},{"$f":"\"\"","v":""},{"$f":"\"\"","v":""},{"$f":"\"\"","v":""},{"$f":"\"\"","v":""},{"$f":"\"\"","v":""},{"$f":"\"\"","v":""},{"$f":"\"\"","v":""},null,{"$f":"\"\"","v":""},{"$f":"\"\"","v":""},{"$f":"\"\"","v":""},{"$f":"\"\"","v":""},{"$f":"\"\"","v":""},{"$f":"\"\"","v":""},{"$f":"\"\"","v":""},{"$f":"\"\"","v":""},null,{"$f":"\"\"","v":""},"w/ Sausage","Carrots & Celery","Garlic Brown Rice","Mashed Potatoes & Dinner Roll","Dinner Roll","Cilantro Brown Rice","Garden Salad & Dressing",null,{"$f":"\"\"","v":""},{"$f":"\"\"","v":""},{"$f":"\"\"","v":""},{"$f":"\"\"","v":""},{"$f":"\"\"","v":""},{"$f":"\"\"","v":""},{"$f":"\"\"","v":""},{"$f":"\"\"","v":""},null,{"$f":"\"\"","v":""},"w/ Sausage","Carrots & Celery","Garlic Brown Rice","Mashed Potatoes & Dinner Roll","Dinner Roll","Cilantro Brown Rice","Assorted Chips",null,{"$f":"\"\"","v":""},{"$f":"\"\"","v":""},{"$f":"\"\"","v":""},{"$f":"\"\"","v":""},{"$f":"\"\"","v":""},{"$f":"\"\"","v":""},{"$f":"\"\"","v":""},{"$f":"\"\"","v":""}]
[null,{"$f":"\"\"","v":""},"Not Yet Available","Not Yet Available","Not Yet Available","Not Yet Available","Not Yet Available","Not Yet Available","Not Yet Available",null,{"$f":"\"\"","v":""},"Not Yet Available","Not Yet Available","Not Yet Available","Not Yet Available","Not Yet Available","Not Yet Available","Not Yet Available",null,{"$f":"\"\"","v":""},"Not Yet Available","Not Yet Available","Not Yet Available","Not Yet Available","Not Yet Available","Not Yet Available","Not Yet Available",null,{"$f":"\"\"","v":""},"Not Yet Available","Not Yet Available","Not Yet Available","Not Yet Available","Not Yet Available","Not Yet Available","Not Yet Available",null,{"$f":"\"\"","v":""},"Not Yet Available","Not Yet Available","Not Yet Available","Not Yet Available","Not Yet Available","Not Yet Available","Not Yet Available",null,{"$f":"\"\"","v":""},"Not Yet Available","Not Yet Available","Not Yet Available","Not Yet Available","Not Yet Available","Not Yet Available","Not Yet Available",null,{"$f":"\"\"","v":""},"Syrup","Dressing","Taco Sauce","Assorted Chips","Tomatoes","Side Salad & Cucumbers","Assorted Fruit",null,{"$f":"\"\"","v":""},"Not Yet Available","Not Yet Available","Not Yet Available","Not Yet Available","Not Yet Available","Not Yet Available","Not Yet Available",null,{"$f":"\"\"","v":""},"Syrup","Dressing","Assorted Chips & Taco Sauce","Assorted Chips","Tomatoes","Assorted Chips","Garden Salad & Dressing",null,{"$f":"\"\"","v":""},"Not Yet Available","Not Yet Available","Not Yet Available","Not Yet Available","Not Yet Available","Not Yet Available","Not Yet Available"]
[null,{"$f":"\"\"","v":""},{"$f":"\"\"","v":""},{"$f":"\"\"","v":""},{"$f":"\"\"","v":""},{"$f":"\"\"","v":""},{"$f":"\"\"","v":""},{"$f":"\"\"","v":""},{"$f":"\"\"","v":""},null,{"$f":"\"\"","v":""},{"$f":"\"\"","v":""},{"$f":"\"\"","v":""},{"$f":"\"\"","v":""},{"$f":"\"\"","v":""},{"$f":"\"\"","v":""},{"$f":"\"\"","v":""},{"$f":"\"\"","v":""},null,{"$f":"\"\"","v":""},{"$f":"\"\"","v":""},{"$f":"\"\"","v":""},{"$f":"\"\"","v":""},{"$f":"\"\"","v":""},{"$f":"\"\"","v":""},{"$f":"\"\"","v":""},{"$f":"\"\"","v":""},null,{"$f":"\"\"","v":""},{"$f":"\"\"","v":""},{"$f":"\"\"","v":""},{"$f":"\"\"","v":""},{"$f":"\"\"","v":""},{"$f":"\"\"","v":""},{"$f":"\"\"","v":""},{"$f":"\"\"","v":""},null,{"$f":"\"\"","v":""},{"$f":"\"\"","v":""},{"$f":"\"\"","v":""},{"$f":"\"\"","v":""},{"$f":"\"\"","v":""},{"$f":"\"\"","v":""},{"$f":"\"\"","v":""},{"$f":"\"\"","v":""},null,{"$f":"\"\"","v":""},{"$f":"\"\"","v":""},{"$f":"\"\"","v":""},{"$f":"\"\"","v":""},{"$f":"\"\"","v":""},{"$f":"\"\"","v":""},{"$f":"\"\"","v":""},{"$f":"\"\"","v":""},null,{"$f":"\"\"","v":""},"Breakfast Potato with Peppers","Assorted Fruit","Black Beans","Red Peppers","Spinach Salad","Dressing",{"$f":"\"\"","v":""},null,{"$f":"\"\"","v":""},{"$f":"\"\"","v":""},{"$f":"\"\"","v":""},{"$f":"\"\"","v":""},{"$f":"\"\"","v":""},{"$f":"\"\"","v":""},{"$f":"\"\"","v":""},{"$f":"\"\"","v":""},null,{"$f":"\"\"","v":""},"Breakfast Potato with Peppers","Assorted Fruit","Black Beans","Red Peppers","Spinach Salad","Side Salad, Cucumbers & Dressing","Assorted Fruit",null,{"$f":"\"\"","v":""},{"$f":"\"\"","v":""},{"$f":"\"\"","v":""},{"$f":"\"\"","v":""},{"$f":"\"\"","v":""},{"$f":"\"\"","v":""},{"$f":"\"\"","v":""},{"$f":"\"\"","v":""}]
[null,{"$f":"\"\"","v":""},{"$f":"\"\"","v":""},{"$f":"\"\"","v":""},{"$f":"\"\"","v":""},{"$f":"\"\"","v":""},{"$f":"\"\"","v":""},{"$f":"\"\"","v":""},{"$f":"\"\"","v":""},null,{"$f":"\"\"","v":""},{"$f":"\"\"","v":""},{"$f":"\"\"","v":""},{"$f":"\"\"","v":""},{"$f":"\"\"","v":""},{"$f":"\"\"","v":""},{"$f":"\"\"","v":""},{"$f":"\"\"","v":""},null,{"$f":"\"\"","v":""},{"$f":"\"\"","v":""},{"$f":"\"\"","v":""},{"$f":"\"\"","v":""},{"$f":"\"\"","v":""},{"$f":"\"\"","v":""},{"$f":"\"\"","v":""},{"$f":"\"\"","v":""},null,{"$f":"\"\"","v":""},{"$f":"\"\"","v":""},{"$f":"\"\"","v":""},{"$f":"\"\"","v":""},{"$f":"\"\"","v":""},{"$f":"\"\"","v":""},{"$f":"\"\"","v":""},{"$f":"\"\"","v":""},null,{"$f":"\"\"","v":""},{"$f":"\"\"","v":""},{"$f":"\"\"","v":""},{"$f":"\"\"","v":""},{"$f":"\"\"","v":""},{"$f":"\"\"","v":""},{"$f":"\"\"","v":""},{"$f":"\"\"","v":""},null,{"$f":"\"\"","v":""},{"$f":"\"\"","v":""},{"$f":"\"\"","v":""},{"$f":"\"\"","v":""},{"$f":"\"\"","v":""},{"$f":"\"\"","v":""},{"$f":"\"\"","v":""},{"$f":"\"\"","v":""},null,{"$f":"\"\"","v":""},"Assorted Fruit",{"$f":"\"\"","v":""},"Assorted Fruit","Assorted Fruit","Assorted Fruit","Assorted Fruit",{"$f":"\"\"","v":""},null,{"$f":"\"\"","v":""},{"$f":"\"\"","v":""},{"$f":"\"\"","v":""},{"$f":"\"\"","v":""},{"$f":"\"\"","v":""},{"$f":"\"\"","v":""},{"$f":"\"\"","v":""},{"$f":"\"\"","v":""},null,{"$f":"\"\"","v":""},"Assorted Fruit",{"$f":"\"\"","v":""},"Assorted Fruit","Assorted Fruit","Assorted Fruit","Assorted Fruit",{"$f":"\"\"","v":""},null,{"$f":"\"\"","v":""},{"$f":"\"\"","v":""},{"$f":"\"\"","v":""},{"$f":"\"\"","v":""},{"$f":"\"\"","v":""},{"$f":"\"\"","v":""},{"$f":"\"\"","v":""},{"$f":"\"\"","v":""}]
[null,"Week 40",{"$f":"\"\"","v":""},{"$f":"\"\"","v":""},{"$f":"\"\"","v":""},{"$f":"\"\"","v":""},{"$f":"\"\"","v":""},{"$f":"\"\"","v":""},{"$f":"\"\"","v":""},null,"Week 40",{"$f":"\"\"","v":""},{"$f":"\"\"","v":""},{"$f":"\"\"","v":""},{"$f":"\"\"","v":""},{"$f":"\"\"","v":""},{"$f":"\"\"","v":""},{"$f":"\"\"","v":""},null,"Week 40",{"$f":"\"\"","v":""},{"$f":"\"\"","v":""},{"$f":"\"\"","v":""},{"$f":"\"\"","v":""},{"$f":"\"\"","v":""},{"$f":"\"\"","v":""},{"$f":"\"\"","v":""},null,"Week 40",{"$f":"\"\"","v":""},{"$f":"\"\"","v":""},{"$f":"\"\"","v":""},{"$f":"\"\"","v":""},{"$f":"\"\"","v":""},{"$f":"\"\"","v":""},{"$f":"\"\"","v":""},null,"Week 40",{"$f":"\"\"","v":""},{"$f":"\"\"","v":""},{"$f":"\"\"","v":""},{"$f":"\"\"","v":""},{"$f":"\"\"","v":""},{"$f":"\"\"","v":""},{"$f":"\"\"","v":""},null,"Week 40",{"$f":"\"\"","v":""},{"$f":"\"\"","v":""},{"$f":"\"\"","v":""},{"$f":"\"\"","v":""},{"$f":"\"\"","v":""},{"$f":"\"\"","v":""},{"$f":"\"\"","v":""},null,"Week 40",{"$f":"\"\"","v":""},{"$f":"\"\"","v":""},{"$f":"\"\"","v":""},{"$f":"\"\"","v":""},{"$f":"\"\"","v":""},{"$f":"\"\"","v":""},{"$f":"\"\"","v":""},null,"Week 40",{"$f":"\"\"","v":""},{"$f":"\"\"","v":""},{"$f":"\"\"","v":""},{"$f":"\"\"","v":""},{"$f":"\"\"","v":""},{"$f":"\"\"","v":""},{"$f":"\"\"","v":""},null,"Week 40",{"$f":"\"\"","v":""},{"$f":"\"\"","v":""},{"$f":"\"\"","v":""},{"$f":"\"\"","v":""},{"$f":"\"\"","v":""},{"$f":"\"\"","v":""},{"$f":"\"\"","v":""},null,"Week 40",{"$f":"\"\"","v":""},{"$f":"\"\"","v":""},{"$f":"\"\"","v":""},{"$f":"\"\"","v":""},{"$f":"\"\"","v":""},{"$f":"\"\"","v":""},{"$f":"\"\"","v":""}]
[null,{"$f":"\"\"","v":""},{"$f":"\"\"","v":""},{"$f":"\"\"","v":""},{"$f":"\"\"","v":""},{"$f":"\"\"","v":""},{"$f":"\"\"","v":""},{"$f":"\"\"","v":""},{"$f":"\"\"","v":""},null,{"$f":"\"\"","v":""},{"$f":"\"\"","v":""},{"$f":"\"\"","v":""},{"$f":"\"\"","v":""},{"$f":"\"\"","v":""},{"$f":"\"\"","v":""},{"$f":"\"\"","v":""},{"$f":"\"\"","v":""},null,{"$f":"\"\"","v":""},{"$f":"\"\"","v":""},{"$f":"\"\"","v":""},{"$f":"\"\"","v":""},{"$f":"\"\"","v":""},{"$f":"\"\"","v":""},{"$f":"\"\"","v":""},{"$f":"\"\"","v":""},null,{"$f":"\"\"","v":""},{"$f":"\"\"","v":""},{"$f":"\"\"","v":""},{"$f":"\"\"","v":""},{"$f":"\"\"","v":""},{"$f":"\"\"","v":""},{"$f":"\"\"","v":""},{"$f":"\"\"","v":""},null,{"$f":"\"\"","v":""},{"$f":"\"\"","v":""},{"$f":"\"\"","v":""},{"$f":"\"\"","v":""},{"$f":"\"\"","v":""},{"$f":"\"\"","v":""},{"$f":"\"\"","v":""},{"$f":"\"\"","v":""},null,{"$f":"\"\"","v":""},{"$f":"\"\"","v":""},{"$f":"\"\"","v":""},{"$f":"\"\"","v":""},{"$f":"\"\"","v":""},{"$f":"\"\"","v":""},{"$f":"\"\"","v":""},{"$f":"\"\"","v":""},null,{"$f":"\"\"","v":""},"Queso Omelet","Asian Chicken Sandwich","BBQ Baked Pork","Twisted Queso Meatballs","Pesto Chicken Pasta","Tuscan Chicken Sandwich","French Toast Sticks",null,{"$f":"\"\"","v":""},{"$f":"\"\"","v":""},{"$f":"\"\"","v":""},{"$f":"\"\"","v":""},{"$f":"\"\"","v":""},{"$f":"\"\"","v":""},{"$f":"\"\"","v":""},{"$f":"\"\"","v":""},null,{"$f":"\"\"","v":""},"Queso Omelet","Asian Chicken Sandwich","BBQ Baked Pork","Twisted Queso Meatballs","Pesto Chicken Pasta","Tuscan Chicken Sandwich","French Toast Sticks",null,{"$f":"\"\"","v":""},{"$f":"\"\"","v":""},{"$f":"\"\"","v":""},{"$f":"\"\"","v":""},{"$f":"\"\"","v":""},{"$f":"\"\"","v":""},{"$f":"\"\"","v":""},{"$f":"\"\"","v":""}]
[null,{"$f":"\"\"","v":""},{"$f":"\"\"","v":""},{"$f":"\"\"","v":""},{"$f":"\"\"","v":""},{"$f":"\"\"","v":""},{"$f":"\"\"","v":""},{"$f":"\"\"","v":""},{"$f":"\"\"","v":""},null,{"$f":"\"\"","v":""},{"$f":"\"\"","v":""},{"$f":"\"\"","v":""},{"$f":"\"\"","v":""},{"$f":"\"\"","v":""},{"$f":"\"\"","v":""},{"$f":"\"\"","v":""},{"$f":"\"\"","v":""},null,{"$f":"\"\"","v":""},{"$f":"\"\"","v":""},{"$f":"\"\"","v":""},{"$f":"\"\"","v":""},{"$f":"\"\"","v":""},{"$f":"\"\"","v":""},{"$f":"\"\"","v":""},{"$f":"\"\"","v":""},null,{"$f":"\"\"","v":""},{"$f":"\"\"","v":""},{"$f":"\"\"","v":""},{"$f":"\"\"","v":""},{"$f":"\"\"","v":""},{"$f":"\"\"","v":""},{"$f":"\"\"","v":""},{"$f":"\"\"","v":""},null,{"$f":"\"\"","v":""},{"$f":"\"\"","v":""},{"$f":"\"\"","v":""},{"$f":"\"\"","v":""},{"$f":"\"\"","v":""},{"$f":"\"\"","v":""},{"$f":"\"\"","v":""},{"$f":"\"\"","v":""},null,{"$f":"\"\"","v":""},{"$f":"\"\"","v":""},{"$f":"\"\"","v":""},{"$f":"\"\"","v":""},{"$f":"\"\"","v":""},{"$f":"\"\"","v":""},{"$f":"\"\"","v":""},{"$f":"\"\"","v":""},null,{"$f":"\"\"","v":""},"Dinner Roll","Pinto Beans","Mashed Potatoes","Carrots & Dressing","Garden Salad & Dressing","Coleslaw","Syrup",null,{"$f":"\"\"","v":""},{"$f":"\"\"","v":""},{"$f":"\"\"","v":""},{"$f":"\"\"","v":""},{"$f":"\"\"","v":""},{"$f":"\"\"","v":""},{"$f":"\"\"","v":""},{"$f":"\"\"","v":""},null,{"$f":"\"\"","v":""},"Assorted Chips & Dinner Roll","Assorted Chips","Mashed Potatoes","Assorted Chips","Dinner Roll","Assorted Chips","Syrup",null,{"$f":"\"\"","v":""},{"$f":"\"\"","v":""},{"$f":"\"\"","v":""},{"$f":"\"\"","v":""},{"$f":"\"\"","v":""},{"$f":"\"\"","v":""},{"$f":"\"\"","v":""},{"$f":"\"\"","v":""}]
[null,{"$f":"\"\"","v":""},"Not Yet Available","Not Yet Available","Not Yet Available","Not Yet Available","Not Yet Available","Not Yet Available","Not Yet Available",null,{"$f":"\"\"","v":""},"Not Yet Available","Not Yet Available","Not Yet Available","Not Yet Available","Not Yet Available","Not Yet Available","Not Yet Available",null,{"$f":"\"\"","v":""},"Not Yet Available","Not Yet Available","Not Yet Available","Not Yet Available","Not Yet Available","Not Yet Available","Not Yet Available",null,{"$f":"\"\"","v":""},"Not Yet Available","Not Yet Available","Not Yet Available","Not Yet Available","Not Yet Available","Not Yet Available","Not Yet Available",null,{"$f":"\"\"","v":""},"Not Yet Available","Not Yet Available","Not Yet Available","Not Yet Available","Not Yet Available","Not Yet Available","Not Yet Available",null,{"$f":"\"\"","v":""},"Not Yet Available","Not Yet Available","Not Yet Available","Not Yet Available","Not Yet Available","Not Yet Available","Not Yet Available",null,{"$f":"\"\"","v":""},"Side Salad & Dressing","Assorted Fruit","Biscuit","Assorted Fruit","Assorted Fruit","Assorted Fruit","Breakfast Potatoes & Ketchup",null,{"$f":"\"\"","v":""},"Not Yet Available","Not Yet Available","Not Yet Available","Not Yet Available","Not Yet Available","Not Yet Available","Not Yet Available",null,{"$f":"\"\"","v":""},"Side Salad & Dressing","Pinto Beans","Biscuit","Carrots & Dressing","Garden Salad & Dressing","Baked Beans & Coleslaw","Breakfast Potatoes & Ketchup",null,{"$f":"\"\"","v":""},"Not Yet Available","Not Yet Available","Not Yet Available","Not Yet Available","Not Yet Available","Not Yet Available","Not Yet Available"]
[null,{"$f":"\"\"","v":""},{"$f":"\"\"","v":""},{"$f":"\"\"","v":""},{"$f":"\"\"","v":""},{"$f":"\"\"","v":""},{"$f":"\"\"","v":""},{"$f":"\"\"","v":""},{"$f":"\"\"","v":""},null,{"$f":"\"\"","v":""},{"$f":"\"\"","v":""},{"$f":"\"\"","v":""},{"$f":"\"\"","v":""},{"$f":"\"\"","v":""},{"$f":"\"\"","v":""},{"$f":"\"\"","v":""},{"$f":"\"\"","v":""},null,{"$f":"\"\"","v":""},{"$f":"\"\"","v":""},{"$f":"\"\"","v":""},{"$f":"\"\"","v":""},{"$f":"\"\"","v":""},{"$f":"\"\"","v":""},{"$f":"\"\"","v":""},{"$f":"\"\"","v":""},null,{"$f":"\"\"","v":""},{"$f":"\"\"","v":""},{"$f":"\"\"","v":""},{"$f":"\"\"","v":""},{"$f":"\"\"","v":""},{"$f":"\"\"","v":""},{"$f":"\"\"","v":""},{"$f":"\"\"","v":""},null,{"$f":"\"\"","v":""},{"$f":"\"\"","v":""},{"$f":"\"\"","v":""},{"$f":"\"\"","v":""},{"$f":"\"\"","v":""},{"$f":"\"\"","v":""},{"$f":"\"\"","v":""},{"$f":"\"\"","v":""},null,{"$f":"\"\"","v":""},{"$f":"\"\"","v":""},{"$f":"\"\"","v":""},{"$f":"\"\"","v":""},{"$f":"\"\"","v":""},{"$f":"\"\"","v":""},{"$f":"\"\"","v":""},{"$f":"\"\"","v":""},null,{"$f":"\"\"","v":""},"Snap Peas",{"$f":"\"\"","v":""},"Green Beans",{"$f":"\"\"","v":""},{"$f":"\"\"","v":""},{"$f":"\"\"","v":""},"Assorted Fruit",null,{"$f":"\"\"","v":""},{"$f":"\"\"","v":""},{"$f":"\"\"","v":""},{"$f":"\"\"","v":""},{"$f":"\"\"","v":""},{"$f":"\"\"","v":""},{"$f":"\"\"","v":""},{"$f":"\"\"","v":""},null,{"$f":"\"\"","v":""},"Snap Peas","Assorted Fruit","Green Beans","Assorted Fruit","Assorted Fruit","Assorted Fruit","Assorted Fruit",null,{"$f":"\"\"","v":""},{"$f":"\"\"","v":""},{"$f":"\"\"","v":""},{"$f":"\"\"","v":""},{"$f":"\"\"","v":""},{"$f":"\"\"","v":""},{"$f":"\"\"","v":""},{"$f":"\"\"","v":""}]
[null,{"$f":"\"\"","v":""},{"$f":"\"\"","v":""},{"$f":"\"\"","v":""},{"$f":"\"\"","v":""},{"$f":"\"\"","v":""},{"$f":"\"\"","v":""},{"$f":"\"\"","v":""},{"$f":"\"\"","v":""},null,{"$f":"\"\"","v":""},{"$f":"\"\"","v":""},{"$f":"\"\"","v":""},{"$f":"\"\"","v":""},{"$f":"\"\"","v":""},{"$f":"\"\"","v":""},{"$f":"\"\"","v":""},{"$f":"\"\"","v":""},null,{"$f":"\"\"","v":""},{"$f":"\"\"","v":""},{"$f":"\"\"","v":""},{"$f":"\"\"","v":""},{"$f":"\"\"","v":""},{"$f":"\"\"","v":""},{"$f":"\"\"","v":""},{"$f":"\"\"","v":""},null,{"$f":"\"\"","v":""},{"$f":"\"\"","v":""},{"$f":"\"\"","v":""},{"$f":"\"\"","v":""},{"$f":"\"\"","v":""},{"$f":"\"\"","v":""},{"$f":"\"\"","v":""},{"$f":"\"\"","v":""},null,{"$f":"\"\"","v":""},{"$f":"\"\"","v":""},{"$f":"\"\"","v":""},{"$f":"\"\"","v":""},{"$f":"\"\"","v":""},{"$f":"\"\"","v":""},{"$f":"\"\"","v":""},{"$f":"\"\"","v":""},null,{"$f":"\"\"","v":""},{"$f":"\"\"","v":""},{"$f":"\"\"","v":""},{"$f":"\"\"","v":""},{"$f":"\"\"","v":""},{"$f":"\"\"","v":""},{"$f":"\"\"","v":""},{"$f":"\"\"","v":""},null,{"$f":"\"\"","v":""},"Assorted Fruit",{"$f":"\"\"","v":""},"Assorted Fruit",{"$f":"\"\"","v":""},{"$f":"\"\"","v":""},{"$f":"\"\"","v":""},{"$f":"\"\"","v":""},null,{"$f":"\"\"","v":""},{"$f":"\"\"","v":""},{"$f":"\"\"","v":""},{"$f":"\"\"","v":""},{"$f":"\"\"","v":""},{"$f":"\"\"","v":""},{"$f":"\"\"","v":""},{"$f":"\"\"","v":""},null,{"$f":"\"\"","v":""},"Assorted Fruit",{"$f":"\"\"","v":""},"Assorted Fruit",{"$f":"\"\"","v":""},{"$f":"\"\"","v":""},null,{"$f":"\"\"","v":""},null,{"$f":"\"\"","v":""},{"$f":"\"\"","v":""},{"$f":"\"\"","v":""},{"$f":"\"\"","v":""},{"$f":"\"\"","v":""},{"$f":"\"\"","v":""},{"$f":"\"\"","v":""},{"$f":"\"\"","v":""}]

{"sheet":"Copy","index":2,"n_rows":42,"n_cols":12,"rows_kept":42,"cut":false,"hidden":false,"merged":[[41,0,42,0],[41,1,42,2],[41,3,42,5],[41,6,42,7],[1,1,2,2],[1,3,1,6],[1,7,3,7],[2,3,3,5],[2,6,3,6]]}
["Age Group:","6-8",null,"Salad Bar:","No",null,"Days of School:","7-Day"]
[]
[null,null,null,"Month",null,null,"Year",null,null,{"$f":"DATE($G$3,MONTH(DATEVALUE(D3&\" 1\")),1)","v":{"$error":"#VALUE!"}},{"$f":"TEXT((DATE($G$3,MONTH(DATEVALUE(D3&\" 1\")),1)),\"DDD\")","v":{"$error":"#VALUE!"}}]
[null,null,null,null,null,null,null,null,null,{"$f":"VALUE(TEXT(EOMONTH(J3,0),\"DD\"))","v":{"$error":"#VALUE!"}},{"$f":"MONTH(DATEVALUE(D3&\" 1\"))","v":{"$error":"#VALUE!"}}]
[null,"Sun","Mon","Tue","Wed","Thu","Fri","Sat"]
["Week 1",{"$f":"IFERROR(IF($K$3=B5,1,\"\"),\"\")","v":""},{"$f":"IFERROR(IF($K$3=C5,1,IF(B6=\"\",\"\",B6+1)),\"\")","v":""},"","","","",""]
[]
[null,{"$f":"IFERROR(INDEX('Weeks Calendar'!$C$6:$I$10,2,MATCH(B7,'Weeks Calendar'!$C$6:$I$6,0)),\"\")&\nIFERROR(INDEX('Weeks Calendar'!$C$12:$I$16,2,MATCH(B7,'Weeks Calendar'!$C$12:$I$12,0)),\"\")&\nIFERROR(INDEX('Weeks Calendar'!$C$18:$I$22,2,MATCH(B7,'Weeks Calendar'!$C$18:$I$18,0)),\"\")&\nIFERROR(INDEX('Weeks Calendar'!$C$24:$I$28,2,MATCH(B7,'Weeks Calendar'!$C$24:$I$24,0)),\"\")&\nIFERROR(INDEX('Weeks Calendar'!$C$24:$I$28,2,MATCH(B7,'Weeks Calendar'!$C$30:$I$30,0)),\"\")","v":""},{"$f":"IFERROR(INDEX('Weeks Calendar'!$C$6:$I$10,2,MATCH(C7,'Weeks Calendar'!$C$6:$I$6,0)),\"\")&\nIFERROR(INDEX('Weeks Calendar'!$C$12:$I$16,2,MATCH(C7,'Weeks Calendar'!$C$12:$I$12,0)),\"\")&\nIFERROR(INDEX('Weeks Calendar'!$C$18:$I$22,2,MATCH(C7,'Weeks Calendar'!$C$18:$I$18,0)),\"\")&\nIFERROR(INDEX('Weeks Calendar'!$C$24:$I$28,2,MATCH(C7,'Weeks Calendar'!$C$24:$I$24,0)),\"\")&\nIFERROR(INDEX('Weeks Calendar'!$C$24:$I$28,2,MATCH(C7,'Weeks Calendar'!$C$30:$I$30,0)),\"\")","v":""},{"$f":"IFERROR(INDEX('Weeks Calendar'!$C$6:$I$10,2,MATCH(D7,'Weeks Calendar'!$C$6:$I$6,0)),\"\")&\nIFERROR(INDEX('Weeks Calendar'!$C$12:$I$16,2,MATCH(D7,'Weeks Calendar'!$C$12:$I$12,0)),\"\")&\nIFERROR(INDEX('Weeks Calendar'!$C$18:$I$22,2,MATCH(D7,'Weeks Calendar'!$C$18:$I$18,0)),\"\")&\nIFERROR(INDEX('Weeks Calendar'!$C$24:$I$28,2,MATCH(D7,'Weeks Calendar'!$C$24:$I$24,0)),\"\")&\nIFERROR(INDEX('Weeks Calendar'!$C$24:$I$28,2,MATCH(D7,'Weeks Calendar'!$C$30:$I$30,0)),\"\")","v":""},{"$f":"IFERROR(INDEX('Weeks Calendar'!$C$6:$I$10,2,MATCH(E7,'Weeks Calendar'!$C$6:$I$6,0)),\"\")&\nIFERROR(INDEX('Weeks Calendar'!$C$12:$I$16,2,MATCH(E7,'Weeks Calendar'!$C$12:$I$12,0)),\"\")&\nIFERROR(INDEX('Weeks Calendar'!$C$18:$I$22,2,MATCH(E7,'Weeks Calendar'!$C$18:$I$18,0)),\"\")&\nIFERROR(INDEX('Weeks Calendar'!$C$24:$I$28,2,MATCH(E7,'Weeks Calendar'!$C$24:$I$24,0)),\"\")&\nIFERROR(INDEX('Weeks Calendar'!$C$24:$I$28,2,MATCH(E7,'Weeks Calendar'!$C$30:$I$30,0)),\"\")","v":""},{"$f":"IFERROR(INDEX('Weeks Calendar'!$C$6:$I$10,2,MATCH(F7,'Weeks Calendar'!$C$6:$I$6,0)),\"\")&\nIFERROR(INDEX('Weeks Calendar'!$C$12:$I$16,2,MATCH(F7,'Weeks Calendar'!$C$12:$I$12,0)),\"\")&\nIFERROR(INDEX('Weeks Calendar'!$C$18:$I$22,2,MATCH(F7,'Weeks Calendar'!$C$18:$I$18,0)),\"\")&\nIFERROR(INDEX('Weeks Calendar'!$C$24:$I$28,2,MATCH(F7,'Weeks Calendar'!$C$24:$I$24,0)),\"\")&\nIFERROR(INDEX('Weeks Calendar'!$C$24:$I$28,2,MATCH(F7,'Weeks Calendar'!$C$30:$I$30,0)),\"\")","v":""},{"$f":"IFERROR(INDEX('Weeks Calendar'!$C$6:$I$10,2,MATCH(G7,'Weeks Calendar'!$C$6:$I$6,0)),\"\")&\nIFERROR(INDEX('Weeks Calendar'!$C$12:$I$16,2,MATCH(G7,'Weeks Calendar'!$C$12:$I$12,0)),\"\")&\nIFERROR(INDEX('Weeks Calendar'!$C$18:$I$22,2,MATCH(G7,'Weeks Calendar'!$C$18:$I$18,0)),\"\")&\nIFERROR(INDEX('Weeks Calendar'!$C$24:$I$28,2,MATCH(G7,'Weeks Calendar'!$C$24:$I$24,0)),\"\")&\nIFERROR(INDEX('Weeks Calendar'!$C$24:$I$28,2,MATCH(G7,'Weeks Calendar'!$C$30:$I$30,0)),\"\")","v":""},{"$f":"IFERROR(INDEX('Weeks Calendar'!$C$6:$I$10,2,MATCH(H7,'Weeks Calendar'!$C$6:$I$6,0)),\"\")&\nIFERROR(INDEX('Weeks Calendar'!$C$12:$I$16,2,MATCH(H7,'Weeks Calendar'!$C$12:$I$12,0)),\"\")&\nIFERROR(INDEX('Weeks Calendar'!$C$18:$I$22,2,MATCH(H7,'Weeks Calendar'!$C$18:$I$18,0)),\"\")&\nIFERROR(INDEX('Weeks Calendar'!$C$24:$I$28,2,MATCH(H7,'Weeks Calendar'!$C$24:$I$24,0)),\"\")&\nIFERROR(INDEX('Weeks Calendar'!$C$24:$I$28,2,MATCH(H7,'Weeks Calendar'!$C$30:$I$30,0)),\"\")","v":""},null,null,null,"<<<<Grocery Meals>>>>"]
[null,{"$f":"IFERROR(INDEX('Weeks Calendar'!$C$6:$I$10,3,MATCH(B7,'Weeks Calendar'!$C$6:$I$6,0)),\"\")&\nIFERROR(INDEX('Weeks Calendar'!$C$12:$I$16,3,MATCH(B7,'Weeks Calendar'!$C$12:$I$12,0)),\"\")&\nIFERROR(INDEX('Weeks Calendar'!$C$18:$I$22,3,MATCH(B7,'Weeks Calendar'!$C$18:$I$18,0)),\"\")&\nIFERROR(INDEX('Weeks Calendar'!$C$24:$I$28,3,MATCH(B7,'Weeks Calendar'!$C$24:$I$24,0)),\"\")&\nIFERROR(INDEX('Weeks Calendar'!$C$24:$I$28,3,MATCH(B7,'Weeks Calendar'!$C$30:$I$30,0)),\"\")","v":""},{"$f":"IFERROR(INDEX('Weeks Calendar'!$C$6:$I$10,3,MATCH(C7,'Weeks Calendar'!$C$6:$I$6,0)),\"\")&\nIFERROR(INDEX('Weeks Calendar'!$C$12:$I$16,3,MATCH(C7,'Weeks Calendar'!$C$12:$I$12,0)),\"\")&\nIFERROR(INDEX('Weeks Calendar'!$C$18:$I$22,3,MATCH(C7,'Weeks Calendar'!$C$18:$I$18,0)),\"\")&\nIFERROR(INDEX('Weeks Calendar'!$C$24:$I$28,3,MATCH(C7,'Weeks Calendar'!$C$24:$I$24,0)),\"\")&\nIFERROR(INDEX('Weeks Calendar'!$C$24:$I$28,3,MATCH(C7,'Weeks Calendar'!$C$30:$I$30,0)),\"\")","v":""},{"$f":"IFERROR(INDEX('Weeks Calendar'!$C$6:$I$10,3,MATCH(D7,'Weeks Calendar'!$C$6:$I$6,0)),\"\")&\nIFERROR(INDEX('Weeks Calendar'!$C$12:$I$16,3,MATCH(D7,'Weeks Calendar'!$C$12:$I$12,0)),\"\")&\nIFERROR(INDEX('Weeks Calendar'!$C$18:$I$22,3,MATCH(D7,'Weeks Calendar'!$C$18:$I$18,0)),\"\")&\nIFERROR(INDEX('Weeks Calendar'!$C$24:$I$28,3,MATCH(D7,'Weeks Calendar'!$C$24:$I$24,0)),\"\")&\nIFERROR(INDEX('Weeks Calendar'!$C$24:$I$28,3,MATCH(D7,'Weeks Calendar'!$C$30:$I$30,0)),\"\")","v":""},{"$f":"IFERROR(INDEX('Weeks Calendar'!$C$6:$I$10,3,MATCH(E7,'Weeks Calendar'!$C$6:$I$6,0)),\"\")&\nIFERROR(INDEX('Weeks Calendar'!$C$12:$I$16,3,MATCH(E7,'Weeks Calendar'!$C$12:$I$12,0)),\"\")&\nIFERROR(INDEX('Weeks Calendar'!$C$18:$I$22,3,MATCH(E7,'Weeks Calendar'!$C$18:$I$18,0)),\"\")&\nIFERROR(INDEX('Weeks Calendar'!$C$24:$I$28,3,MATCH(E7,'Weeks Calendar'!$C$24:$I$24,0)),\"\")&\nIFERROR(INDEX('Weeks Calendar'!$C$24:$I$28,3,MATCH(E7,'Weeks Calendar'!$C$30:$I$30,0)),\"\")","v":""},{"$f":"IFERROR(INDEX('Weeks Calendar'!$C$6:$I$10,3,MATCH(F7,'Weeks Calendar'!$C$6:$I$6,0)),\"\")&\nIFERROR(INDEX('Weeks Calendar'!$C$12:$I$16,3,MATCH(F7,'Weeks Calendar'!$C$12:$I$12,0)),\"\")&\nIFERROR(INDEX('Weeks Calendar'!$C$18:$I$22,3,MATCH(F7,'Weeks Calendar'!$C$18:$I$18,0)),\"\")&\nIFERROR(INDEX('Weeks Calendar'!$C$24:$I$28,3,MATCH(F7,'Weeks Calendar'!$C$24:$I$24,0)),\"\")&\nIFERROR(INDEX('Weeks Calendar'!$C$24:$I$28,3,MATCH(F7,'Weeks Calendar'!$C$30:$I$30,0)),\"\")","v":""},{"$f":"IFERROR(INDEX('Weeks Calendar'!$C$6:$I$10,3,MATCH(G7,'Weeks Calendar'!$C$6:$I$6,0)),\"\")&\nIFERROR(INDEX('Weeks Calendar'!$C$12:$I$16,3,MATCH(G7,'Weeks Calendar'!$C$12:$I$12,0)),\"\")&\nIFERROR(INDEX('Weeks Calendar'!$C$18:$I$22,3,MATCH(G7,'Weeks Calendar'!$C$18:$I$18,0)),\"\")&\nIFERROR(INDEX('Weeks Calendar'!$C$24:$I$28,3,MATCH(G7,'Weeks Calendar'!$C$24:$I$24,0)),\"\")&\nIFERROR(INDEX('Weeks Calendar'!$C$24:$I$28,3,MATCH(G7,'Weeks Calendar'!$C$30:$I$30,0)),\"\")","v":""},{"$f":"IFERROR(INDEX('Weeks Calendar'!$C$6:$I$10,3,MATCH(H7,'Weeks Calendar'!$C$6:$I$6,0)),\"\")&\nIFERROR(INDEX('Weeks Calendar'!$C$12:$I$16,3,MATCH(H7,'Weeks Calendar'!$C$12:$I$12,0)),\"\")&\nIFERROR(INDEX('Weeks Calendar'!$C$18:$I$22,3,MATCH(H7,'Weeks Calendar'!$C$18:$I$18,0)),\"\")&\nIFERROR(INDEX('Weeks Calendar'!$C$24:$I$28,3,MATCH(H7,'Weeks Calendar'!$C$24:$I$24,0)),\"\")&\nIFERROR(INDEX('Weeks Calendar'!$C$24:$I$28,3,MATCH(H7,'Weeks Calendar'!$C$30:$I$30,0)),\"\")","v":""},null,null,null,"Penne & Meatballs"]
[null,{"$f":"IFERROR(INDEX('Weeks Calendar'!$C$6:$I$10,4,MATCH(B7,'Weeks Calendar'!$C$6:$I$6,0)),\"\")&\nIFERROR(INDEX('Weeks Calendar'!$C$12:$I$16,4,MATCH(B7,'Weeks Calendar'!$C$12:$I$12,0)),\"\")&\nIFERROR(INDEX('Weeks Calendar'!$C$18:$I$22,4,MATCH(B7,'Weeks Calendar'!$C$18:$I$18,0)),\"\")&\nIFERROR(INDEX('Weeks Calendar'!$C$24:$I$28,4,MATCH(B7,'Weeks Calendar'!$C$24:$I$24,0)),\"\")&\nIFERROR(INDEX('Weeks Calendar'!$C$24:$I$28,4,MATCH(B7,'Weeks Calendar'!$C$30:$I$30,0)),\"\")","v":""},{"$f":"IFERROR(INDEX('Weeks Calendar'!$C$6:$I$10,4,MATCH(C7,'Weeks Calendar'!$C$6:$I$6,0)),\"\")&\nIFERROR(INDEX('Weeks Calendar'!$C$12:$I$16,4,MATCH(C7,'Weeks Calendar'!$C$12:$I$12,0)),\"\")&\nIFERROR(INDEX('Weeks Calendar'!$C$18:$I$22,4,MATCH(C7,'Weeks Calendar'!$C$18:$I$18,0)),\"\")&\nIFERROR(INDEX('Weeks Calendar'!$C$24:$I$28,4,MATCH(C7,'Weeks Calendar'!$C$24:$I$24,0)),\"\")&\nIFERROR(INDEX('Weeks Calendar'!$C$24:$I$28,4,MATCH(C7,'Weeks Calendar'!$C$30:$I$30,0)),\"\")","v":""},{"$f":"IFERROR(INDEX('Weeks Calendar'!$C$6:$I$10,4,MATCH(D7,'Weeks Calendar'!$C$6:$I$6,0)),\"\")&\nIFERROR(INDEX('Weeks Calendar'!$C$12:$I$16,4,MATCH(D7,'Weeks Calendar'!$C$12:$I$12,0)),\"\")&\nIFERROR(INDEX('Weeks Calendar'!$C$18:$I$22,4,MATCH(D7,'Weeks Calendar'!$C$18:$I$18,0)),\"\")&\nIFERROR(INDEX('Weeks Calendar'!$C$24:$I$28,4,MATCH(D7,'Weeks Calendar'!$C$24:$I$24,0)),\"\")&\nIFERROR(INDEX('Weeks Calendar'!$C$24:$I$28,4,MATCH(D7,'Weeks Calendar'!$C$30:$I$30,0)),\"\")","v":""},{"$f":"IFERROR(INDEX('Weeks Calendar'!$C$6:$I$10,4,MATCH(E7,'Weeks Calendar'!$C$6:$I$6,0)),\"\")&\nIFERROR(INDEX('Weeks Calendar'!$C$12:$I$16,4,MATCH(E7,'Weeks Calendar'!$C$12:$I$12,0)),\"\")&\nIFERROR(INDEX('Weeks Calendar'!$C$18:$I$22,4,MATCH(E7,'Weeks Calendar'!$C$18:$I$18,0)),\"\")&\nIFERROR(INDEX('Weeks Calendar'!$C$24:$I$28,4,MATCH(E7,'Weeks Calendar'!$C$24:$I$24,0)),\"\")&\nIFERROR(INDEX('Weeks Calendar'!$C$24:$I$28,4,MATCH(E7,'Weeks Calendar'!$C$30:$I$30,0)),\"\")","v":""},{"$f":"IFERROR(INDEX('Weeks Calendar'!$C$6:$I$10,4,MATCH(F7,'Weeks Calendar'!$C$6:$I$6,0)),\"\")&\nIFERROR(INDEX('Weeks Calendar'!$C$12:$I$16,4,MATCH(F7,'Weeks Calendar'!$C$12:$I$12,0)),\"\")&\nIFERROR(INDEX('Weeks Calendar'!$C$18:$I$22,4,MATCH(F7,'Weeks Calendar'!$C$18:$I$18,0)),\"\")&\nIFERROR(INDEX('Weeks Calendar'!$C$24:$I$28,4,MATCH(F7,'Weeks Calendar'!$C$24:$I$24,0)),\"\")&\nIFERROR(INDEX('Weeks Calendar'!$C$24:$I$28,4,MATCH(F7,'Weeks Calendar'!$C$30:$I$30,0)),\"\")","v":""},{"$f":"IFERROR(INDEX('Weeks Calendar'!$C$6:$I$10,4,MATCH(G7,'Weeks Calendar'!$C$6:$I$6,0)),\"\")&\nIFERROR(INDEX('Weeks Calendar'!$C$12:$I$16,4,MATCH(G7,'Weeks Calendar'!$C$12:$I$12,0)),\"\")&\nIFERROR(INDEX('Weeks Calendar'!$C$18:$I$22,4,MATCH(G7,'Weeks Calendar'!$C$18:$I$18,0)),\"\")&\nIFERROR(INDEX('Weeks Calendar'!$C$24:$I$28,4,MATCH(G7,'Weeks Calendar'!$C$24:$I$24,0)),\"\")&\nIFERROR(INDEX('Weeks Calendar'!$C$24:$I$28,4,MATCH(G7,'Weeks Calendar'!$C$30:$I$30,0)),\"\")","v":""},{"$f":"IFERROR(INDEX('Weeks Calendar'!$C$6:$I$10,4,MATCH(H7,'Weeks Calendar'!$C$6:$I$6,0)),\"\")&\nIFERROR(INDEX('Weeks Calendar'!$C$12:$I$16,4,MATCH(H7,'Weeks Calendar'!$C$12:$I$12,0)),\"\")&\nIFERROR(INDEX('Weeks Calendar'!$C$18:$I$22,4,MATCH(H7,'Weeks Calendar'!$C$18:$I$18,0)),\"\")&\nIFERROR(INDEX('Weeks Calendar'!$C$24:$I$28,4,MATCH(H7,'Weeks Calendar'!$C$24:$I$24,0)),\"\")&\nIFERROR(INDEX('Weeks Calendar'!$C$24:$I$28,4,MATCH(H7,'Weeks Calendar'!$C$30:$I$30,0)),\"\")","v":""},null,null,null,"Beef Chili w/ Cornbread"]
[null,{"$f":"IFERROR(INDEX('Weeks Calendar'!$C$6:$I$10,5,MATCH(B7,'Weeks Calendar'!$C$6:$I$6,0)),\"\")&\nIFERROR(INDEX('Weeks Calendar'!$C$12:$I$16,5,MATCH(B7,'Weeks Calendar'!$C$12:$I$12,0)),\"\")&\nIFERROR(INDEX('Weeks Calendar'!$C$18:$I$22,5,MATCH(B7,'Weeks Calendar'!$C$18:$I$18,0)),\"\")&\nIFERROR(INDEX('Weeks Calendar'!$C$24:$I$28,5,MATCH(B7,'Weeks Calendar'!$C$24:$I$24,0)),\"\")&\nIFERROR(INDEX('Weeks Calendar'!$C$24:$I$28,5,MATCH(B7,'Weeks Calendar'!$C$30:$I$30,0)),\"\")","v":""},{"$f":"IFERROR(INDEX('Weeks Calendar'!$C$6:$I$10,5,MATCH(C7,'Weeks Calendar'!$C$6:$I$6,0)),\"\")&\nIFERROR(INDEX('Weeks Calendar'!$C$12:$I$16,5,MATCH(C7,'Weeks Calendar'!$C$12:$I$12,0)),\"\")&\nIFERROR(INDEX('Weeks Calendar'!$C$18:$I$22,5,MATCH(C7,'Weeks Calendar'!$C$18:$I$18,0)),\"\")&\nIFERROR(INDEX('Weeks Calendar'!$C$24:$I$28,5,MATCH(C7,'Weeks Calendar'!$C$24:$I$24,0)),\"\")&\nIFERROR(INDEX('Weeks Calendar'!$C$24:$I$28,5,MATCH(C7,'Weeks Calendar'!$C$30:$I$30,0)),\"\")","v":""},{"$f":"IFERROR(INDEX('Weeks Calendar'!$C$6:$I$10,5,MATCH(D7,'Weeks Calendar'!$C$6:$I$6,0)),\"\")&\nIFERROR(INDEX('Weeks Calendar'!$C$12:$I$16,5,MATCH(D7,'Weeks Calendar'!$C$12:$I$12,0)),\"\")&\nIFERROR(INDEX('Weeks Calendar'!$C$18:$I$22,5,MATCH(D7,'Weeks Calendar'!$C$18:$I$18,0)),\"\")&\nIFERROR(INDEX('Weeks Calendar'!$C$24:$I$28,5,MATCH(D7,'Weeks Calendar'!$C$24:$I$24,0)),\"\")&\nIFERROR(INDEX('Weeks Calendar'!$C$24:$I$28,5,MATCH(D7,'Weeks Calendar'!$C$30:$I$30,0)),\"\")","v":""},{"$f":"IFERROR(INDEX('Weeks Calendar'!$C$6:$I$10,5,MATCH(E7,'Weeks Calendar'!$C$6:$I$6,0)),\"\")&\nIFERROR(INDEX('Weeks Calendar'!$C$12:$I$16,5,MATCH(E7,'Weeks Calendar'!$C$12:$I$12,0)),\"\")&\nIFERROR(INDEX('Weeks Calendar'!$C$18:$I$22,5,MATCH(E7,'Weeks Calendar'!$C$18:$I$18,0)),\"\")&\nIFERROR(INDEX('Weeks Calendar'!$C$24:$I$28,5,MATCH(E7,'Weeks Calendar'!$C$24:$I$24,0)),\"\")&\nIFERROR(INDEX('Weeks Calendar'!$C$24:$I$28,5,MATCH(E7,'Weeks Calendar'!$C$30:$I$30,0)),\"\")","v":""},{"$f":"IFERROR(INDEX('Weeks Calendar'!$C$6:$I$10,5,MATCH(F7,'Weeks Calendar'!$C$6:$I$6,0)),\"\")&\nIFERROR(INDEX('Weeks Calendar'!$C$12:$I$16,5,MATCH(F7,'Weeks Calendar'!$C$12:$I$12,0)),\"\")&\nIFERROR(INDEX('Weeks Calendar'!$C$18:$I$22,5,MATCH(F7,'Weeks Calendar'!$C$18:$I$18,0)),\"\")&\nIFERROR(INDEX('Weeks Calendar'!$C$24:$I$28,5,MATCH(F7,'Weeks Calendar'!$C$24:$I$24,0)),\"\")&\nIFERROR(INDEX('Weeks Calendar'!$C$24:$I$28,5,MATCH(F7,'Weeks Calendar'!$C$30:$I$30,0)),\"\")","v":""},{"$f":"IFERROR(INDEX('Weeks Calendar'!$C$6:$I$10,5,MATCH(G7,'Weeks Calendar'!$C$6:$I$6,0)),\"\")&\nIFERROR(INDEX('Weeks Calendar'!$C$12:$I$16,5,MATCH(G7,'Weeks Calendar'!$C$12:$I$12,0)),\"\")&\nIFERROR(INDEX('Weeks Calendar'!$C$18:$I$22,5,MATCH(G7,'Weeks Calendar'!$C$18:$I$18,0)),\"\")&\nIFERROR(INDEX('Weeks Calendar'!$C$24:$I$28,5,MATCH(G7,'Weeks Calendar'!$C$24:$I$24,0)),\"\")&\nIFERROR(INDEX('Weeks Calendar'!$C$24:$I$28,5,MATCH(G7,'Weeks Calendar'!$C$30:$I$30,0)),\"\")","v":""},{"$f":"IFERROR(INDEX('Weeks Calendar'!$C$6:$I$10,5,MATCH(H7,'Weeks Calendar'!$C$6:$I$6,0)),\"\")&\nIFERROR(INDEX('Weeks Calendar'!$C$12:$I$16,5,MATCH(H7,'Weeks Calendar'!$C$12:$I$12,0)),\"\")&\nIFERROR(INDEX('Weeks Calendar'!$C$18:$I$22,5,MATCH(H7,'Weeks Calendar'!$C$18:$I$18,0)),\"\")&\nIFERROR(INDEX('Weeks Calendar'!$C$24:$I$28,5,MATCH(H7,'Weeks Calendar'!$C$24:$I$24,0)),\"\")&\nIFERROR(INDEX('Weeks Calendar'!$C$24:$I$28,5,MATCH(H7,'Weeks Calendar'!$C$30:$I$30,0)),\"\")","v":""},null,null,null,"Turkey w/ Mashed Potatoes"]
["Week 4",{"$f":"IFERROR(H6+1,\"\")","v":""},{"$f":"IFERROR(B12+1,\"\")","v":""},{"$f":"IFERROR(C12+1,\"\")","v":""},"","","","",null,null,null,"Beef Soft Tacos"]
[null,null,null,null,null,null,null,null,null,null,null,"Teriyaki Chicken"]
[null,{"$f":"IFERROR(INDEX('Weeks Calendar'!$C$6:$I$10,2,MATCH(B13,'Weeks Calendar'!$C$6:$I$6,0)),\"\")&\nIFERROR(INDEX('Weeks Calendar'!$C$12:$I$16,2,MATCH(B13,'Weeks Calendar'!$C$12:$I$12,0)),\"\")&\nIFERROR(INDEX('Weeks Calendar'!$C$18:$I$22,2,MATCH(B13,'Weeks Calendar'!$C$18:$I$18,0)),\"\")&\nIFERROR(INDEX('Weeks Calendar'!$C$24:$I$28,2,MATCH(B13,'Weeks Calendar'!$C$24:$I$24,0)),\"\")&\nIFERROR(INDEX('Weeks Calendar'!$C$24:$I$28,2,MATCH(B13,'Weeks Calendar'!$C$30:$I$30,0)),\"\")","v":""},{"$f":"IFERROR(INDEX('Weeks Calendar'!$C$6:$I$10,2,MATCH(C13,'Weeks Calendar'!$C$6:$I$6,0)),\"\")&\nIFERROR(INDEX('Weeks Calendar'!$C$12:$I$16,2,MATCH(C13,'Weeks Calendar'!$C$12:$I$12,0)),\"\")&\nIFERROR(INDEX('Weeks Calendar'!$C$18:$I$22,2,MATCH(C13,'Weeks Calendar'!$C$18:$I$18,0)),\"\")&\nIFERROR(INDEX('Weeks Calendar'!$C$24:$I$28,2,MATCH(C13,'Weeks Calendar'!$C$24:$I$24,0)),\"\")&\nIFERROR(INDEX('Weeks Calendar'!$C$24:$I$28,2,MATCH(C13,'Weeks Calendar'!$C$30:$I$30,0)),\"\")","v":""},{"$f":"IFERROR(INDEX('Weeks Calendar'!$C$6:$I$10,2,MATCH(D13,'Weeks Calendar'!$C$6:$I$6,0)),\"\")&\nIFERROR(INDEX('Weeks Calendar'!$C$12:$I$16,2,MATCH(D13,'Weeks Calendar'!$C$12:$I$12,0)),\"\")&\nIFERROR(INDEX('Weeks Calendar'!$C$18:$I$22,2,MATCH(D13,'Weeks Calendar'!$C$18:$I$18,0)),\"\")&\nIFERROR(INDEX('Weeks Calendar'!$C$24:$I$28,2,MATCH(D13,'Weeks Calendar'!$C$24:$I$24,0)),\"\")&\nIFERROR(INDEX('Weeks Calendar'!$C$24:$I$28,2,MATCH(D13,'Weeks Calendar'!$C$30:$I$30,0)),\"\")","v":""},{"$f":"IFERROR(INDEX('Weeks Calendar'!$C$6:$I$10,2,MATCH(E13,'Weeks Calendar'!$C$6:$I$6,0)),\"\")&\nIFERROR(INDEX('Weeks Calendar'!$C$12:$I$16,2,MATCH(E13,'Weeks Calendar'!$C$12:$I$12,0)),\"\")&\nIFERROR(INDEX('Weeks Calendar'!$C$18:$I$22,2,MATCH(E13,'Weeks Calendar'!$C$18:$I$18,0)),\"\")&\nIFERROR(INDEX('Weeks Calendar'!$C$24:$I$28,2,MATCH(E13,'Weeks Calendar'!$C$24:$I$24,0)),\"\")&\nIFERROR(INDEX('Weeks Calendar'!$C$24:$I$28,2,MATCH(E13,'Weeks Calendar'!$C$30:$I$30,0)),\"\")","v":""},{"$f":"IFERROR(INDEX('Weeks Calendar'!$C$6:$I$10,2,MATCH(F13,'Weeks Calendar'!$C$6:$I$6,0)),\"\")&\nIFERROR(INDEX('Weeks Calendar'!$C$12:$I$16,2,MATCH(F13,'Weeks Calendar'!$C$12:$I$12,0)),\"\")&\nIFERROR(INDEX('Weeks Calendar'!$C$18:$I$22,2,MATCH(F13,'Weeks Calendar'!$C$18:$I$18,0)),\"\")&\nIFERROR(INDEX('Weeks Calendar'!$C$24:$I$28,2,MATCH(F13,'Weeks Calendar'!$C$24:$I$24,0)),\"\")&\nIFERROR(INDEX('Weeks Calendar'!$C$24:$I$28,2,MATCH(F13,'Weeks Calendar'!$C$30:$I$30,0)),\"\")","v":""},{"$f":"IFERROR(INDEX('Weeks Calendar'!$C$6:$I$10,2,MATCH(G13,'Weeks Calendar'!$C$6:$I$6,0)),\"\")&\nIFERROR(INDEX('Weeks Calendar'!$C$12:$I$16,2,MATCH(G13,'Weeks Calendar'!$C$12:$I$12,0)),\"\")&\nIFERROR(INDEX('Weeks Calendar'!$C$18:$I$22,2,MATCH(G13,'Weeks Calendar'!$C$18:$I$18,0)),\"\")&\nIFERROR(INDEX('Weeks Calendar'!$C$24:$I$28,2,MATCH(G13,'Weeks Calendar'!$C$24:$I$24,0)),\"\")&\nIFERROR(INDEX('Weeks Calendar'!$C$24:$I$28,2,MATCH(G13,'Weeks Calendar'!$C$30:$I$30,0)),\"\")","v":""},{"$f":"IFERROR(INDEX('Weeks Calendar'!$C$6:$I$10,2,MATCH(H13,'Weeks Calendar'!$C$6:$I$6,0)),\"\")&\nIFERROR(INDEX('Weeks Calendar'!$C$12:$I$16,2,MATCH(H13,'Weeks Calendar'!$C$12:$I$12,0)),\"\")&\nIFERROR(INDEX('Weeks Calendar'!$C$18:$I$22,2,MATCH(H13,'Weeks Calendar'!$C$18:$I$18,0)),\"\")&\nIFERROR(INDEX('Weeks Calendar'!$C$24:$I$28,2,MATCH(H13,'Weeks Calendar'!$C$24:$I$24,0)),\"\")&\nIFERROR(INDEX('Weeks Calendar'!$C$24:$I$28,2,MATCH(H13,'Weeks Calendar'!$C$30:$I$30,0)),\"\")","v":""},null,null,null,"<<<<Cold Meals>>>>"]
[null,{"$f":"IFERROR(INDEX('Weeks Calendar'!$C$6:$I$10,3,MATCH(B13,'Weeks Calendar'!$C$6:$I$6,0)),\"\")&\nIFERROR(INDEX('Weeks Calendar'!$C$12:$I$16,3,MATCH(B13,'Weeks Calendar'!$C$12:$I$12,0)),\"\")&\nIFERROR(INDEX('Weeks Calendar'!$C$18:$I$22,3,MATCH(B13,'Weeks Calendar'!$C$18:$I$18,0)),\"\")&\nIFERROR(INDEX('Weeks Calendar'!$C$24:$I$28,3,MATCH(B13,'Weeks Calendar'!$C$24:$I$24,0)),\"\")&\nIFERROR(INDEX('Weeks Calendar'!$C$24:$I$28,3,MATCH(B13,'Weeks Calendar'!$C$30:$I$30,0)),\"\")","v":""},{"$f":"IFERROR(INDEX('Weeks Calendar'!$C$6:$I$10,3,MATCH(C13,'Weeks Calendar'!$C$6:$I$6,0)),\"\")&\nIFERROR(INDEX('Weeks Calendar'!$C$12:$I$16,3,MATCH(C13,'Weeks Calendar'!$C$12:$I$12,0)),\"\")&\nIFERROR(INDEX('Weeks Calendar'!$C$18:$I$22,3,MATCH(C13,'Weeks Calendar'!$C$18:$I$18,0)),\"\")&\nIFERROR(INDEX('Weeks Calendar'!$C$24:$I$28,3,MATCH(C13,'Weeks Calendar'!$C$24:$I$24,0)),\"\")&\nIFERROR(INDEX('Weeks Calendar'!$C$24:$I$28,3,MATCH(C13,'Weeks Calendar'!$C$30:$I$30,0)),\"\")","v":""},{"$f":"IFERROR(INDEX('Weeks Calendar'!$C$6:$I$10,3,MATCH(D13,'Weeks Calendar'!$C$6:$I$6,0)),\"\")&\nIFERROR(INDEX('Weeks Calendar'!$C$12:$I$16,3,MATCH(D13,'Weeks Calendar'!$C$12:$I$12,0)),\"\")&\nIFERROR(INDEX('Weeks Calendar'!$C$18:$I$22,3,MATCH(D13,'Weeks Calendar'!$C$18:$I$18,0)),\"\")&\nIFERROR(INDEX('Weeks Calendar'!$C$24:$I$28,3,MATCH(D13,'Weeks Calendar'!$C$24:$I$24,0)),\"\")&\nIFERROR(INDEX('Weeks Calendar'!$C$24:$I$28,3,MATCH(D13,'Weeks Calendar'!$C$30:$I$30,0)),\"\")","v":""},{"$f":"IFERROR(INDEX('Weeks Calendar'!$C$6:$I$10,3,MATCH(E13,'Weeks Calendar'!$C$6:$I$6,0)),\"\")&\nIFERROR(INDEX('Weeks Calendar'!$C$12:$I$16,3,MATCH(E13,'Weeks Calendar'!$C$12:$I$12,0)),\"\")&\nIFERROR(INDEX('Weeks Calendar'!$C$18:$I$22,3,MATCH(E13,'Weeks Calendar'!$C$18:$I$18,0)),\"\")&\nIFERROR(INDEX('Weeks Calendar'!$C$24:$I$28,3,MATCH(E13,'Weeks Calendar'!$C$24:$I$24,0)),\"\")&\nIFERROR(INDEX('Weeks Calendar'!$C$24:$I$28,3,MATCH(E13,'Weeks Calendar'!$C$30:$I$30,0)),\"\")","v":""},{"$f":"IFERROR(INDEX('Weeks Calendar'!$C$6:$I$10,3,MATCH(F13,'Weeks Calendar'!$C$6:$I$6,0)),\"\")&\nIFERROR(INDEX('Weeks Calendar'!$C$12:$I$16,3,MATCH(F13,'Weeks Calendar'!$C$12:$I$12,0)),\"\")&\nIFERROR(INDEX('Weeks Calendar'!$C$18:$I$22,3,MATCH(F13,'Weeks Calendar'!$C$18:$I$18,0)),\"\")&\nIFERROR(INDEX('Weeks Calendar'!$C$24:$I$28,3,MATCH(F13,'Weeks Calendar'!$C$24:$I$24,0)),\"\")&\nIFERROR(INDEX('Weeks Calendar'!$C$24:$I$28,3,MATCH(F13,'Weeks Calendar'!$C$30:$I$30,0)),\"\")","v":""},{"$f":"IFERROR(INDEX('Weeks Calendar'!$C$6:$I$10,3,MATCH(G13,'Weeks Calendar'!$C$6:$I$6,0)),\"\")&\nIFERROR(INDEX('Weeks Calendar'!$C$12:$I$16,3,MATCH(G13,'Weeks Calendar'!$C$12:$I$12,0)),\"\")&\nIFERROR(INDEX('Weeks Calendar'!$C$18:$I$22,3,MATCH(G13,'Weeks Calendar'!$C$18:$I$18,0)),\"\")&\nIFERROR(INDEX('Weeks Calendar'!$C$24:$I$28,3,MATCH(G13,'Weeks Calendar'!$C$24:$I$24,0)),\"\")&\nIFERROR(INDEX('Weeks Calendar'!$C$24:$I$28,3,MATCH(G13,'Weeks Calendar'!$C$30:$I$30,0)),\"\")","v":""},{"$f":"IFERROR(INDEX('Weeks Calendar'!$C$6:$I$10,3,MATCH(H13,'Weeks Calendar'!$C$6:$I$6,0)),\"\")&\nIFERROR(INDEX('Weeks Calendar'!$C$12:$I$16,3,MATCH(H13,'Weeks Calendar'!$C$12:$I$12,0)),\"\")&\nIFERROR(INDEX('Weeks Calendar'!$C$18:$I$22,3,MATCH(H13,'Weeks Calendar'!$C$18:$I$18,0)),\"\")&\nIFERROR(INDEX('Weeks Calendar'!$C$24:$I$28,3,MATCH(H13,'Weeks Calendar'!$C$24:$I$24,0)),\"\")&\nIFERROR(INDEX('Weeks Calendar'!$C$24:$I$28,3,MATCH(H13,'Weeks Calendar'!$C$30:$I$30,0)),\"\")","v":""},null,null,null,"Ham & Swiss Sandwich"]
[null,{"$f":"IFERROR(INDEX('Weeks Calendar'!$C$6:$I$10,4,MATCH(B13,'Weeks Calendar'!$C$6:$I$6,0)),\"\")&\nIFERROR(INDEX('Weeks Calendar'!$C$12:$I$16,4,MATCH(B13,'Weeks Calendar'!$C$12:$I$12,0)),\"\")&\nIFERROR(INDEX('Weeks Calendar'!$C$18:$I$22,4,MATCH(B13,'Weeks Calendar'!$C$18:$I$18,0)),\"\")&\nIFERROR(INDEX('Weeks Calendar'!$C$24:$I$28,4,MATCH(B13,'Weeks Calendar'!$C$24:$I$24,0)),\"\")&\nIFERROR(INDEX('Weeks Calendar'!$C$24:$I$28,4,MATCH(B13,'Weeks Calendar'!$C$30:$I$30,0)),\"\")","v":""},{"$f":"IFERROR(INDEX('Weeks Calendar'!$C$6:$I$10,4,MATCH(C13,'Weeks Calendar'!$C$6:$I$6,0)),\"\")&\nIFERROR(INDEX('Weeks Calendar'!$C$12:$I$16,4,MATCH(C13,'Weeks Calendar'!$C$12:$I$12,0)),\"\")&\nIFERROR(INDEX('Weeks Calendar'!$C$18:$I$22,4,MATCH(C13,'Weeks Calendar'!$C$18:$I$18,0)),\"\")&\nIFERROR(INDEX('Weeks Calendar'!$C$24:$I$28,4,MATCH(C13,'Weeks Calendar'!$C$24:$I$24,0)),\"\")&\nIFERROR(INDEX('Weeks Calendar'!$C$24:$I$28,4,MATCH(C13,'Weeks Calendar'!$C$30:$I$30,0)),\"\")","v":""},{"$f":"IFERROR(INDEX('Weeks Calendar'!$C$6:$I$10,4,MATCH(D13,'Weeks Calendar'!$C$6:$I$6,0)),\"\")&\nIFERROR(INDEX('Weeks Calendar'!$C$12:$I$16,4,MATCH(D13,'Weeks Calendar'!$C$12:$I$12,0)),\"\")&\nIFERROR(INDEX('Weeks Calendar'!$C$18:$I$22,4,MATCH(D13,'Weeks Calendar'!$C$18:$I$18,0)),\"\")&\nIFERROR(INDEX('Weeks Calendar'!$C$24:$I$28,4,MATCH(D13,'Weeks Calendar'!$C$24:$I$24,0)),\"\")&\nIFERROR(INDEX('Weeks Calendar'!$C$24:$I$28,4,MATCH(D13,'Weeks Calendar'!$C$30:$I$30,0)),\"\")","v":""},{"$f":"IFERROR(INDEX('Weeks Calendar'!$C$6:$I$10,4,MATCH(E13,'Weeks Calendar'!$C$6:$I$6,0)),\"\")&\nIFERROR(INDEX('Weeks Calendar'!$C$12:$I$16,4,MATCH(E13,'Weeks Calendar'!$C$12:$I$12,0)),\"\")&\nIFERROR(INDEX('Weeks Calendar'!$C$18:$I$22,4,MATCH(E13,'Weeks Calendar'!$C$18:$I$18,0)),\"\")&\nIFERROR(INDEX('Weeks Calendar'!$C$24:$I$28,4,MATCH(E13,'Weeks Calendar'!$C$24:$I$24,0)),\"\")&\nIFERROR(INDEX('Weeks Calendar'!$C$24:$I$28,4,MATCH(E13,'Weeks Calendar'!$C$30:$I$30,0)),\"\")","v":""},{"$f":"IFERROR(INDEX('Weeks Calendar'!$C$6:$I$10,4,MATCH(F13,'Weeks Calendar'!$C$6:$I$6,0)),\"\")&\nIFERROR(INDEX('Weeks Calendar'!$C$12:$I$16,4,MATCH(F13,'Weeks Calendar'!$C$12:$I$12,0)),\"\")&\nIFERROR(INDEX('Weeks Calendar'!$C$18:$I$22,4,MATCH(F13,'Weeks Calendar'!$C$18:$I$18,0)),\"\")&\nIFERROR(INDEX('Weeks Calendar'!$C$24:$I$28,4,MATCH(F13,'Weeks Calendar'!$C$24:$I$24,0)),\"\")&\nIFERROR(INDEX('Weeks Calendar'!$C$24:$I$28,4,MATCH(F13,'Weeks Calendar'!$C$30:$I$30,0)),\"\")","v":""},{"$f":"IFERROR(INDEX('Weeks Calendar'!$C$6:$I$10,4,MATCH(G13,'Weeks Calendar'!$C$6:$I$6,0)),\"\")&\nIFERROR(INDEX('Weeks Calendar'!$C$12:$I$16,4,MATCH(G13,'Weeks Calendar'!$C$12:$I$12,0)),\"\")&\nIFERROR(INDEX('Weeks Calendar'!$C$18:$I$22,4,MATCH(G13,'Weeks Calendar'!$C$18:$I$18,0)),\"\")&\nIFERROR(INDEX('Weeks Calendar'!$C$24:$I$28,4,MATCH(G13,'Weeks Calendar'!$C$24:$I$24,0)),\"\")&\nIFERROR(INDEX('Weeks Calendar'!$C$24:$I$28,4,MATCH(G13,'Weeks Calendar'!$C$30:$I$30,0)),\"\")","v":""},{"$f":"IFERROR(INDEX('Weeks Calendar'!$C$6:$I$10,4,MATCH(H13,'Weeks Calendar'!$C$6:$I$6,0)),\"\")&\nIFERROR(INDEX('Weeks Calendar'!$C$12:$I$16,4,MATCH(H13,'Weeks Calendar'!$C$12:$I$12,0)),\"\")&\nIFERROR(INDEX('Weeks Calendar'!$C$18:$I$22,4,MATCH(H13,'Weeks Calendar'!$C$18:$I$18,0)),\"\")&\nIFERROR(INDEX('Weeks Calendar'!$C$24:$I$28,4,MATCH(H13,'Weeks Calendar'!$C$24:$I$24,0)),\"\")&\nIFERROR(INDEX('Weeks Calendar'!$C$24:$I$28,4,MATCH(H13,'Weeks Calendar'!$C$30:$I$30,0)),\"\")","v":""},null,null,null,"Turkey & Cheese Sandwich"]
[null,{"$f":"IFERROR(INDEX('Weeks Calendar'!$C$6:$I$10,5,MATCH(B13,'Weeks Calendar'!$C$6:$I$6,0)),\"\")&\nIFERROR(INDEX('Weeks Calendar'!$C$12:$I$16,5,MATCH(B13,'Weeks Calendar'!$C$12:$I$12,0)),\"\")&\nIFERROR(INDEX('Weeks Calendar'!$C$18:$I$22,5,MATCH(B13,'Weeks Calendar'!$C$18:$I$18,0)),\"\")&\nIFERROR(INDEX('Weeks Calendar'!$C$24:$I$28,5,MATCH(B13,'Weeks Calendar'!$C$24:$I$24,0)),\"\")&\nIFERROR(INDEX('Weeks Calendar'!$C$24:$I$28,5,MATCH(B13,'Weeks Calendar'!$C$30:$I$30,0)),\"\")","v":""},{"$f":"IFERROR(INDEX('Weeks Calendar'!$C$6:$I$10,5,MATCH(C13,'Weeks Calendar'!$C$6:$I$6,0)),\"\")&\nIFERROR(INDEX('Weeks Calendar'!$C$12:$I$16,5,MATCH(C13,'Weeks Calendar'!$C$12:$I$12,0)),\"\")&\nIFERROR(INDEX('Weeks Calendar'!$C$18:$I$22,5,MATCH(C13,'Weeks Calendar'!$C$18:$I$18,0)),\"\")&\nIFERROR(INDEX('Weeks Calendar'!$C$24:$I$28,5,MATCH(C13,'Weeks Calendar'!$C$24:$I$24,0)),\"\")&\nIFERROR(INDEX('Weeks Calendar'!$C$24:$I$28,5,MATCH(C13,'Weeks Calendar'!$C$30:$I$30,0)),\"\")","v":""},{"$f":"IFERROR(INDEX('Weeks Calendar'!$C$6:$I$10,5,MATCH(D13,'Weeks Calendar'!$C$6:$I$6,0)),\"\")&\nIFERROR(INDEX('Weeks Calendar'!$C$12:$I$16,5,MATCH(D13,'Weeks Calendar'!$C$12:$I$12,0)),\"\")&\nIFERROR(INDEX('Weeks Calendar'!$C$18:$I$22,5,MATCH(D13,'Weeks Calendar'!$C$18:$I$18,0)),\"\")&\nIFERROR(INDEX('Weeks Calendar'!$C$24:$I$28,5,MATCH(D13,'Weeks Calendar'!$C$24:$I$24,0)),\"\")&\nIFERROR(INDEX('Weeks Calendar'!$C$24:$I$28,5,MATCH(D13,'Weeks Calendar'!$C$30:$I$30,0)),\"\")","v":""},{"$f":"IFERROR(INDEX('Weeks Calendar'!$C$6:$I$10,5,MATCH(E13,'Weeks Calendar'!$C$6:$I$6,0)),\"\")&\nIFERROR(INDEX('Weeks Calendar'!$C$12:$I$16,5,MATCH(E13,'Weeks Calendar'!$C$12:$I$12,0)),\"\")&\nIFERROR(INDEX('Weeks Calendar'!$C$18:$I$22,5,MATCH(E13,'Weeks Calendar'!$C$18:$I$18,0)),\"\")&\nIFERROR(INDEX('Weeks Calendar'!$C$24:$I$28,5,MATCH(E13,'Weeks Calendar'!$C$24:$I$24,0)),\"\")&\nIFERROR(INDEX('Weeks Calendar'!$C$24:$I$28,5,MATCH(E13,'Weeks Calendar'!$C$30:$I$30,0)),\"\")","v":""},{"$f":"IFERROR(INDEX('Weeks Calendar'!$C$6:$I$10,5,MATCH(F13,'Weeks Calendar'!$C$6:$I$6,0)),\"\")&\nIFERROR(INDEX('Weeks Calendar'!$C$12:$I$16,5,MATCH(F13,'Weeks Calendar'!$C$12:$I$12,0)),\"\")&\nIFERROR(INDEX('Weeks Calendar'!$C$18:$I$22,5,MATCH(F13,'Weeks Calendar'!$C$18:$I$18,0)),\"\")&\nIFERROR(INDEX('Weeks Calendar'!$C$24:$I$28,5,MATCH(F13,'Weeks Calendar'!$C$24:$I$24,0)),\"\")&\nIFERROR(INDEX('Weeks Calendar'!$C$24:$I$28,5,MATCH(F13,'Weeks Calendar'!$C$30:$I$30,0)),\"\")","v":""},{"$f":"IFERROR(INDEX('Weeks Calendar'!$C$6:$I$10,5,MATCH(G13,'Weeks Calendar'!$C$6:$I$6,0)),\"\")&\nIFERROR(INDEX('Weeks Calendar'!$C$12:$I$16,5,MATCH(G13,'Weeks Calendar'!$C$12:$I$12,0)),\"\")&\nIFERROR(INDEX('Weeks Calendar'!$C$18:$I$22,5,MATCH(G13,'Weeks Calendar'!$C$18:$I$18,0)),\"\")&\nIFERROR(INDEX('Weeks Calendar'!$C$24:$I$28,5,MATCH(G13,'Weeks Calendar'!$C$24:$I$24,0)),\"\")&\nIFERROR(INDEX('Weeks Calendar'!$C$24:$I$28,5,MATCH(G13,'Weeks Calendar'!$C$30:$I$30,0)),\"\")","v":""},{"$f":"IFERROR(INDEX('Weeks Calendar'!$C$6:$I$10,5,MATCH(H13,'Weeks Calendar'!$C$6:$I$6,0)),\"\")&\nIFERROR(INDEX('Weeks Calendar'!$C$12:$I$16,5,MATCH(H13,'Weeks Calendar'!$C$12:$I$12,0)),\"\")&\nIFERROR(INDEX('Weeks Calendar'!$C$18:$I$22,5,MATCH(H13,'Weeks Calendar'!$C$18:$I$18,0)),\"\")&\nIFERROR(INDEX('Weeks Calendar'!$C$24:$I$28,5,MATCH(H13,'Weeks Calendar'!$C$24:$I$24,0)),\"\")&\nIFERROR(INDEX('Weeks Calendar'!$C$24:$I$28,5,MATCH(H13,'Weeks Calendar'!$C$30:$I$30,0)),\"\")","v":""},null,null,null,"Pastrami & Provalone Sandwich"]
["Week 3",{"$f":"IFERROR(H12+1,\"\")","v":""},{"$f":"IFERROR(B18+1,\"\")","v":""},{"$f":"IFERROR(C18+1,\"\")","v":""},"","","","",null,null,null,"Turkey Bagel Sandwich"]
[null,null,null,null,null,null,null,null,null,null,null,"Old Fashioned Chicken Wrap"]
[null,{"$f":"IFERROR(INDEX('Weeks Calendar'!$C$6:$I$10,2,MATCH(B19,'Weeks Calendar'!$C$6:$I$6,0)),\"\")&\nIFERROR(INDEX('Weeks Calendar'!$C$12:$I$16,2,MATCH(B19,'Weeks Calendar'!$C$12:$I$12,0)),\"\")&\nIFERROR(INDEX('Weeks Calendar'!$C$18:$I$22,2,MATCH(B19,'Weeks Calendar'!$C$18:$I$18,0)),\"\")&\nIFERROR(INDEX('Weeks Calendar'!$C$24:$I$28,2,MATCH(B19,'Weeks Calendar'!$C$24:$I$24,0)),\"\")&\nIFERROR(INDEX('Weeks Calendar'!$C$24:$I$28,2,MATCH(B19,'Weeks Calendar'!$C$30:$I$30,0)),\"\")","v":""},{"$f":"IFERROR(INDEX('Weeks Calendar'!$C$6:$I$10,2,MATCH(C19,'Weeks Calendar'!$C$6:$I$6,0)),\"\")&\nIFERROR(INDEX('Weeks Calendar'!$C$12:$I$16,2,MATCH(C19,'Weeks Calendar'!$C$12:$I$12,0)),\"\")&\nIFERROR(INDEX('Weeks Calendar'!$C$18:$I$22,2,MATCH(C19,'Weeks Calendar'!$C$18:$I$18,0)),\"\")&\nIFERROR(INDEX('Weeks Calendar'!$C$24:$I$28,2,MATCH(C19,'Weeks Calendar'!$C$24:$I$24,0)),\"\")&\nIFERROR(INDEX('Weeks Calendar'!$C$24:$I$28,2,MATCH(C19,'Weeks Calendar'!$C$30:$I$30,0)),\"\")","v":""},{"$f":"IFERROR(INDEX('Weeks Calendar'!$C$6:$I$10,2,MATCH(D19,'Weeks Calendar'!$C$6:$I$6,0)),\"\")&\nIFERROR(INDEX('Weeks Calendar'!$C$12:$I$16,2,MATCH(D19,'Weeks Calendar'!$C$12:$I$12,0)),\"\")&\nIFERROR(INDEX('Weeks Calendar'!$C$18:$I$22,2,MATCH(D19,'Weeks Calendar'!$C$18:$I$18,0)),\"\")&\nIFERROR(INDEX('Weeks Calendar'!$C$24:$I$28,2,MATCH(D19,'Weeks Calendar'!$C$24:$I$24,0)),\"\")&\nIFERROR(INDEX('Weeks Calendar'!$C$24:$I$28,2,MATCH(D19,'Weeks Calendar'!$C$30:$I$30,0)),\"\")","v":""},{"$f":"IFERROR(INDEX('Weeks Calendar'!$C$6:$I$10,2,MATCH(E19,'Weeks Calendar'!$C$6:$I$6,0)),\"\")&\nIFERROR(INDEX('Weeks Calendar'!$C$12:$I$16,2,MATCH(E19,'Weeks Calendar'!$C$12:$I$12,0)),\"\")&\nIFERROR(INDEX('Weeks Calendar'!$C$18:$I$22,2,MATCH(E19,'Weeks Calendar'!$C$18:$I$18,0)),\"\")&\nIFERROR(INDEX('Weeks Calendar'!$C$24:$I$28,2,MATCH(E19,'Weeks Calendar'!$C$24:$I$24,0)),\"\")&\nIFERROR(INDEX('Weeks Calendar'!$C$24:$I$28,2,MATCH(E19,'Weeks Calendar'!$C$30:$I$30,0)),\"\")","v":""},{"$f":"IFERROR(INDEX('Weeks Calendar'!$C$6:$I$10,2,MATCH(F19,'Weeks Calendar'!$C$6:$I$6,0)),\"\")&\nIFERROR(INDEX('Weeks Calendar'!$C$12:$I$16,2,MATCH(F19,'Weeks Calendar'!$C$12:$I$12,0)),\"\")&\nIFERROR(INDEX('Weeks Calendar'!$C$18:$I$22,2,MATCH(F19,'Weeks Calendar'!$C$18:$I$18,0)),\"\")&\nIFERROR(INDEX('Weeks Calendar'!$C$24:$I$28,2,MATCH(F19,'Weeks Calendar'!$C$24:$I$24,0)),\"\")&\nIFERROR(INDEX('Weeks Calendar'!$C$24:$I$28,2,MATCH(F19,'Weeks Calendar'!$C$30:$I$30,0)),\"\")","v":""},{"$f":"IFERROR(INDEX('Weeks Calendar'!$C$6:$I$10,2,MATCH(G19,'Weeks Calendar'!$C$6:$I$6,0)),\"\")&\nIFERROR(INDEX('Weeks Calendar'!$C$12:$I$16,2,MATCH(G19,'Weeks Calendar'!$C$12:$I$12,0)),\"\")&\nIFERROR(INDEX('Weeks Calendar'!$C$18:$I$22,2,MATCH(G19,'Weeks Calendar'!$C$18:$I$18,0)),\"\")&\nIFERROR(INDEX('Weeks Calendar'!$C$24:$I$28,2,MATCH(G19,'Weeks Calendar'!$C$24:$I$24,0)),\"\")&\nIFERROR(INDEX('Weeks Calendar'!$C$24:$I$28,2,MATCH(G19,'Weeks Calendar'!$C$30:$I$30,0)),\"\")","v":""},{"$f":"IFERROR(INDEX('Weeks Calendar'!$C$6:$I$10,2,MATCH(H19,'Weeks Calendar'!$C$6:$I$6,0)),\"\")&\nIFERROR(INDEX('Weeks Calendar'!$C$12:$I$16,2,MATCH(H19,'Weeks Calendar'!$C$12:$I$12,0)),\"\")&\nIFERROR(INDEX('Weeks Calendar'!$C$18:$I$22,2,MATCH(H19,'Weeks Calendar'!$C$18:$I$18,0)),\"\")&\nIFERROR(INDEX('Weeks Calendar'!$C$24:$I$28,2,MATCH(H19,'Weeks Calendar'!$C$24:$I$24,0)),\"\")&\nIFERROR(INDEX('Weeks Calendar'!$C$24:$I$28,2,MATCH(H19,'Weeks Calendar'!$C$30:$I$30,0)),\"\")","v":""},null,null,null,"Greek Chicken Wrap"]
[null,{"$f":"IFERROR(INDEX('Weeks Calendar'!$C$6:$I$10,3,MATCH(B19,'Weeks Calendar'!$C$6:$I$6,0)),\"\")&\nIFERROR(INDEX('Weeks Calendar'!$C$12:$I$16,3,MATCH(B19,'Weeks Calendar'!$C$12:$I$12,0)),\"\")&\nIFERROR(INDEX('Weeks Calendar'!$C$18:$I$22,3,MATCH(B19,'Weeks Calendar'!$C$18:$I$18,0)),\"\")&\nIFERROR(INDEX('Weeks Calendar'!$C$24:$I$28,3,MATCH(B19,'Weeks Calendar'!$C$24:$I$24,0)),\"\")&\nIFERROR(INDEX('Weeks Calendar'!$C$24:$I$28,3,MATCH(B19,'Weeks Calendar'!$C$30:$I$30,0)),\"\")","v":""},{"$f":"IFERROR(INDEX('Weeks Calendar'!$C$6:$I$10,3,MATCH(C19,'Weeks Calendar'!$C$6:$I$6,0)),\"\")&\nIFERROR(INDEX('Weeks Calendar'!$C$12:$I$16,3,MATCH(C19,'Weeks Calendar'!$C$12:$I$12,0)),\"\")&\nIFERROR(INDEX('Weeks Calendar'!$C$18:$I$22,3,MATCH(C19,'Weeks Calendar'!$C$18:$I$18,0)),\"\")&\nIFERROR(INDEX('Weeks Calendar'!$C$24:$I$28,3,MATCH(C19,'Weeks Calendar'!$C$24:$I$24,0)),\"\")&\nIFERROR(INDEX('Weeks Calendar'!$C$24:$I$28,3,MATCH(C19,'Weeks Calendar'!$C$30:$I$30,0)),\"\")","v":""},{"$f":"IFERROR(INDEX('Weeks Calendar'!$C$6:$I$10,3,MATCH(D19,'Weeks Calendar'!$C$6:$I$6,0)),\"\")&\nIFERROR(INDEX('Weeks Calendar'!$C$12:$I$16,3,MATCH(D19,'Weeks Calendar'!$C$12:$I$12,0)),\"\")&\nIFERROR(INDEX('Weeks Calendar'!$C$18:$I$22,3,MATCH(D19,'Weeks Calendar'!$C$18:$I$18,0)),\"\")&\nIFERROR(INDEX('Weeks Calendar'!$C$24:$I$28,3,MATCH(D19,'Weeks Calendar'!$C$24:$I$24,0)),\"\")&\nIFERROR(INDEX('Weeks Calendar'!$C$24:$I$28,3,MATCH(D19,'Weeks Calendar'!$C$30:$I$30,0)),\"\")","v":""},{"$f":"IFERROR(INDEX('Weeks Calendar'!$C$6:$I$10,3,MATCH(E19,'Weeks Calendar'!$C$6:$I$6,0)),\"\")&\nIFERROR(INDEX('Weeks Calendar'!$C$12:$I$16,3,MATCH(E19,'Weeks Calendar'!$C$12:$I$12,0)),\"\")&\nIFERROR(INDEX('Weeks Calendar'!$C$18:$I$22,3,MATCH(E19,'Weeks Calendar'!$C$18:$I$18,0)),\"\")&\nIFERROR(INDEX('Weeks Calendar'!$C$24:$I$28,3,MATCH(E19,'Weeks Calendar'!$C$24:$I$24,0)),\"\")&\nIFERROR(INDEX('Weeks Calendar'!$C$24:$I$28,3,MATCH(E19,'Weeks Calendar'!$C$30:$I$30,0)),\"\")","v":""},{"$f":"IFERROR(INDEX('Weeks Calendar'!$C$6:$I$10,3,MATCH(F19,'Weeks Calendar'!$C$6:$I$6,0)),\"\")&\nIFERROR(INDEX('Weeks Calendar'!$C$12:$I$16,3,MATCH(F19,'Weeks Calendar'!$C$12:$I$12,0)),\"\")&\nIFERROR(INDEX('Weeks Calendar'!$C$18:$I$22,3,MATCH(F19,'Weeks Calendar'!$C$18:$I$18,0)),\"\")&\nIFERROR(INDEX('Weeks Calendar'!$C$24:$I$28,3,MATCH(F19,'Weeks Calendar'!$C$24:$I$24,0)),\"\")&\nIFERROR(INDEX('Weeks Calendar'!$C$24:$I$28,3,MATCH(F19,'Weeks Calendar'!$C$30:$I$30,0)),\"\")","v":""},{"$f":"IFERROR(INDEX('Weeks Calendar'!$C$6:$I$10,3,MATCH(G19,'Weeks Calendar'!$C$6:$I$6,0)),\"\")&\nIFERROR(INDEX('Weeks Calendar'!$C$12:$I$16,3,MATCH(G19,'Weeks Calendar'!$C$12:$I$12,0)),\"\")&\nIFERROR(INDEX('Weeks Calendar'!$C$18:$I$22,3,MATCH(G19,'Weeks Calendar'!$C$18:$I$18,0)),\"\")&\nIFERROR(INDEX('Weeks Calendar'!$C$24:$I$28,3,MATCH(G19,'Weeks Calendar'!$C$24:$I$24,0)),\"\")&\nIFERROR(INDEX('Weeks Calendar'!$C$24:$I$28,3,MATCH(G19,'Weeks Calendar'!$C$30:$I$30,0)),\"\")","v":""},{"$f":"IFERROR(INDEX('Weeks Calendar'!$C$6:$I$10,3,MATCH(H19,'Weeks Calendar'!$C$6:$I$6,0)),\"\")&\nIFERROR(INDEX('Weeks Calendar'!$C$12:$I$16,3,MATCH(H19,'Weeks Calendar'!$C$12:$I$12,0)),\"\")&\nIFERROR(INDEX('Weeks Calendar'!$C$18:$I$22,3,MATCH(H19,'Weeks Calendar'!$C$18:$I$18,0)),\"\")&\nIFERROR(INDEX('Weeks Calendar'!$C$24:$I$28,3,MATCH(H19,'Weeks Calendar'!$C$24:$I$24,0)),\"\")&\nIFERROR(INDEX('Weeks Calendar'!$C$24:$I$28,3,MATCH(H19,'Weeks Calendar'!$C$30:$I$30,0)),\"\")","v":""},null,null,null,"Egg Salad Wrap"]
[null,{"$f":"IFERROR(INDEX('Weeks Calendar'!$C$6:$I$10,4,MATCH(B19,'Weeks Calendar'!$C$6:$I$6,0)),\"\")&\nIFERROR(INDEX('Weeks Calendar'!$C$12:$I$16,4,MATCH(B19,'Weeks Calendar'!$C$12:$I$12,0)),\"\")&\nIFERROR(INDEX('Weeks Calendar'!$C$18:$I$22,4,MATCH(B19,'Weeks Calendar'!$C$18:$I$18,0)),\"\")&\nIFERROR(INDEX('Weeks Calendar'!$C$24:$I$28,4,MATCH(B19,'Weeks Calendar'!$C$24:$I$24,0)),\"\")&\nIFERROR(INDEX('Weeks Calendar'!$C$24:$I$28,4,MATCH(B19,'Weeks Calendar'!$C$30:$I$30,0)),\"\")","v":""},{"$f":"IFERROR(INDEX('Weeks Calendar'!$C$6:$I$10,4,MATCH(C19,'Weeks Calendar'!$C$6:$I$6,0)),\"\")&\nIFERROR(INDEX('Weeks Calendar'!$C$12:$I$16,4,MATCH(C19,'Weeks Calendar'!$C$12:$I$12,0)),\"\")&\nIFERROR(INDEX('Weeks Calendar'!$C$18:$I$22,4,MATCH(C19,'Weeks Calendar'!$C$18:$I$18,0)),\"\")&\nIFERROR(INDEX('Weeks Calendar'!$C$24:$I$28,4,MATCH(C19,'Weeks Calendar'!$C$24:$I$24,0)),\"\")&\nIFERROR(INDEX('Weeks Calendar'!$C$24:$I$28,4,MATCH(C19,'Weeks Calendar'!$C$30:$I$30,0)),\"\")","v":""},{"$f":"IFERROR(INDEX('Weeks Calendar'!$C$6:$I$10,4,MATCH(D19,'Weeks Calendar'!$C$6:$I$6,0)),\"\")&\nIFERROR(INDEX('Weeks Calendar'!$C$12:$I$16,4,MATCH(D19,'Weeks Calendar'!$C$12:$I$12,0)),\"\")&\nIFERROR(INDEX('Weeks Calendar'!$C$18:$I$22,4,MATCH(D19,'Weeks Calendar'!$C$18:$I$18,0)),\"\")&\nIFERROR(INDEX('Weeks Calendar'!$C$24:$I$28,4,MATCH(D19,'Weeks Calendar'!$C$24:$I$24,0)),\"\")&\nIFERROR(INDEX('Weeks Calendar'!$C$24:$I$28,4,MATCH(D19,'Weeks Calendar'!$C$30:$I$30,0)),\"\")","v":""},{"$f":"IFERROR(INDEX('Weeks Calendar'!$C$6:$I$10,4,MATCH(E19,'Weeks Calendar'!$C$6:$I$6,0)),\"\")&\nIFERROR(INDEX('Weeks Calendar'!$C$12:$I$16,4,MATCH(E19,'Weeks Calendar'!$C$12:$I$12,0)),\"\")&\nIFERROR(INDEX('Weeks Calendar'!$C$18:$I$22,4,MATCH(E19,'Weeks Calendar'!$C$18:$I$18,0)),\"\")&\nIFERROR(INDEX('Weeks Calendar'!$C$24:$I$28,4,MATCH(E19,'Weeks Calendar'!$C$24:$I$24,0)),\"\")&\nIFERROR(INDEX('Weeks Calendar'!$C$24:$I$28,4,MATCH(E19,'Weeks Calendar'!$C$30:$I$30,0)),\"\")","v":""},{"$f":"IFERROR(INDEX('Weeks Calendar'!$C$6:$I$10,4,MATCH(F19,'Weeks Calendar'!$C$6:$I$6,0)),\"\")&\nIFERROR(INDEX('Weeks Calendar'!$C$12:$I$16,4,MATCH(F19,'Weeks Calendar'!$C$12:$I$12,0)),\"\")&\nIFERROR(INDEX('Weeks Calendar'!$C$18:$I$22,4,MATCH(F19,'Weeks Calendar'!$C$18:$I$18,0)),\"\")&\nIFERROR(INDEX('Weeks Calendar'!$C$24:$I$28,4,MATCH(F19,'Weeks Calendar'!$C$24:$I$24,0)),\"\")&\nIFERROR(INDEX('Weeks Calendar'!$C$24:$I$28,4,MATCH(F19,'Weeks Calendar'!$C$30:$I$30,0)),\"\")","v":""},{"$f":"IFERROR(INDEX('Weeks Calendar'!$C$6:$I$10,4,MATCH(G19,'Weeks Calendar'!$C$6:$I$6,0)),\"\")&\nIFERROR(INDEX('Weeks Calendar'!$C$12:$I$16,4,MATCH(G19,'Weeks Calendar'!$C$12:$I$12,0)),\"\")&\nIFERROR(INDEX('Weeks Calendar'!$C$18:$I$22,4,MATCH(G19,'Weeks Calendar'!$C$18:$I$18,0)),\"\")&\nIFERROR(INDEX('Weeks Calendar'!$C$24:$I$28,4,MATCH(G19,'Weeks Calendar'!$C$24:$I$24,0)),\"\")&\nIFERROR(INDEX('Weeks Calendar'!$C$24:$I$28,4,MATCH(G19,'Weeks Calendar'!$C$30:$I$30,0)),\"\")","v":""},{"$f":"IFERROR(INDEX('Weeks Calendar'!$C$6:$I$10,4,MATCH(H19,'Weeks Calendar'!$C$6:$I$6,0)),\"\")&\nIFERROR(INDEX('Weeks Calendar'!$C$12:$I$16,4,MATCH(H19,'Weeks Calendar'!$C$12:$I$12,0)),\"\")&\nIFERROR(INDEX('Weeks Calendar'!$C$18:$I$22,4,MATCH(H19,'Weeks Calendar'!$C$18:$I$18,0)),\"\")&\nIFERROR(INDEX('Weeks Calendar'!$C$24:$I$28,4,MATCH(H19,'Weeks Calendar'!$C$24:$I$24,0)),\"\")&\nIFERROR(INDEX('Weeks Calendar'!$C$24:$I$28,4,MATCH(H19,'Weeks Calendar'!$C$30:$I$30,0)),\"\")","v":""},null,null,null,"Chef Salad"]
[null,{"$f":"IFERROR(INDEX('Weeks Calendar'!$C$6:$I$10,5,MATCH(B19,'Weeks Calendar'!$C$6:$I$6,0)),\"\")&\nIFERROR(INDEX('Weeks Calendar'!$C$12:$I$16,5,MATCH(B19,'Weeks Calendar'!$C$12:$I$12,0)),\"\")&\nIFERROR(INDEX('Weeks Calendar'!$C$18:$I$22,5,MATCH(B19,'Weeks Calendar'!$C$18:$I$18,0)),\"\")&\nIFERROR(INDEX('Weeks Calendar'!$C$24:$I$28,5,MATCH(B19,'Weeks Calendar'!$C$24:$I$24,0)),\"\")&\nIFERROR(INDEX('Weeks Calendar'!$C$24:$I$28,5,MATCH(B19,'Weeks Calendar'!$C$30:$I$30,0)),\"\")","v":""},{"$f":"IFERROR(INDEX('Weeks Calendar'!$C$6:$I$10,5,MATCH(C19,'Weeks Calendar'!$C$6:$I$6,0)),\"\")&\nIFERROR(INDEX('Weeks Calendar'!$C$12:$I$16,5,MATCH(C19,'Weeks Calendar'!$C$12:$I$12,0)),\"\")&\nIFERROR(INDEX('Weeks Calendar'!$C$18:$I$22,5,MATCH(C19,'Weeks Calendar'!$C$18:$I$18,0)),\"\")&\nIFERROR(INDEX('Weeks Calendar'!$C$24:$I$28,5,MATCH(C19,'Weeks Calendar'!$C$24:$I$24,0)),\"\")&\nIFERROR(INDEX('Weeks Calendar'!$C$24:$I$28,5,MATCH(C19,'Weeks Calendar'!$C$30:$I$30,0)),\"\")","v":""},{"$f":"IFERROR(INDEX('Weeks Calendar'!$C$6:$I$10,5,MATCH(D19,'Weeks Calendar'!$C$6:$I$6,0)),\"\")&\nIFERROR(INDEX('Weeks Calendar'!$C$12:$I$16,5,MATCH(D19,'Weeks Calendar'!$C$12:$I$12,0)),\"\")&\nIFERROR(INDEX('Weeks Calendar'!$C$18:$I$22,5,MATCH(D19,'Weeks Calendar'!$C$18:$I$18,0)),\"\")&\nIFERROR(INDEX('Weeks Calendar'!$C$24:$I$28,5,MATCH(D19,'Weeks Calendar'!$C$24:$I$24,0)),\"\")&\nIFERROR(INDEX('Weeks Calendar'!$C$24:$I$28,5,MATCH(D19,'Weeks Calendar'!$C$30:$I$30,0)),\"\")","v":""},{"$f":"IFERROR(INDEX('Weeks Calendar'!$C$6:$I$10,5,MATCH(E19,'Weeks Calendar'!$C$6:$I$6,0)),\"\")&\nIFERROR(INDEX('Weeks Calendar'!$C$12:$I$16,5,MATCH(E19,'Weeks Calendar'!$C$12:$I$12,0)),\"\")&\nIFERROR(INDEX('Weeks Calendar'!$C$18:$I$22,5,MATCH(E19,'Weeks Calendar'!$C$18:$I$18,0)),\"\")&\nIFERROR(INDEX('Weeks Calendar'!$C$24:$I$28,5,MATCH(E19,'Weeks Calendar'!$C$24:$I$24,0)),\"\")&\nIFERROR(INDEX('Weeks Calendar'!$C$24:$I$28,5,MATCH(E19,'Weeks Calendar'!$C$30:$I$30,0)),\"\")","v":""},{"$f":"IFERROR(INDEX('Weeks Calendar'!$C$6:$I$10,5,MATCH(F19,'Weeks Calendar'!$C$6:$I$6,0)),\"\")&\nIFERROR(INDEX('Weeks Calendar'!$C$12:$I$16,5,MATCH(F19,'Weeks Calendar'!$C$12:$I$12,0)),\"\")&\nIFERROR(INDEX('Weeks Calendar'!$C$18:$I$22,5,MATCH(F19,'Weeks Calendar'!$C$18:$I$18,0)),\"\")&\nIFERROR(INDEX('Weeks Calendar'!$C$24:$I$28,5,MATCH(F19,'Weeks Calendar'!$C$24:$I$24,0)),\"\")&\nIFERROR(INDEX('Weeks Calendar'!$C$24:$I$28,5,MATCH(F19,'Weeks Calendar'!$C$30:$I$30,0)),\"\")","v":""},{"$f":"IFERROR(INDEX('Weeks Calendar'!$C$6:$I$10,5,MATCH(G19,'Weeks Calendar'!$C$6:$I$6,0)),\"\")&\nIFERROR(INDEX('Weeks Calendar'!$C$12:$I$16,5,MATCH(G19,'Weeks Calendar'!$C$12:$I$12,0)),\"\")&\nIFERROR(INDEX('Weeks Calendar'!$C$18:$I$22,5,MATCH(G19,'Weeks Calendar'!$C$18:$I$18,0)),\"\")&\nIFERROR(INDEX('Weeks Calendar'!$C$24:$I$28,5,MATCH(G19,'Weeks Calendar'!$C$24:$I$24,0)),\"\")&\nIFERROR(INDEX('Weeks Calendar'!$C$24:$I$28,5,MATCH(G19,'Weeks Calendar'!$C$30:$I$30,0)),\"\")","v":""},{"$f":"IFERROR(INDEX('Weeks Calendar'!$C$6:$I$10,5,MATCH(H19,'Weeks Calendar'!$C$6:$I$6,0)),\"\")&\nIFERROR(INDEX('Weeks Calendar'!$C$12:$I$16,5,MATCH(H19,'Weeks Calendar'!$C$12:$I$12,0)),\"\")&\nIFERROR(INDEX('Weeks Calendar'!$C$18:$I$22,5,MATCH(H19,'Weeks Calendar'!$C$18:$I$18,0)),\"\")&\nIFERROR(INDEX('Weeks Calendar'!$C$24:$I$28,5,MATCH(H19,'Weeks Calendar'!$C$24:$I$24,0)),\"\")&\nIFERROR(INDEX('Weeks Calendar'!$C$24:$I$28,5,MATCH(H19,'Weeks Calendar'!$C$30:$I$30,0)),\"\")","v":""},null,null,null,"Yogurt Parfait"]
["Week 4",{"$f":"IFERROR(H18+1,\"\")","v":""},{"$f":"IFERROR(B24+1,\"\")","v":""},{"$f":"IFERROR(C24+1,\"\")","v":""},"","","","",null,null,null,"Breakfast for Lunch"]
[null,null,null,null,null,null,null,null,null,null,null,"<<<<Hot Meals>>>>"]
[null,{"$f":"IFERROR(INDEX('Weeks Calendar'!$C$6:$I$10,2,MATCH(B25,'Weeks Calendar'!$C$6:$I$6,0)),\"\")&\nIFERROR(INDEX('Weeks Calendar'!$C$12:$I$16,2,MATCH(B25,'Weeks Calendar'!$C$12:$I$12,0)),\"\")&\nIFERROR(INDEX('Weeks Calendar'!$C$18:$I$22,2,MATCH(B25,'Weeks Calendar'!$C$18:$I$18,0)),\"\")&\nIFERROR(INDEX('Weeks Calendar'!$C$24:$I$28,2,MATCH(B25,'Weeks Calendar'!$C$24:$I$24,0)),\"\")&\nIFERROR(INDEX('Weeks Calendar'!$C$24:$I$28,2,MATCH(B25,'Weeks Calendar'!$C$30:$I$30,0)),\"\")","v":""},{"$f":"IFERROR(INDEX('Weeks Calendar'!$C$6:$I$10,2,MATCH(C25,'Weeks Calendar'!$C$6:$I$6,0)),\"\")&\nIFERROR(INDEX('Weeks Calendar'!$C$12:$I$16,2,MATCH(C25,'Weeks Calendar'!$C$12:$I$12,0)),\"\")&\nIFERROR(INDEX('Weeks Calendar'!$C$18:$I$22,2,MATCH(C25,'Weeks Calendar'!$C$18:$I$18,0)),\"\")&\nIFERROR(INDEX('Weeks Calendar'!$C$24:$I$28,2,MATCH(C25,'Weeks Calendar'!$C$24:$I$24,0)),\"\")&\nIFERROR(INDEX('Weeks Calendar'!$C$24:$I$28,2,MATCH(C25,'Weeks Calendar'!$C$30:$I$30,0)),\"\")","v":""},{"$f":"IFERROR(INDEX('Weeks Calendar'!$C$6:$I$10,2,MATCH(D25,'Weeks Calendar'!$C$6:$I$6,0)),\"\")&\nIFERROR(INDEX('Weeks Calendar'!$C$12:$I$16,2,MATCH(D25,'Weeks Calendar'!$C$12:$I$12,0)),\"\")&\nIFERROR(INDEX('Weeks Calendar'!$C$18:$I$22,2,MATCH(D25,'Weeks Calendar'!$C$18:$I$18,0)),\"\")&\nIFERROR(INDEX('Weeks Calendar'!$C$24:$I$28,2,MATCH(D25,'Weeks Calendar'!$C$24:$I$24,0)),\"\")&\nIFERROR(INDEX('Weeks Calendar'!$C$24:$I$28,2,MATCH(D25,'Weeks Calendar'!$C$30:$I$30,0)),\"\")","v":""},{"$f":"IFERROR(INDEX('Weeks Calendar'!$C$6:$I$10,2,MATCH(E25,'Weeks Calendar'!$C$6:$I$6,0)),\"\")&\nIFERROR(INDEX('Weeks Calendar'!$C$12:$I$16,2,MATCH(E25,'Weeks Calendar'!$C$12:$I$12,0)),\"\")&\nIFERROR(INDEX('Weeks Calendar'!$C$18:$I$22,2,MATCH(E25,'Weeks Calendar'!$C$18:$I$18,0)),\"\")&\nIFERROR(INDEX('Weeks Calendar'!$C$24:$I$28,2,MATCH(E25,'Weeks Calendar'!$C$24:$I$24,0)),\"\")&\nIFERROR(INDEX('Weeks Calendar'!$C$24:$I$28,2,MATCH(E25,'Weeks Calendar'!$C$30:$I$30,0)),\"\")","v":""},{"$f":"IFERROR(INDEX('Weeks Calendar'!$C$6:$I$10,2,MATCH(F25,'Weeks Calendar'!$C$6:$I$6,0)),\"\")&\nIFERROR(INDEX('Weeks Calendar'!$C$12:$I$16,2,MATCH(F25,'Weeks Calendar'!$C$12:$I$12,0)),\"\")&\nIFERROR(INDEX('Weeks Calendar'!$C$18:$I$22,2,MATCH(F25,'Weeks Calendar'!$C$18:$I$18,0)),\"\")&\nIFERROR(INDEX('Weeks Calendar'!$C$24:$I$28,2,MATCH(F25,'Weeks Calendar'!$C$24:$I$24,0)),\"\")&\nIFERROR(INDEX('Weeks Calendar'!$C$24:$I$28,2,MATCH(F25,'Weeks Calendar'!$C$30:$I$30,0)),\"\")","v":""},{"$f":"IFERROR(INDEX('Weeks Calendar'!$C$6:$I$10,2,MATCH(G25,'Weeks Calendar'!$C$6:$I$6,0)),\"\")&\nIFERROR(INDEX('Weeks Calendar'!$C$12:$I$16,2,MATCH(G25,'Weeks Calendar'!$C$12:$I$12,0)),\"\")&\nIFERROR(INDEX('Weeks Calendar'!$C$18:$I$22,2,MATCH(G25,'Weeks Calendar'!$C$18:$I$18,0)),\"\")&\nIFERROR(INDEX('Weeks Calendar'!$C$24:$I$28,2,MATCH(G25,'Weeks Calendar'!$C$24:$I$24,0)),\"\")&\nIFERROR(INDEX('Weeks Calendar'!$C$24:$I$28,2,MATCH(G25,'Weeks Calendar'!$C$30:$I$30,0)),\"\")","v":""},{"$f":"IFERROR(INDEX('Weeks Calendar'!$C$6:$I$10,2,MATCH(H25,'Weeks Calendar'!$C$6:$I$6,0)),\"\")&\nIFERROR(INDEX('Weeks Calendar'!$C$12:$I$16,2,MATCH(H25,'Weeks Calendar'!$C$12:$I$12,0)),\"\")&\nIFERROR(INDEX('Weeks Calendar'!$C$18:$I$22,2,MATCH(H25,'Weeks Calendar'!$C$18:$I$18,0)),\"\")&\nIFERROR(INDEX('Weeks Calendar'!$C$24:$I$28,2,MATCH(H25,'Weeks Calendar'!$C$24:$I$24,0)),\"\")&\nIFERROR(INDEX('Weeks Calendar'!$C$24:$I$28,2,MATCH(H25,'Weeks Calendar'!$C$30:$I$30,0)),\"\")","v":""},null,null,null,"Bean & Cheese Burrito"]
[null,{"$f":"IFERROR(INDEX('Weeks Calendar'!$C$6:$I$10,3,MATCH(B25,'Weeks Calendar'!$C$6:$I$6,0)),\"\")&\nIFERROR(INDEX('Weeks Calendar'!$C$12:$I$16,3,MATCH(B25,'Weeks Calendar'!$C$12:$I$12,0)),\"\")&\nIFERROR(INDEX('Weeks Calendar'!$C$18:$I$22,3,MATCH(B25,'Weeks Calendar'!$C$18:$I$18,0)),\"\")&\nIFERROR(INDEX('Weeks Calendar'!$C$24:$I$28,3,MATCH(B25,'Weeks Calendar'!$C$24:$I$24,0)),\"\")&\nIFERROR(INDEX('Weeks Calendar'!$C$24:$I$28,3,MATCH(B25,'Weeks Calendar'!$C$30:$I$30,0)),\"\")","v":""},{"$f":"IFERROR(INDEX('Weeks Calendar'!$C$6:$I$10,3,MATCH(C25,'Weeks Calendar'!$C$6:$I$6,0)),\"\")&\nIFERROR(INDEX('Weeks Calendar'!$C$12:$I$16,3,MATCH(C25,'Weeks Calendar'!$C$12:$I$12,0)),\"\")&\nIFERROR(INDEX('Weeks Calendar'!$C$18:$I$22,3,MATCH(C25,'Weeks Calendar'!$C$18:$I$18,0)),\"\")&\nIFERROR(INDEX('Weeks Calendar'!$C$24:$I$28,3,MATCH(C25,'Weeks Calendar'!$C$24:$I$24,0)),\"\")&\nIFERROR(INDEX('Weeks Calendar'!$C$24:$I$28,3,MATCH(C25,'Weeks Calendar'!$C$30:$I$30,0)),\"\")","v":""},{"$f":"IFERROR(INDEX('Weeks Calendar'!$C$6:$I$10,3,MATCH(D25,'Weeks Calendar'!$C$6:$I$6,0)),\"\")&\nIFERROR(INDEX('Weeks Calendar'!$C$12:$I$16,3,MATCH(D25,'Weeks Calendar'!$C$12:$I$12,0)),\"\")&\nIFERROR(INDEX('Weeks Calendar'!$C$18:$I$22,3,MATCH(D25,'Weeks Calendar'!$C$18:$I$18,0)),\"\")&\nIFERROR(INDEX('Weeks Calendar'!$C$24:$I$28,3,MATCH(D25,'Weeks Calendar'!$C$24:$I$24,0)),\"\")&\nIFERROR(INDEX('Weeks Calendar'!$C$24:$I$28,3,MATCH(D25,'Weeks Calendar'!$C$30:$I$30,0)),\"\")","v":""},{"$f":"IFERROR(INDEX('Weeks Calendar'!$C$6:$I$10,3,MATCH(E25,'Weeks Calendar'!$C$6:$I$6,0)),\"\")&\nIFERROR(INDEX('Weeks Calendar'!$C$12:$I$16,3,MATCH(E25,'Weeks Calendar'!$C$12:$I$12,0)),\"\")&\nIFERROR(INDEX('Weeks Calendar'!$C$18:$I$22,3,MATCH(E25,'Weeks Calendar'!$C$18:$I$18,0)),\"\")&\nIFERROR(INDEX('Weeks Calendar'!$C$24:$I$28,3,MATCH(E25,'Weeks Calendar'!$C$24:$I$24,0)),\"\")&\nIFERROR(INDEX('Weeks Calendar'!$C$24:$I$28,3,MATCH(E25,'Weeks Calendar'!$C$30:$I$30,0)),\"\")","v":""},{"$f":"IFERROR(INDEX('Weeks Calendar'!$C$6:$I$10,3,MATCH(F25,'Weeks Calendar'!$C$6:$I$6,0)),\"\")&\nIFERROR(INDEX('Weeks Calendar'!$C$12:$I$16,3,MATCH(F25,'Weeks Calendar'!$C$12:$I$12,0)),\"\")&\nIFERROR(INDEX('Weeks Calendar'!$C$18:$I$22,3,MATCH(F25,'Weeks Calendar'!$C$18:$I$18,0)),\"\")&\nIFERROR(INDEX('Weeks Calendar'!$C$24:$I$28,3,MATCH(F25,'Weeks Calendar'!$C$24:$I$24,0)),\"\")&\nIFERROR(INDEX('Weeks Calendar'!$C$24:$I$28,3,MATCH(F25,'Weeks Calendar'!$C$30:$I$30,0)),\"\")","v":""},{"$f":"IFERROR(INDEX('Weeks Calendar'!$C$6:$I$10,3,MATCH(G25,'Weeks Calendar'!$C$6:$I$6,0)),\"\")&\nIFERROR(INDEX('Weeks Calendar'!$C$12:$I$16,3,MATCH(G25,'Weeks Calendar'!$C$12:$I$12,0)),\"\")&\nIFERROR(INDEX('Weeks Calendar'!$C$18:$I$22,3,MATCH(G25,'Weeks Calendar'!$C$18:$I$18,0)),\"\")&\nIFERROR(INDEX('Weeks Calendar'!$C$24:$I$28,3,MATCH(G25,'Weeks Calendar'!$C$24:$I$24,0)),\"\")&\nIFERROR(INDEX('Weeks Calendar'!$C$24:$I$28,3,MATCH(G25,'Weeks Calendar'!$C$30:$I$30,0)),\"\")","v":""},{"$f":"IFERROR(INDEX('Weeks Calendar'!$C$6:$I$10,3,MATCH(H25,'Weeks Calendar'!$C$6:$I$6,0)),\"\")&\nIFERROR(INDEX('Weeks Calendar'!$C$12:$I$16,3,MATCH(H25,'Weeks Calendar'!$C$12:$I$12,0)),\"\")&\nIFERROR(INDEX('Weeks Calendar'!$C$18:$I$22,3,MATCH(H25,'Weeks Calendar'!$C$18:$I$18,0)),\"\")&\nIFERROR(INDEX('Weeks Calendar'!$C$24:$I$28,3,MATCH(H25,'Weeks Calendar'!$C$24:$I$24,0)),\"\")&\nIFERROR(INDEX('Weeks Calendar'!$C$24:$I$28,3,MATCH(H25,'Weeks Calendar'!$C$30:$I$30,0)),\"\")","v":""},null,null,null,"Bosco Sticks"]
[null,{"$f":"IFERROR(INDEX('Weeks Calendar'!$C$6:$I$10,4,MATCH(B25,'Weeks Calendar'!$C$6:$I$6,0)),\"\")&\nIFERROR(INDEX('Weeks Calendar'!$C$12:$I$16,4,MATCH(B25,'Weeks Calendar'!$C$12:$I$12,0)),\"\")&\nIFERROR(INDEX('Weeks Calendar'!$C$18:$I$22,4,MATCH(B25,'Weeks Calendar'!$C$18:$I$18,0)),\"\")&\nIFERROR(INDEX('Weeks Calendar'!$C$24:$I$28,4,MATCH(B25,'Weeks Calendar'!$C$24:$I$24,0)),\"\")&\nIFERROR(INDEX('Weeks Calendar'!$C$24:$I$28,4,MATCH(B25,'Weeks Calendar'!$C$30:$I$30,0)),\"\")","v":""},{"$f":"IFERROR(INDEX('Weeks Calendar'!$C$6:$I$10,4,MATCH(C25,'Weeks Calendar'!$C$6:$I$6,0)),\"\")&\nIFERROR(INDEX('Weeks Calendar'!$C$12:$I$16,4,MATCH(C25,'Weeks Calendar'!$C$12:$I$12,0)),\"\")&\nIFERROR(INDEX('Weeks Calendar'!$C$18:$I$22,4,MATCH(C25,'Weeks Calendar'!$C$18:$I$18,0)),\"\")&\nIFERROR(INDEX('Weeks Calendar'!$C$24:$I$28,4,MATCH(C25,'Weeks Calendar'!$C$24:$I$24,0)),\"\")&\nIFERROR(INDEX('Weeks Calendar'!$C$24:$I$28,4,MATCH(C25,'Weeks Calendar'!$C$30:$I$30,0)),\"\")","v":""},{"$f":"IFERROR(INDEX('Weeks Calendar'!$C$6:$I$10,4,MATCH(D25,'Weeks Calendar'!$C$6:$I$6,0)),\"\")&\nIFERROR(INDEX('Weeks Calendar'!$C$12:$I$16,4,MATCH(D25,'Weeks Calendar'!$C$12:$I$12,0)),\"\")&\nIFERROR(INDEX('Weeks Calendar'!$C$18:$I$22,4,MATCH(D25,'Weeks Calendar'!$C$18:$I$18,0)),\"\")&\nIFERROR(INDEX('Weeks Calendar'!$C$24:$I$28,4,MATCH(D25,'Weeks Calendar'!$C$24:$I$24,0)),\"\")&\nIFERROR(INDEX('Weeks Calendar'!$C$24:$I$28,4,MATCH(D25,'Weeks Calendar'!$C$30:$I$30,0)),\"\")","v":""},{"$f":"IFERROR(INDEX('Weeks Calendar'!$C$6:$I$10,4,MATCH(E25,'Weeks Calendar'!$C$6:$I$6,0)),\"\")&\nIFERROR(INDEX('Weeks Calendar'!$C$12:$I$16,4,MATCH(E25,'Weeks Calendar'!$C$12:$I$12,0)),\"\")&\nIFERROR(INDEX('Weeks Calendar'!$C$18:$I$22,4,MATCH(E25,'Weeks Calendar'!$C$18:$I$18,0)),\"\")&\nIFERROR(INDEX('Weeks Calendar'!$C$24:$I$28,4,MATCH(E25,'Weeks Calendar'!$C$24:$I$24,0)),\"\")&\nIFERROR(INDEX('Weeks Calendar'!$C$24:$I$28,4,MATCH(E25,'Weeks Calendar'!$C$30:$I$30,0)),\"\")","v":""},{"$f":"IFERROR(INDEX('Weeks Calendar'!$C$6:$I$10,4,MATCH(F25,'Weeks Calendar'!$C$6:$I$6,0)),\"\")&\nIFERROR(INDEX('Weeks Calendar'!$C$12:$I$16,4,MATCH(F25,'Weeks Calendar'!$C$12:$I$12,0)),\"\")&\nIFERROR(INDEX('Weeks Calendar'!$C$18:$I$22,4,MATCH(F25,'Weeks Calendar'!$C$18:$I$18,0)),\"\")&\nIFERROR(INDEX('Weeks Calendar'!$C$24:$I$28,4,MATCH(F25,'Weeks Calendar'!$C$24:$I$24,0)),\"\")&\nIFERROR(INDEX('Weeks Calendar'!$C$24:$I$28,4,MATCH(F25,'Weeks Calendar'!$C$30:$I$30,0)),\"\")","v":""},{"$f":"IFERROR(INDEX('Weeks Calendar'!$C$6:$I$10,4,MATCH(G25,'Weeks Calendar'!$C$6:$I$6,0)),\"\")&\nIFERROR(INDEX('Weeks Calendar'!$C$12:$I$16,4,MATCH(G25,'Weeks Calendar'!$C$12:$I$12,0)),\"\")&\nIFERROR(INDEX('Weeks Calendar'!$C$18:$I$22,4,MATCH(G25,'Weeks Calendar'!$C$18:$I$18,0)),\"\")&\nIFERROR(INDEX('Weeks Calendar'!$C$24:$I$28,4,MATCH(G25,'Weeks Calendar'!$C$24:$I$24,0)),\"\")&\nIFERROR(INDEX('Weeks Calendar'!$C$24:$I$28,4,MATCH(G25,'Weeks Calendar'!$C$30:$I$30,0)),\"\")","v":""},{"$f":"IFERROR(INDEX('Weeks Calendar'!$C$6:$I$10,4,MATCH(H25,'Weeks Calendar'!$C$6:$I$6,0)),\"\")&\nIFERROR(INDEX('Weeks Calendar'!$C$12:$I$16,4,MATCH(H25,'Weeks Calendar'!$C$12:$I$12,0)),\"\")&\nIFERROR(INDEX('Weeks Calendar'!$C$18:$I$22,4,MATCH(H25,'Weeks Calendar'!$C$18:$I$18,0)),\"\")&\nIFERROR(INDEX('Weeks Calendar'!$C$24:$I$28,4,MATCH(H25,'Weeks Calendar'!$C$24:$I$24,0)),\"\")&\nIFERROR(INDEX('Weeks Calendar'!$C$24:$I$28,4,MATCH(H25,'Weeks Calendar'!$C$30:$I$30,0)),\"\")","v":""},null,null,null,"Cheeseburger"]
[null,{"$f":"IFERROR(INDEX('Weeks Calendar'!$C$6:$I$10,5,MATCH(B25,'Weeks Calendar'!$C$6:$I$6,0)),\"\")&\nIFERROR(INDEX('Weeks Calendar'!$C$12:$I$16,5,MATCH(B25,'Weeks Calendar'!$C$12:$I$12,0)),\"\")&\nIFERROR(INDEX('Weeks Calendar'!$C$18:$I$22,5,MATCH(B25,'Weeks Calendar'!$C$18:$I$18,0)),\"\")&\nIFERROR(INDEX('Weeks Calendar'!$C$24:$I$28,5,MATCH(B25,'Weeks Calendar'!$C$24:$I$24,0)),\"\")&\nIFERROR(INDEX('Weeks Calendar'!$C$24:$I$28,5,MATCH(B25,'Weeks Calendar'!$C$30:$I$30,0)),\"\")","v":""},{"$f":"IFERROR(INDEX('Weeks Calendar'!$C$6:$I$10,5,MATCH(C25,'Weeks Calendar'!$C$6:$I$6,0)),\"\")&\nIFERROR(INDEX('Weeks Calendar'!$C$12:$I$16,5,MATCH(C25,'Weeks Calendar'!$C$12:$I$12,0)),\"\")&\nIFERROR(INDEX('Weeks Calendar'!$C$18:$I$22,5,MATCH(C25,'Weeks Calendar'!$C$18:$I$18,0)),\"\")&\nIFERROR(INDEX('Weeks Calendar'!$C$24:$I$28,5,MATCH(C25,'Weeks Calendar'!$C$24:$I$24,0)),\"\")&\nIFERROR(INDEX('Weeks Calendar'!$C$24:$I$28,5,MATCH(C25,'Weeks Calendar'!$C$30:$I$30,0)),\"\")","v":""},{"$f":"IFERROR(INDEX('Weeks Calendar'!$C$6:$I$10,5,MATCH(D25,'Weeks Calendar'!$C$6:$I$6,0)),\"\")&\nIFERROR(INDEX('Weeks Calendar'!$C$12:$I$16,5,MATCH(D25,'Weeks Calendar'!$C$12:$I$12,0)),\"\")&\nIFERROR(INDEX('Weeks Calendar'!$C$18:$I$22,5,MATCH(D25,'Weeks Calendar'!$C$18:$I$18,0)),\"\")&\nIFERROR(INDEX('Weeks Calendar'!$C$24:$I$28,5,MATCH(D25,'Weeks Calendar'!$C$24:$I$24,0)),\"\")&\nIFERROR(INDEX('Weeks Calendar'!$C$24:$I$28,5,MATCH(D25,'Weeks Calendar'!$C$30:$I$30,0)),\"\")","v":""},{"$f":"IFERROR(INDEX('Weeks Calendar'!$C$6:$I$10,5,MATCH(E25,'Weeks Calendar'!$C$6:$I$6,0)),\"\")&\nIFERROR(INDEX('Weeks Calendar'!$C$12:$I$16,5,MATCH(E25,'Weeks Calendar'!$C$12:$I$12,0)),\"\")&\nIFERROR(INDEX('Weeks Calendar'!$C$18:$I$22,5,MATCH(E25,'Weeks Calendar'!$C$18:$I$18,0)),\"\")&\nIFERROR(INDEX('Weeks Calendar'!$C$24:$I$28,5,MATCH(E25,'Weeks Calendar'!$C$24:$I$24,0)),\"\")&\nIFERROR(INDEX('Weeks Calendar'!$C$24:$I$28,5,MATCH(E25,'Weeks Calendar'!$C$30:$I$30,0)),\"\")","v":""},{"$f":"IFERROR(INDEX('Weeks Calendar'!$C$6:$I$10,5,MATCH(F25,'Weeks Calendar'!$C$6:$I$6,0)),\"\")&\nIFERROR(INDEX('Weeks Calendar'!$C$12:$I$16,5,MATCH(F25,'Weeks Calendar'!$C$12:$I$12,0)),\"\")&\nIFERROR(INDEX('Weeks Calendar'!$C$18:$I$22,5,MATCH(F25,'Weeks Calendar'!$C$18:$I$18,0)),\"\")&\nIFERROR(INDEX('Weeks Calendar'!$C$24:$I$28,5,MATCH(F25,'Weeks Calendar'!$C$24:$I$24,0)),\"\")&\nIFERROR(INDEX('Weeks Calendar'!$C$24:$I$28,5,MATCH(F25,'Weeks Calendar'!$C$30:$I$30,0)),\"\")","v":""},{"$f":"IFERROR(INDEX('Weeks Calendar'!$C$6:$I$10,5,MATCH(G25,'Weeks Calendar'!$C$6:$I$6,0)),\"\")&\nIFERROR(INDEX('Weeks Calendar'!$C$12:$I$16,5,MATCH(G25,'Weeks Calendar'!$C$12:$I$12,0)),\"\")&\nIFERROR(INDEX('Weeks Calendar'!$C$18:$I$22,5,MATCH(G25,'Weeks Calendar'!$C$18:$I$18,0)),\"\")&\nIFERROR(INDEX('Weeks Calendar'!$C$24:$I$28,5,MATCH(G25,'Weeks Calendar'!$C$24:$I$24,0)),\"\")&\nIFERROR(INDEX('Weeks Calendar'!$C$24:$I$28,5,MATCH(G25,'Weeks Calendar'!$C$30:$I$30,0)),\"\")","v":""},{"$f":"IFERROR(INDEX('Weeks Calendar'!$C$6:$I$10,5,MATCH(H25,'Weeks Calendar'!$C$6:$I$6,0)),\"\")&\nIFERROR(INDEX('Weeks Calendar'!$C$12:$I$16,5,MATCH(H25,'Weeks Calendar'!$C$12:$I$12,0)),\"\")&\nIFERROR(INDEX('Weeks Calendar'!$C$18:$I$22,5,MATCH(H25,'Weeks Calendar'!$C$18:$I$18,0)),\"\")&\nIFERROR(INDEX('Weeks Calendar'!$C$24:$I$28,5,MATCH(H25,'Weeks Calendar'!$C$24:$I$24,0)),\"\")&\nIFERROR(INDEX('Weeks Calendar'!$C$24:$I$28,5,MATCH(H25,'Weeks Calendar'!$C$30:$I$30,0)),\"\")","v":""},null,null,null,"Chicken Enchilada Nachos"]
["Week 5",{"$f":"IFERROR(IF(OR(H24=$J$4,H24=\"\",ISERR(H24)),\"\",H24+1),\"\")","v":""},{"$f":"IFERROR(IF(OR(B30=$J$4,B30=\"\",ISERR(B30)),\"\",B30+1),\"\")","v":""},"","","","","",null,null,null,"Pepperoni Pizza"]
[null,null,null,null,null,null,null,null,null,null,null,"Walking Beef Taco"]
[null,{"$f":"IFERROR(INDEX('Weeks Calendar'!$C$6:$I$10,2,MATCH(B31,'Weeks Calendar'!$C$6:$I$6,0)),\"\")&\nIFERROR(INDEX('Weeks Calendar'!$C$12:$I$16,2,MATCH(B31,'Weeks Calendar'!$C$12:$I$12,0)),\"\")&\nIFERROR(INDEX('Weeks Calendar'!$C$18:$I$22,2,MATCH(B31,'Weeks Calendar'!$C$18:$I$18,0)),\"\")&\nIFERROR(INDEX('Weeks Calendar'!$C$24:$I$28,2,MATCH(B31,'Weeks Calendar'!$C$24:$I$24,0)),\"\")&\nIFERROR(INDEX('Weeks Calendar'!$C$24:$I$28,2,MATCH(B31,'Weeks Calendar'!$C$30:$I$30,0)),\"\")","v":""},{"$f":"IFERROR(INDEX('Weeks Calendar'!$C$6:$I$10,2,MATCH(C31,'Weeks Calendar'!$C$6:$I$6,0)),\"\")&\nIFERROR(INDEX('Weeks Calendar'!$C$12:$I$16,2,MATCH(C31,'Weeks Calendar'!$C$12:$I$12,0)),\"\")&\nIFERROR(INDEX('Weeks Calendar'!$C$18:$I$22,2,MATCH(C31,'Weeks Calendar'!$C$18:$I$18,0)),\"\")&\nIFERROR(INDEX('Weeks Calendar'!$C$24:$I$28,2,MATCH(C31,'Weeks Calendar'!$C$24:$I$24,0)),\"\")&\nIFERROR(INDEX('Weeks Calendar'!$C$24:$I$28,2,MATCH(C31,'Weeks Calendar'!$C$30:$I$30,0)),\"\")","v":""},{"$f":"IFERROR(INDEX('Weeks Calendar'!$C$6:$I$10,2,MATCH(D31,'Weeks Calendar'!$C$6:$I$6,0)),\"\")&\nIFERROR(INDEX('Weeks Calendar'!$C$12:$I$16,2,MATCH(D31,'Weeks Calendar'!$C$12:$I$12,0)),\"\")&\nIFERROR(INDEX('Weeks Calendar'!$C$18:$I$22,2,MATCH(D31,'Weeks Calendar'!$C$18:$I$18,0)),\"\")&\nIFERROR(INDEX('Weeks Calendar'!$C$24:$I$28,2,MATCH(D31,'Weeks Calendar'!$C$24:$I$24,0)),\"\")&\nIFERROR(INDEX('Weeks Calendar'!$C$24:$I$28,2,MATCH(D31,'Weeks Calendar'!$C$30:$I$30,0)),\"\")","v":""},{"$f":"IFERROR(INDEX('Weeks Calendar'!$C$6:$I$10,2,MATCH(E31,'Weeks Calendar'!$C$6:$I$6,0)),\"\")&\nIFERROR(INDEX('Weeks Calendar'!$C$12:$I$16,2,MATCH(E31,'Weeks Calendar'!$C$12:$I$12,0)),\"\")&\nIFERROR(INDEX('Weeks Calendar'!$C$18:$I$22,2,MATCH(E31,'Weeks Calendar'!$C$18:$I$18,0)),\"\")&\nIFERROR(INDEX('Weeks Calendar'!$C$24:$I$28,2,MATCH(E31,'Weeks Calendar'!$C$24:$I$24,0)),\"\")&\nIFERROR(INDEX('Weeks Calendar'!$C$24:$I$28,2,MATCH(E31,'Weeks Calendar'!$C$30:$I$30,0)),\"\")","v":""},{"$f":"IFERROR(INDEX('Weeks Calendar'!$C$6:$I$10,2,MATCH(F31,'Weeks Calendar'!$C$6:$I$6,0)),\"\")&\nIFERROR(INDEX('Weeks Calendar'!$C$12:$I$16,2,MATCH(F31,'Weeks Calendar'!$C$12:$I$12,0)),\"\")&\nIFERROR(INDEX('Weeks Calendar'!$C$18:$I$22,2,MATCH(F31,'Weeks Calendar'!$C$18:$I$18,0)),\"\")&\nIFERROR(INDEX('Weeks Calendar'!$C$24:$I$28,2,MATCH(F31,'Weeks Calendar'!$C$24:$I$24,0)),\"\")&\nIFERROR(INDEX('Weeks Calendar'!$C$24:$I$28,2,MATCH(F31,'Weeks Calendar'!$C$30:$I$30,0)),\"\")","v":""},{"$f":"IFERROR(INDEX('Weeks Calendar'!$C$6:$I$10,2,MATCH(G31,'Weeks Calendar'!$C$6:$I$6,0)),\"\")&\nIFERROR(INDEX('Weeks Calendar'!$C$12:$I$16,2,MATCH(G31,'Weeks Calendar'!$C$12:$I$12,0)),\"\")&\nIFERROR(INDEX('Weeks Calendar'!$C$18:$I$22,2,MATCH(G31,'Weeks Calendar'!$C$18:$I$18,0)),\"\")&\nIFERROR(INDEX('Weeks Calendar'!$C$24:$I$28,2,MATCH(G31,'Weeks Calendar'!$C$24:$I$24,0)),\"\")&\nIFERROR(INDEX('Weeks Calendar'!$C$24:$I$28,2,MATCH(G31,'Weeks Calendar'!$C$30:$I$30,0)),\"\")","v":""},{"$f":"IFERROR(INDEX('Weeks Calendar'!$C$6:$I$10,2,MATCH(H31,'Weeks Calendar'!$C$6:$I$6,0)),\"\")&\nIFERROR(INDEX('Weeks Calendar'!$C$12:$I$16,2,MATCH(H31,'Weeks Calendar'!$C$12:$I$12,0)),\"\")&\nIFERROR(INDEX('Weeks Calendar'!$C$18:$I$22,2,MATCH(H31,'Weeks Calendar'!$C$18:$I$18,0)),\"\")&\nIFERROR(INDEX('Weeks Calendar'!$C$24:$I$28,2,MATCH(H31,'Weeks Calendar'!$C$24:$I$24,0)),\"\")&\nIFERROR(INDEX('Weeks Calendar'!$C$24:$I$28,2,MATCH(H31,'Weeks Calendar'!$C$30:$I$30,0)),\"\")","v":""},null,null,null,"Cheesy Spaghetti"]
[null,{"$f":"IFERROR(INDEX('Weeks Calendar'!$C$6:$I$10,3,MATCH(B31,'Weeks Calendar'!$C$6:$I$6,0)),\"\")&\nIFERROR(INDEX('Weeks Calendar'!$C$12:$I$16,3,MATCH(B31,'Weeks Calendar'!$C$12:$I$12,0)),\"\")&\nIFERROR(INDEX('Weeks Calendar'!$C$18:$I$22,3,MATCH(B31,'Weeks Calendar'!$C$18:$I$18,0)),\"\")&\nIFERROR(INDEX('Weeks Calendar'!$C$24:$I$28,3,MATCH(B31,'Weeks Calendar'!$C$24:$I$24,0)),\"\")&\nIFERROR(INDEX('Weeks Calendar'!$C$24:$I$28,3,MATCH(B31,'Weeks Calendar'!$C$30:$I$30,0)),\"\")","v":""},{"$f":"IFERROR(INDEX('Weeks Calendar'!$C$6:$I$10,3,MATCH(C31,'Weeks Calendar'!$C$6:$I$6,0)),\"\")&\nIFERROR(INDEX('Weeks Calendar'!$C$12:$I$16,3,MATCH(C31,'Weeks Calendar'!$C$12:$I$12,0)),\"\")&\nIFERROR(INDEX('Weeks Calendar'!$C$18:$I$22,3,MATCH(C31,'Weeks Calendar'!$C$18:$I$18,0)),\"\")&\nIFERROR(INDEX('Weeks Calendar'!$C$24:$I$28,3,MATCH(C31,'Weeks Calendar'!$C$24:$I$24,0)),\"\")&\nIFERROR(INDEX('Weeks Calendar'!$C$24:$I$28,3,MATCH(C31,'Weeks Calendar'!$C$30:$I$30,0)),\"\")","v":""},{"$f":"IFERROR(INDEX('Weeks Calendar'!$C$6:$I$10,3,MATCH(D31,'Weeks Calendar'!$C$6:$I$6,0)),\"\")&\nIFERROR(INDEX('Weeks Calendar'!$C$12:$I$16,3,MATCH(D31,'Weeks Calendar'!$C$12:$I$12,0)),\"\")&\nIFERROR(INDEX('Weeks Calendar'!$C$18:$I$22,3,MATCH(D31,'Weeks Calendar'!$C$18:$I$18,0)),\"\")&\nIFERROR(INDEX('Weeks Calendar'!$C$24:$I$28,3,MATCH(D31,'Weeks Calendar'!$C$24:$I$24,0)),\"\")&\nIFERROR(INDEX('Weeks Calendar'!$C$24:$I$28,3,MATCH(D31,'Weeks Calendar'!$C$30:$I$30,0)),\"\")","v":""},{"$f":"IFERROR(INDEX('Weeks Calendar'!$C$6:$I$10,3,MATCH(E31,'Weeks Calendar'!$C$6:$I$6,0)),\"\")&\nIFERROR(INDEX('Weeks Calendar'!$C$12:$I$16,3,MATCH(E31,'Weeks Calendar'!$C$12:$I$12,0)),\"\")&\nIFERROR(INDEX('Weeks Calendar'!$C$18:$I$22,3,MATCH(E31,'Weeks Calendar'!$C$18:$I$18,0)),\"\")&\nIFERROR(INDEX('Weeks Calendar'!$C$24:$I$28,3,MATCH(E31,'Weeks Calendar'!$C$24:$I$24,0)),\"\")&\nIFERROR(INDEX('Weeks Calendar'!$C$24:$I$28,3,MATCH(E31,'Weeks Calendar'!$C$30:$I$30,0)),\"\")","v":""},{"$f":"IFERROR(INDEX('Weeks Calendar'!$C$6:$I$10,3,MATCH(F31,'Weeks Calendar'!$C$6:$I$6,0)),\"\")&\nIFERROR(INDEX('Weeks Calendar'!$C$12:$I$16,3,MATCH(F31,'Weeks Calendar'!$C$12:$I$12,0)),\"\")&\nIFERROR(INDEX('Weeks Calendar'!$C$18:$I$22,3,MATCH(F31,'Weeks Calendar'!$C$18:$I$18,0)),\"\")&\nIFERROR(INDEX('Weeks Calendar'!$C$24:$I$28,3,MATCH(F31,'Weeks Calendar'!$C$24:$I$24,0)),\"\")&\nIFERROR(INDEX('Weeks Calendar'!$C$24:$I$28,3,MATCH(F31,'Weeks Calendar'!$C$30:$I$30,0)),\"\")","v":""},{"$f":"IFERROR(INDEX('Weeks Calendar'!$C$6:$I$10,3,MATCH(G31,'Weeks Calendar'!$C$6:$I$6,0)),\"\")&\nIFERROR(INDEX('Weeks Calendar'!$C$12:$I$16,3,MATCH(G31,'Weeks Calendar'!$C$12:$I$12,0)),\"\")&\nIFERROR(INDEX('Weeks Calendar'!$C$18:$I$22,3,MATCH(G31,'Weeks Calendar'!$C$18:$I$18,0)),\"\")&\nIFERROR(INDEX('Weeks Calendar'!$C$24:$I$28,3,MATCH(G31,'Weeks Calendar'!$C$24:$I$24,0)),\"\")&\nIFERROR(INDEX('Weeks Calendar'!$C$24:$I$28,3,MATCH(G31,'Weeks Calendar'!$C$30:$I$30,0)),\"\")","v":""},{"$f":"IFERROR(INDEX('Weeks Calendar'!$C$6:$I$10,3,MATCH(H31,'Weeks Calendar'!$C$6:$I$6,0)),\"\")&\nIFERROR(INDEX('Weeks Calendar'!$C$12:$I$16,3,MATCH(H31,'Weeks Calendar'!$C$12:$I$12,0)),\"\")&\nIFERROR(INDEX('Weeks Calendar'!$C$18:$I$22,3,MATCH(H31,'Weeks Calendar'!$C$18:$I$18,0)),\"\")&\nIFERROR(INDEX('Weeks Calendar'!$C$24:$I$28,3,MATCH(H31,'Weeks Calendar'!$C$24:$I$24,0)),\"\")&\nIFERROR(INDEX('Weeks Calendar'!$C$24:$I$28,3,MATCH(H31,'Weeks Calendar'!$C$30:$I$30,0)),\"\")","v":""},null,null,null,"Queso Omelet"]
[null,{"$f":"IFERROR(INDEX('Weeks Calendar'!$C$6:$I$10,4,MATCH(B31,'Weeks Calendar'!$C$6:$I$6,0)),\"\")&\nIFERROR(INDEX('Weeks Calendar'!$C$12:$I$16,4,MATCH(B31,'Weeks Calendar'!$C$12:$I$12,0)),\"\")&\nIFERROR(INDEX('Weeks Calendar'!$C$18:$I$22,4,MATCH(B31,'Weeks Calendar'!$C$18:$I$18,0)),\"\")&\nIFERROR(INDEX('Weeks Calendar'!$C$24:$I$28,4,MATCH(B31,'Weeks Calendar'!$C$24:$I$24,0)),\"\")&\nIFERROR(INDEX('Weeks Calendar'!$C$24:$I$28,4,MATCH(B31,'Weeks Calendar'!$C$30:$I$30,0)),\"\")","v":""},{"$f":"IFERROR(INDEX('Weeks Calendar'!$C$6:$I$10,4,MATCH(C31,'Weeks Calendar'!$C$6:$I$6,0)),\"\")&\nIFERROR(INDEX('Weeks Calendar'!$C$12:$I$16,4,MATCH(C31,'Weeks Calendar'!$C$12:$I$12,0)),\"\")&\nIFERROR(INDEX('Weeks Calendar'!$C$18:$I$22,4,MATCH(C31,'Weeks Calendar'!$C$18:$I$18,0)),\"\")&\nIFERROR(INDEX('Weeks Calendar'!$C$24:$I$28,4,MATCH(C31,'Weeks Calendar'!$C$24:$I$24,0)),\"\")&\nIFERROR(INDEX('Weeks Calendar'!$C$24:$I$28,4,MATCH(C31,'Weeks Calendar'!$C$30:$I$30,0)),\"\")","v":""},{"$f":"IFERROR(INDEX('Weeks Calendar'!$C$6:$I$10,4,MATCH(D31,'Weeks Calendar'!$C$6:$I$6,0)),\"\")&\nIFERROR(INDEX('Weeks Calendar'!$C$12:$I$16,4,MATCH(D31,'Weeks Calendar'!$C$12:$I$12,0)),\"\")&\nIFERROR(INDEX('Weeks Calendar'!$C$18:$I$22,4,MATCH(D31,'Weeks Calendar'!$C$18:$I$18,0)),\"\")&\nIFERROR(INDEX('Weeks Calendar'!$C$24:$I$28,4,MATCH(D31,'Weeks Calendar'!$C$24:$I$24,0)),\"\")&\nIFERROR(INDEX('Weeks Calendar'!$C$24:$I$28,4,MATCH(D31,'Weeks Calendar'!$C$30:$I$30,0)),\"\")","v":""},{"$f":"IFERROR(INDEX('Weeks Calendar'!$C$6:$I$10,4,MATCH(E31,'Weeks Calendar'!$C$6:$I$6,0)),\"\")&\nIFERROR(INDEX('Weeks Calendar'!$C$12:$I$16,4,MATCH(E31,'Weeks Calendar'!$C$12:$I$12,0)),\"\")&\nIFERROR(INDEX('Weeks Calendar'!$C$18:$I$22,4,MATCH(E31,'Weeks Calendar'!$C$18:$I$18,0)),\"\")&\nIFERROR(INDEX('Weeks Calendar'!$C$24:$I$28,4,MATCH(E31,'Weeks Calendar'!$C$24:$I$24,0)),\"\")&\nIFERROR(INDEX('Weeks Calendar'!$C$24:$I$28,4,MATCH(E31,'Weeks Calendar'!$C$30:$I$30,0)),\"\")","v":""},{"$f":"IFERROR(INDEX('Weeks Calendar'!$C$6:$I$10,4,MATCH(F31,'Weeks Calendar'!$C$6:$I$6,0)),\"\")&\nIFERROR(INDEX('Weeks Calendar'!$C$12:$I$16,4,MATCH(F31,'Weeks Calendar'!$C$12:$I$12,0)),\"\")&\nIFERROR(INDEX('Weeks Calendar'!$C$18:$I$22,4,MATCH(F31,'Weeks Calendar'!$C$18:$I$18,0)),\"\")&\nIFERROR(INDEX('Weeks Calendar'!$C$24:$I$28,4,MATCH(F31,'Weeks Calendar'!$C$24:$I$24,0)),\"\")&\nIFERROR(INDEX('Weeks Calendar'!$C$24:$I$28,4,MATCH(F31,'Weeks Calendar'!$C$30:$I$30,0)),\"\")","v":""},{"$f":"IFERROR(INDEX('Weeks Calendar'!$C$6:$I$10,4,MATCH(G31,'Weeks Calendar'!$C$6:$I$6,0)),\"\")&\nIFERROR(INDEX('Weeks Calendar'!$C$12:$I$16,4,MATCH(G31,'Weeks Calendar'!$C$12:$I$12,0)),\"\")&\nIFERROR(INDEX('Weeks Calendar'!$C$18:$I$22,4,MATCH(G31,'Weeks Calendar'!$C$18:$I$18,0)),\"\")&\nIFERROR(INDEX('Weeks Calendar'!$C$24:$I$28,4,MATCH(G31,'Weeks Calendar'!$C$24:$I$24,0)),\"\")&\nIFERROR(INDEX('Weeks Calendar'!$C$24:$I$28,4,MATCH(G31,'Weeks Calendar'!$C$30:$I$30,0)),\"\")","v":""},{"$f":"IFERROR(INDEX('Weeks Calendar'!$C$6:$I$10,4,MATCH(H31,'Weeks Calendar'!$C$6:$I$6,0)),\"\")&\nIFERROR(INDEX('Weeks Calendar'!$C$12:$I$16,4,MATCH(H31,'Weeks Calendar'!$C$12:$I$12,0)),\"\")&\nIFERROR(INDEX('Weeks Calendar'!$C$18:$I$22,4,MATCH(H31,'Weeks Calendar'!$C$18:$I$18,0)),\"\")&\nIFERROR(INDEX('Weeks Calendar'!$C$24:$I$28,4,MATCH(H31,'Weeks Calendar'!$C$24:$I$24,0)),\"\")&\nIFERROR(INDEX('Weeks Calendar'!$C$24:$I$28,4,MATCH(H31,'Weeks Calendar'!$C$30:$I$30,0)),\"\")","v":""},null,null,null,"Grilled Cheese Sandwich & Tomato Soup"]
[null,{"$f":"IFERROR(INDEX('Weeks Calendar'!$C$6:$I$10,5,MATCH(B31,'Weeks Calendar'!$C$6:$I$6,0)),\"\")&\nIFERROR(INDEX('Weeks Calendar'!$C$12:$I$16,5,MATCH(B31,'Weeks Calendar'!$C$12:$I$12,0)),\"\")&\nIFERROR(INDEX('Weeks Calendar'!$C$18:$I$22,5,MATCH(B31,'Weeks Calendar'!$C$18:$I$18,0)),\"\")&\nIFERROR(INDEX('Weeks Calendar'!$C$24:$I$28,5,MATCH(B31,'Weeks Calendar'!$C$24:$I$24,0)),\"\")&\nIFERROR(INDEX('Weeks Calendar'!$C$24:$I$28,5,MATCH(B31,'Weeks Calendar'!$C$30:$I$30,0)),\"\")","v":""},{"$f":"IFERROR(INDEX('Weeks Calendar'!$C$6:$I$10,5,MATCH(C31,'Weeks Calendar'!$C$6:$I$6,0)),\"\")&\nIFERROR(INDEX('Weeks Calendar'!$C$12:$I$16,5,MATCH(C31,'Weeks Calendar'!$C$12:$I$12,0)),\"\")&\nIFERROR(INDEX('Weeks Calendar'!$C$18:$I$22,5,MATCH(C31,'Weeks Calendar'!$C$18:$I$18,0)),\"\")&\nIFERROR(INDEX('Weeks Calendar'!$C$24:$I$28,5,MATCH(C31,'Weeks Calendar'!$C$24:$I$24,0)),\"\")&\nIFERROR(INDEX('Weeks Calendar'!$C$24:$I$28,5,MATCH(C31,'Weeks Calendar'!$C$30:$I$30,0)),\"\")","v":""},{"$f":"IFERROR(INDEX('Weeks Calendar'!$C$6:$I$10,5,MATCH(D31,'Weeks Calendar'!$C$6:$I$6,0)),\"\")&\nIFERROR(INDEX('Weeks Calendar'!$C$12:$I$16,5,MATCH(D31,'Weeks Calendar'!$C$12:$I$12,0)),\"\")&\nIFERROR(INDEX('Weeks Calendar'!$C$18:$I$22,5,MATCH(D31,'Weeks Calendar'!$C$18:$I$18,0)),\"\")&\nIFERROR(INDEX('Weeks Calendar'!$C$24:$I$28,5,MATCH(D31,'Weeks Calendar'!$C$24:$I$24,0)),\"\")&\nIFERROR(INDEX('Weeks Calendar'!$C$24:$I$28,5,MATCH(D31,'Weeks Calendar'!$C$30:$I$30,0)),\"\")","v":""},{"$f":"IFERROR(INDEX('Weeks Calendar'!$C$6:$I$10,5,MATCH(E31,'Weeks Calendar'!$C$6:$I$6,0)),\"\")&\nIFERROR(INDEX('Weeks Calendar'!$C$12:$I$16,5,MATCH(E31,'Weeks Calendar'!$C$12:$I$12,0)),\"\")&\nIFERROR(INDEX('Weeks Calendar'!$C$18:$I$22,5,MATCH(E31,'Weeks Calendar'!$C$18:$I$18,0)),\"\")&\nIFERROR(INDEX('Weeks Calendar'!$C$24:$I$28,5,MATCH(E31,'Weeks Calendar'!$C$24:$I$24,0)),\"\")&\nIFERROR(INDEX('Weeks Calendar'!$C$24:$I$28,5,MATCH(E31,'Weeks Calendar'!$C$30:$I$30,0)),\"\")","v":""},{"$f":"IFERROR(INDEX('Weeks Calendar'!$C$6:$I$10,5,MATCH(F31,'Weeks Calendar'!$C$6:$I$6,0)),\"\")&\nIFERROR(INDEX('Weeks Calendar'!$C$12:$I$16,5,MATCH(F31,'Weeks Calendar'!$C$12:$I$12,0)),\"\")&\nIFERROR(INDEX('Weeks Calendar'!$C$18:$I$22,5,MATCH(F31,'Weeks Calendar'!$C$18:$I$18,0)),\"\")&\nIFERROR(INDEX('Weeks Calendar'!$C$24:$I$28,5,MATCH(F31,'Weeks Calendar'!$C$24:$I$24,0)),\"\")&\nIFERROR(INDEX('Weeks Calendar'!$C$24:$I$28,5,MATCH(F31,'Weeks Calendar'!$C$30:$I$30,0)),\"\")","v":""},{"$f":"IFERROR(INDEX('Weeks Calendar'!$C$6:$I$10,5,MATCH(G31,'Weeks Calendar'!$C$6:$I$6,0)),\"\")&\nIFERROR(INDEX('Weeks Calendar'!$C$12:$I$16,5,MATCH(G31,'Weeks Calendar'!$C$12:$I$12,0)),\"\")&\nIFERROR(INDEX('Weeks Calendar'!$C$18:$I$22,5,MATCH(G31,'Weeks Calendar'!$C$18:$I$18,0)),\"\")&\nIFERROR(INDEX('Weeks Calendar'!$C$24:$I$28,5,MATCH(G31,'Weeks Calendar'!$C$24:$I$24,0)),\"\")&\nIFERROR(INDEX('Weeks Calendar'!$C$24:$I$28,5,MATCH(G31,'Weeks Calendar'!$C$30:$I$30,0)),\"\")","v":""},{"$f":"IFERROR(INDEX('Weeks Calendar'!$C$6:$I$10,5,MATCH(H31,'Weeks Calendar'!$C$6:$I$6,0)),\"\")&\nIFERROR(INDEX('Weeks Calendar'!$C$12:$I$16,5,MATCH(H31,'Weeks Calendar'!$C$12:$I$12,0)),\"\")&\nIFERROR(INDEX('Weeks Calendar'!$C$18:$I$22,5,MATCH(H31,'Weeks Calendar'!$C$18:$I$18,0)),\"\")&\nIFERROR(INDEX('Weeks Calendar'!$C$24:$I$28,5,MATCH(H31,'Weeks Calendar'!$C$24:$I$24,0)),\"\")&\nIFERROR(INDEX('Weeks Calendar'!$C$24:$I$28,5,MATCH(H31,'Weeks Calendar'!$C$30:$I$30,0)),\"\")","v":""},null,null,null,"Soft Pretzel with Cheese"]
["Week 15",{"$f":"IFERROR(IF(OR(H30=$J$4,H30=\"\",ISERR(H30)),\"\",H30+1),\"\")","v":""},{"$f":"IFERROR(IF(OR(B36=$J$4,B36=\"\",ISERR(B36)),\"\",B36+1),\"\")","v":""},{"$f":"IFERROR(IF(OR(C36=$J$4,C36=\"\",ISERR(C36)),\"\",C36+1),\"\")","v":""},{"$f":"IFERROR(IF(OR(D36=$J$4,D36=\"\",ISERR(D36)),\"\",D36+1),\"\")","v":""},{"$f":"IFERROR(IF(OR(E36=$J$4,E36=\"\",ISERR(E36)),\"\",E36+1),\"\")","v":""},{"$f":"IFERROR(IF(OR(F36=$J$4,F36=\"\",ISERR(F36)),\"\",F36+1),\"\")","v":""},{"$f":"IFERROR(IF(OR(G36=$J$4,G36=\"\",ISERR(G36)),\"\",G36+1),\"\")","v":""}]
[]
[null,{"$f":"IFERROR(INDEX('Weeks Calendar'!$C$6:$I$10,2,MATCH(B37,'Weeks Calendar'!$C$6:$I$6,0)),\"\")&\nIFERROR(INDEX('Weeks Calendar'!$C$12:$I$16,2,MATCH(B37,'Weeks Calendar'!$C$12:$I$12,0)),\"\")&\nIFERROR(INDEX('Weeks Calendar'!$C$18:$I$22,2,MATCH(B37,'Weeks Calendar'!$C$18:$I$18,0)),\"\")&\nIFERROR(INDEX('Weeks Calendar'!$C$24:$I$28,2,MATCH(B37,'Weeks Calendar'!$C$24:$I$24,0)),\"\")&\nIFERROR(INDEX('Weeks Calendar'!$C$24:$I$28,2,MATCH(B37,'Weeks Calendar'!$C$30:$I$30,0)),\"\")","v":""},{"$f":"IFERROR(INDEX('Weeks Calendar'!$C$6:$I$10,2,MATCH(C37,'Weeks Calendar'!$C$6:$I$6,0)),\"\")&\nIFERROR(INDEX('Weeks Calendar'!$C$12:$I$16,2,MATCH(C37,'Weeks Calendar'!$C$12:$I$12,0)),\"\")&\nIFERROR(INDEX('Weeks Calendar'!$C$18:$I$22,2,MATCH(C37,'Weeks Calendar'!$C$18:$I$18,0)),\"\")&\nIFERROR(INDEX('Weeks Calendar'!$C$24:$I$28,2,MATCH(C37,'Weeks Calendar'!$C$24:$I$24,0)),\"\")&\nIFERROR(INDEX('Weeks Calendar'!$C$24:$I$28,2,MATCH(C37,'Weeks Calendar'!$C$30:$I$30,0)),\"\")","v":""},{"$f":"IFERROR(INDEX('Weeks Calendar'!$C$6:$I$10,2,MATCH(D37,'Weeks Calendar'!$C$6:$I$6,0)),\"\")&\nIFERROR(INDEX('Weeks Calendar'!$C$12:$I$16,2,MATCH(D37,'Weeks Calendar'!$C$12:$I$12,0)),\"\")&\nIFERROR(INDEX('Weeks Calendar'!$C$18:$I$22,2,MATCH(D37,'Weeks Calendar'!$C$18:$I$18,0)),\"\")&\nIFERROR(INDEX('Weeks Calendar'!$C$24:$I$28,2,MATCH(D37,'Weeks Calendar'!$C$24:$I$24,0)),\"\")&\nIFERROR(INDEX('Weeks Calendar'!$C$24:$I$28,2,MATCH(D37,'Weeks Calendar'!$C$30:$I$30,0)),\"\")","v":""},{"$f":"IFERROR(INDEX('Weeks Calendar'!$C$6:$I$10,2,MATCH(E37,'Weeks Calendar'!$C$6:$I$6,0)),\"\")&\nIFERROR(INDEX('Weeks Calendar'!$C$12:$I$16,2,MATCH(E37,'Weeks Calendar'!$C$12:$I$12,0)),\"\")&\nIFERROR(INDEX('Weeks Calendar'!$C$18:$I$22,2,MATCH(E37,'Weeks Calendar'!$C$18:$I$18,0)),\"\")&\nIFERROR(INDEX('Weeks Calendar'!$C$24:$I$28,2,MATCH(E37,'Weeks Calendar'!$C$24:$I$24,0)),\"\")&\nIFERROR(INDEX('Weeks Calendar'!$C$24:$I$28,2,MATCH(E37,'Weeks Calendar'!$C$30:$I$30,0)),\"\")","v":""},{"$f":"IFERROR(INDEX('Weeks Calendar'!$C$6:$I$10,2,MATCH(F37,'Weeks Calendar'!$C$6:$I$6,0)),\"\")&\nIFERROR(INDEX('Weeks Calendar'!$C$12:$I$16,2,MATCH(F37,'Weeks Calendar'!$C$12:$I$12,0)),\"\")&\nIFERROR(INDEX('Weeks Calendar'!$C$18:$I$22,2,MATCH(F37,'Weeks Calendar'!$C$18:$I$18,0)),\"\")&\nIFERROR(INDEX('Weeks Calendar'!$C$24:$I$28,2,MATCH(F37,'Weeks Calendar'!$C$24:$I$24,0)),\"\")&\nIFERROR(INDEX('Weeks Calendar'!$C$24:$I$28,2,MATCH(F37,'Weeks Calendar'!$C$30:$I$30,0)),\"\")","v":""},{"$f":"IFERROR(INDEX('Weeks Calendar'!$C$6:$I$10,2,MATCH(G37,'Weeks Calendar'!$C$6:$I$6,0)),\"\")&\nIFERROR(INDEX('Weeks Calendar'!$C$12:$I$16,2,MATCH(G37,'Weeks Calendar'!$C$12:$I$12,0)),\"\")&\nIFERROR(INDEX('Weeks Calendar'!$C$18:$I$22,2,MATCH(G37,'Weeks Calendar'!$C$18:$I$18,0)),\"\")&\nIFERROR(INDEX('Weeks Calendar'!$C$24:$I$28,2,MATCH(G37,'Weeks Calendar'!$C$24:$I$24,0)),\"\")&\nIFERROR(INDEX('Weeks Calendar'!$C$24:$I$28,2,MATCH(G37,'Weeks Calendar'!$C$30:$I$30,0)),\"\")","v":""},{"$f":"IFERROR(INDEX('Weeks Calendar'!$C$6:$I$10,2,MATCH(H37,'Weeks Calendar'!$C$6:$I$6,0)),\"\")&\nIFERROR(INDEX('Weeks Calendar'!$C$12:$I$16,2,MATCH(H37,'Weeks Calendar'!$C$12:$I$12,0)),\"\")&\nIFERROR(INDEX('Weeks Calendar'!$C$18:$I$22,2,MATCH(H37,'Weeks Calendar'!$C$18:$I$18,0)),\"\")&\nIFERROR(INDEX('Weeks Calendar'!$C$24:$I$28,2,MATCH(H37,'Weeks Calendar'!$C$24:$I$24,0)),\"\")&\nIFERROR(INDEX('Weeks Calendar'!$C$24:$I$28,2,MATCH(H37,'Weeks Calendar'!$C$30:$I$30,0)),\"\")","v":""}]
[null,{"$f":"IFERROR(INDEX('Weeks Calendar'!$C$6:$I$10,3,MATCH(B37,'Weeks Calendar'!$C$6:$I$6,0)),\"\")&\nIFERROR(INDEX('Weeks Calendar'!$C$12:$I$16,3,MATCH(B37,'Weeks Calendar'!$C$12:$I$12,0)),\"\")&\nIFERROR(INDEX('Weeks Calendar'!$C$18:$I$22,3,MATCH(B37,'Weeks Calendar'!$C$18:$I$18,0)),\"\")&\nIFERROR(INDEX('Weeks Calendar'!$C$24:$I$28,3,MATCH(B37,'Weeks Calendar'!$C$24:$I$24,0)),\"\")&\nIFERROR(INDEX('Weeks Calendar'!$C$24:$I$28,3,MATCH(B37,'Weeks Calendar'!$C$30:$I$30,0)),\"\")","v":""},{"$f":"IFERROR(INDEX('Weeks Calendar'!$C$6:$I$10,3,MATCH(C37,'Weeks Calendar'!$C$6:$I$6,0)),\"\")&\nIFERROR(INDEX('Weeks Calendar'!$C$12:$I$16,3,MATCH(C37,'Weeks Calendar'!$C$12:$I$12,0)),\"\")&\nIFERROR(INDEX('Weeks Calendar'!$C$18:$I$22,3,MATCH(C37,'Weeks Calendar'!$C$18:$I$18,0)),\"\")&\nIFERROR(INDEX('Weeks Calendar'!$C$24:$I$28,3,MATCH(C37,'Weeks Calendar'!$C$24:$I$24,0)),\"\")&\nIFERROR(INDEX('Weeks Calendar'!$C$24:$I$28,3,MATCH(C37,'Weeks Calendar'!$C$30:$I$30,0)),\"\")","v":""},{"$f":"IFERROR(INDEX('Weeks Calendar'!$C$6:$I$10,3,MATCH(D37,'Weeks Calendar'!$C$6:$I$6,0)),\"\")&\nIFERROR(INDEX('Weeks Calendar'!$C$12:$I$16,3,MATCH(D37,'Weeks Calendar'!$C$12:$I$12,0)),\"\")&\nIFERROR(INDEX('Weeks Calendar'!$C$18:$I$22,3,MATCH(D37,'Weeks Calendar'!$C$18:$I$18,0)),\"\")&\nIFERROR(INDEX('Weeks Calendar'!$C$24:$I$28,3,MATCH(D37,'Weeks Calendar'!$C$24:$I$24,0)),\"\")&\nIFERROR(INDEX('Weeks Calendar'!$C$24:$I$28,3,MATCH(D37,'Weeks Calendar'!$C$30:$I$30,0)),\"\")","v":""},{"$f":"IFERROR(INDEX('Weeks Calendar'!$C$6:$I$10,3,MATCH(E37,'Weeks Calendar'!$C$6:$I$6,0)),\"\")&\nIFERROR(INDEX('Weeks Calendar'!$C$12:$I$16,3,MATCH(E37,'Weeks Calendar'!$C$12:$I$12,0)),\"\")&\nIFERROR(INDEX('Weeks Calendar'!$C$18:$I$22,3,MATCH(E37,'Weeks Calendar'!$C$18:$I$18,0)),\"\")&\nIFERROR(INDEX('Weeks Calendar'!$C$24:$I$28,3,MATCH(E37,'Weeks Calendar'!$C$24:$I$24,0)),\"\")&\nIFERROR(INDEX('Weeks Calendar'!$C$24:$I$28,3,MATCH(E37,'Weeks Calendar'!$C$30:$I$30,0)),\"\")","v":""},{"$f":"IFERROR(INDEX('Weeks Calendar'!$C$6:$I$10,3,MATCH(F37,'Weeks Calendar'!$C$6:$I$6,0)),\"\")&\nIFERROR(INDEX('Weeks Calendar'!$C$12:$I$16,3,MATCH(F37,'Weeks Calendar'!$C$12:$I$12,0)),\"\")&\nIFERROR(INDEX('Weeks Calendar'!$C$18:$I$22,3,MATCH(F37,'Weeks Calendar'!$C$18:$I$18,0)),\"\")&\nIFERROR(INDEX('Weeks Calendar'!$C$24:$I$28,3,MATCH(F37,'Weeks Calendar'!$C$24:$I$24,0)),\"\")&\nIFERROR(INDEX('Weeks Calendar'!$C$24:$I$28,3,MATCH(F37,'Weeks Calendar'!$C$30:$I$30,0)),\"\")","v":""},{"$f":"IFERROR(INDEX('Weeks Calendar'!$C$6:$I$10,3,MATCH(G37,'Weeks Calendar'!$C$6:$I$6,0)),\"\")&\nIFERROR(INDEX('Weeks Calendar'!$C$12:$I$16,3,MATCH(G37,'Weeks Calendar'!$C$12:$I$12,0)),\"\")&\nIFERROR(INDEX('Weeks Calendar'!$C$18:$I$22,3,MATCH(G37,'Weeks Calendar'!$C$18:$I$18,0)),\"\")&\nIFERROR(INDEX('Weeks Calendar'!$C$24:$I$28,3,MATCH(G37,'Weeks Calendar'!$C$24:$I$24,0)),\"\")&\nIFERROR(INDEX('Weeks Calendar'!$C$24:$I$28,3,MATCH(G37,'Weeks Calendar'!$C$30:$I$30,0)),\"\")","v":""},{"$f":"IFERROR(INDEX('Weeks Calendar'!$C$6:$I$10,3,MATCH(H37,'Weeks Calendar'!$C$6:$I$6,0)),\"\")&\nIFERROR(INDEX('Weeks Calendar'!$C$12:$I$16,3,MATCH(H37,'Weeks Calendar'!$C$12:$I$12,0)),\"\")&\nIFERROR(INDEX('Weeks Calendar'!$C$18:$I$22,3,MATCH(H37,'Weeks Calendar'!$C$18:$I$18,0)),\"\")&\nIFERROR(INDEX('Weeks Calendar'!$C$24:$I$28,3,MATCH(H37,'Weeks Calendar'!$C$24:$I$24,0)),\"\")&\nIFERROR(INDEX('Weeks Calendar'!$C$24:$I$28,3,MATCH(H37,'Weeks Calendar'!$C$30:$I$30,0)),\"\")","v":""}]
[null,{"$f":"IFERROR(INDEX('Weeks Calendar'!$C$6:$I$10,4,MATCH(B37,'Weeks Calendar'!$C$6:$I$6,0)),\"\")&\nIFERROR(INDEX('Weeks Calendar'!$C$12:$I$16,4,MATCH(B37,'Weeks Calendar'!$C$12:$I$12,0)),\"\")&\nIFERROR(INDEX('Weeks Calendar'!$C$18:$I$22,4,MATCH(B37,'Weeks Calendar'!$C$18:$I$18,0)),\"\")&\nIFERROR(INDEX('Weeks Calendar'!$C$24:$I$28,4,MATCH(B37,'Weeks Calendar'!$C$24:$I$24,0)),\"\")&\nIFERROR(INDEX('Weeks Calendar'!$C$24:$I$28,4,MATCH(B37,'Weeks Calendar'!$C$30:$I$30,0)),\"\")","v":""},{"$f":"IFERROR(INDEX('Weeks Calendar'!$C$6:$I$10,4,MATCH(C37,'Weeks Calendar'!$C$6:$I$6,0)),\"\")&\nIFERROR(INDEX('Weeks Calendar'!$C$12:$I$16,4,MATCH(C37,'Weeks Calendar'!$C$12:$I$12,0)),\"\")&\nIFERROR(INDEX('Weeks Calendar'!$C$18:$I$22,4,MATCH(C37,'Weeks Calendar'!$C$18:$I$18,0)),\"\")&\nIFERROR(INDEX('Weeks Calendar'!$C$24:$I$28,4,MATCH(C37,'Weeks Calendar'!$C$24:$I$24,0)),\"\")&\nIFERROR(INDEX('Weeks Calendar'!$C$24:$I$28,4,MATCH(C37,'Weeks Calendar'!$C$30:$I$30,0)),\"\")","v":""},{"$f":"IFERROR(INDEX('Weeks Calendar'!$C$6:$I$10,4,MATCH(D37,'Weeks Calendar'!$C$6:$I$6,0)),\"\")&\nIFERROR(INDEX('Weeks Calendar'!$C$12:$I$16,4,MATCH(D37,'Weeks Calendar'!$C$12:$I$12,0)),\"\")&\nIFERROR(INDEX('Weeks Calendar'!$C$18:$I$22,4,MATCH(D37,'Weeks Calendar'!$C$18:$I$18,0)),\"\")&\nIFERROR(INDEX('Weeks Calendar'!$C$24:$I$28,4,MATCH(D37,'Weeks Calendar'!$C$24:$I$24,0)),\"\")&\nIFERROR(INDEX('Weeks Calendar'!$C$24:$I$28,4,MATCH(D37,'Weeks Calendar'!$C$30:$I$30,0)),\"\")","v":""},{"$f":"IFERROR(INDEX('Weeks Calendar'!$C$6:$I$10,4,MATCH(E37,'Weeks Calendar'!$C$6:$I$6,0)),\"\")&\nIFERROR(INDEX('Weeks Calendar'!$C$12:$I$16,4,MATCH(E37,'Weeks Calendar'!$C$12:$I$12,0)),\"\")&\nIFERROR(INDEX('Weeks Calendar'!$C$18:$I$22,4,MATCH(E37,'Weeks Calendar'!$C$18:$I$18,0)),\"\")&\nIFERROR(INDEX('Weeks Calendar'!$C$24:$I$28,4,MATCH(E37,'Weeks Calendar'!$C$24:$I$24,0)),\"\")&\nIFERROR(INDEX('Weeks Calendar'!$C$24:$I$28,4,MATCH(E37,'Weeks Calendar'!$C$30:$I$30,0)),\"\")","v":""},{"$f":"IFERROR(INDEX('Weeks Calendar'!$C$6:$I$10,4,MATCH(F37,'Weeks Calendar'!$C$6:$I$6,0)),\"\")&\nIFERROR(INDEX('Weeks Calendar'!$C$12:$I$16,4,MATCH(F37,'Weeks Calendar'!$C$12:$I$12,0)),\"\")&\nIFERROR(INDEX('Weeks Calendar'!$C$18:$I$22,4,MATCH(F37,'Weeks Calendar'!$C$18:$I$18,0)),\"\")&\nIFERROR(INDEX('Weeks Calendar'!$C$24:$I$28,4,MATCH(F37,'Weeks Calendar'!$C$24:$I$24,0)),\"\")&\nIFERROR(INDEX('Weeks Calendar'!$C$24:$I$28,4,MATCH(F37,'Weeks Calendar'!$C$30:$I$30,0)),\"\")","v":""},{"$f":"IFERROR(INDEX('Weeks Calendar'!$C$6:$I$10,4,MATCH(G37,'Weeks Calendar'!$C$6:$I$6,0)),\"\")&\nIFERROR(INDEX('Weeks Calendar'!$C$12:$I$16,4,MATCH(G37,'Weeks Calendar'!$C$12:$I$12,0)),\"\")&\nIFERROR(INDEX('Weeks Calendar'!$C$18:$I$22,4,MATCH(G37,'Weeks Calendar'!$C$18:$I$18,0)),\"\")&\nIFERROR(INDEX('Weeks Calendar'!$C$24:$I$28,4,MATCH(G37,'Weeks Calendar'!$C$24:$I$24,0)),\"\")&\nIFERROR(INDEX('Weeks Calendar'!$C$24:$I$28,4,MATCH(G37,'Weeks Calendar'!$C$30:$I$30,0)),\"\")","v":""},{"$f":"IFERROR(INDEX('Weeks Calendar'!$C$6:$I$10,4,MATCH(H37,'Weeks Calendar'!$C$6:$I$6,0)),\"\")&\nIFERROR(INDEX('Weeks Calendar'!$C$12:$I$16,4,MATCH(H37,'Weeks Calendar'!$C$12:$I$12,0)),\"\")&\nIFERROR(INDEX('Weeks Calendar'!$C$18:$I$22,4,MATCH(H37,'Weeks Calendar'!$C$18:$I$18,0)),\"\")&\nIFERROR(INDEX('Weeks Calendar'!$C$24:$I$28,4,MATCH(H37,'Weeks Calendar'!$C$24:$I$24,0)),\"\")&\nIFERROR(INDEX('Weeks Calendar'!$C$24:$I$28,4,MATCH(H37,'Weeks Calendar'!$C$30:$I$30,0)),\"\")","v":""}]
[null,{"$f":"IFERROR(INDEX('Weeks Calendar'!$C$6:$I$10,5,MATCH(B37,'Weeks Calendar'!$C$6:$I$6,0)),\"\")&\nIFERROR(INDEX('Weeks Calendar'!$C$12:$I$16,5,MATCH(B37,'Weeks Calendar'!$C$12:$I$12,0)),\"\")&\nIFERROR(INDEX('Weeks Calendar'!$C$18:$I$22,5,MATCH(B37,'Weeks Calendar'!$C$18:$I$18,0)),\"\")&\nIFERROR(INDEX('Weeks Calendar'!$C$24:$I$28,5,MATCH(B37,'Weeks Calendar'!$C$24:$I$24,0)),\"\")&\nIFERROR(INDEX('Weeks Calendar'!$C$24:$I$28,5,MATCH(B37,'Weeks Calendar'!$C$30:$I$30,0)),\"\")","v":""},{"$f":"IFERROR(INDEX('Weeks Calendar'!$C$6:$I$10,5,MATCH(C37,'Weeks Calendar'!$C$6:$I$6,0)),\"\")&\nIFERROR(INDEX('Weeks Calendar'!$C$12:$I$16,5,MATCH(C37,'Weeks Calendar'!$C$12:$I$12,0)),\"\")&\nIFERROR(INDEX('Weeks Calendar'!$C$18:$I$22,5,MATCH(C37,'Weeks Calendar'!$C$18:$I$18,0)),\"\")&\nIFERROR(INDEX('Weeks Calendar'!$C$24:$I$28,5,MATCH(C37,'Weeks Calendar'!$C$24:$I$24,0)),\"\")&\nIFERROR(INDEX('Weeks Calendar'!$C$24:$I$28,5,MATCH(C37,'Weeks Calendar'!$C$30:$I$30,0)),\"\")","v":""},{"$f":"IFERROR(INDEX('Weeks Calendar'!$C$6:$I$10,5,MATCH(D37,'Weeks Calendar'!$C$6:$I$6,0)),\"\")&\nIFERROR(INDEX('Weeks Calendar'!$C$12:$I$16,5,MATCH(D37,'Weeks Calendar'!$C$12:$I$12,0)),\"\")&\nIFERROR(INDEX('Weeks Calendar'!$C$18:$I$22,5,MATCH(D37,'Weeks Calendar'!$C$18:$I$18,0)),\"\")&\nIFERROR(INDEX('Weeks Calendar'!$C$24:$I$28,5,MATCH(D37,'Weeks Calendar'!$C$24:$I$24,0)),\"\")&\nIFERROR(INDEX('Weeks Calendar'!$C$24:$I$28,5,MATCH(D37,'Weeks Calendar'!$C$30:$I$30,0)),\"\")","v":""},{"$f":"IFERROR(INDEX('Weeks Calendar'!$C$6:$I$10,5,MATCH(E37,'Weeks Calendar'!$C$6:$I$6,0)),\"\")&\nIFERROR(INDEX('Weeks Calendar'!$C$12:$I$16,5,MATCH(E37,'Weeks Calendar'!$C$12:$I$12,0)),\"\")&\nIFERROR(INDEX('Weeks Calendar'!$C$18:$I$22,5,MATCH(E37,'Weeks Calendar'!$C$18:$I$18,0)),\"\")&\nIFERROR(INDEX('Weeks Calendar'!$C$24:$I$28,5,MATCH(E37,'Weeks Calendar'!$C$24:$I$24,0)),\"\")&\nIFERROR(INDEX('Weeks Calendar'!$C$24:$I$28,5,MATCH(E37,'Weeks Calendar'!$C$30:$I$30,0)),\"\")","v":""},{"$f":"IFERROR(INDEX('Weeks Calendar'!$C$6:$I$10,5,MATCH(F37,'Weeks Calendar'!$C$6:$I$6,0)),\"\")&\nIFERROR(INDEX('Weeks Calendar'!$C$12:$I$16,5,MATCH(F37,'Weeks Calendar'!$C$12:$I$12,0)),\"\")&\nIFERROR(INDEX('Weeks Calendar'!$C$18:$I$22,5,MATCH(F37,'Weeks Calendar'!$C$18:$I$18,0)),\"\")&\nIFERROR(INDEX('Weeks Calendar'!$C$24:$I$28,5,MATCH(F37,'Weeks Calendar'!$C$24:$I$24,0)),\"\")&\nIFERROR(INDEX('Weeks Calendar'!$C$24:$I$28,5,MATCH(F37,'Weeks Calendar'!$C$30:$I$30,0)),\"\")","v":""},{"$f":"IFERROR(INDEX('Weeks Calendar'!$C$6:$I$10,5,MATCH(G37,'Weeks Calendar'!$C$6:$I$6,0)),\"\")&\nIFERROR(INDEX('Weeks Calendar'!$C$12:$I$16,5,MATCH(G37,'Weeks Calendar'!$C$12:$I$12,0)),\"\")&\nIFERROR(INDEX('Weeks Calendar'!$C$18:$I$22,5,MATCH(G37,'Weeks Calendar'!$C$18:$I$18,0)),\"\")&\nIFERROR(INDEX('Weeks Calendar'!$C$24:$I$28,5,MATCH(G37,'Weeks Calendar'!$C$24:$I$24,0)),\"\")&\nIFERROR(INDEX('Weeks Calendar'!$C$24:$I$28,5,MATCH(G37,'Weeks Calendar'!$C$30:$I$30,0)),\"\")","v":""},{"$f":"IFERROR(INDEX('Weeks Calendar'!$C$6:$I$10,5,MATCH(H37,'Weeks Calendar'!$C$6:$I$6,0)),\"\")&\nIFERROR(INDEX('Weeks Calendar'!$C$12:$I$16,5,MATCH(H37,'Weeks Calendar'!$C$12:$I$12,0)),\"\")&\nIFERROR(INDEX('Weeks Calendar'!$C$18:$I$22,5,MATCH(H37,'Weeks Calendar'!$C$18:$I$18,0)),\"\")&\nIFERROR(INDEX('Weeks Calendar'!$C$24:$I$28,5,MATCH(H37,'Weeks Calendar'!$C$24:$I$24,0)),\"\")&\nIFERROR(INDEX('Weeks Calendar'!$C$24:$I$28,5,MATCH(H37,'Weeks Calendar'!$C$30:$I$30,0)),\"\")","v":""}]
[null,"* Variety of milk is offered with lunch each day",null,null,null,null,"This institution is an equal opportunity employer and provider"]